Workbook

Sheet 2016-2025 МЕРОПРИЯТИЯ В РАЗБИВК
G1: Приложение №3
G2: к муниципальной программе
G3: Лямбирского муниципального района
G4: "Развитие автомобильных дорог в Лямбирском муниципальном районе Республики Мордовия"
B7: Ресурсное обеспечение муниципальной программы Лямбирского муниципального района "Развитие автомобильных дорог в Лямбирском муниципальном районе Республики Мордовия"
A11: №п/п | B11: Наименование мероприятия | C11: Объем финансирования всего, тыс.руб. | D11: в том числе по источникам финансирования | H11: протяженноть (км)
D12: федеральный бюджет | E12: республиканский бюджет | F12: местный бюджет | G12: прочие источники
B13: 2016 | J13: "Развитие культуры и туризма"
B14: Основное мероприятие 1. "Развитие дополнительного образования" | C14: 21226.1 | D14: 0 | E14: 0 | F14: 21226.1 | G14: 0
B15: Подпрограмма "Развитие.Творчество"
B16: 1.1.Расходы на обеспечение деятельности (оказание услуг)муниципальных учреждений | C16: 21226.1 | F16: 21226.1 | J16: 33787.7
B17: Основное мероприятие 2. "Развитие исполнительских искусств" | C17: 6594 | D17: 0 | E17: 80 | F17: 6514 | G17: 0
B18: Подпрограмма "Организация досуга населения"
B19: 2.1. Субсидии автономным учреждениям на финансовое обеспечение государственного (муниципального) задания на оказание государственных (муниципальных) услуг (выполнение работ) | C19: 5520 | F19: 5520
B20: 2.2.Субсидии автономным учреждениям на иные цели | C20: 1016 | E20: 80 | F20: 936
B21: 2.3. Софинансирование расходных обязательств по укреплению материально-технической базы учреждений культуры | C21: 58 | F21: 58
B22: Основное мероприятие 3. "Развитие библиотечного дела" | C22: 4553.5 | D22: 0 | E22: 56.5 | F22: 4497 | G22: 0
B23: Подпрограмма "Библиотека: районный информационный центр"
B24: 3.1.Расходы на обеспечение деятельности (оказание услуг) муниципальных учреждений Республики Мордовия | C24: 4497 | F24: 4497
B25: 3.2.Субсидии бюджетным учреждениям на иные цели, в том числе подключение общедоступных библиотек Российской Федерации к сети "Интернет" и развитие системы библиотечнго дела с учетом задачи расширения информационных технологий и оцифровки | C25: 56.5 | E25: 56.5
B26: Основное мероприятие 4. | C26: 560.7 | D26: 0 | E26: 0 | F26: 432.1 | G26: 0
B27: Подпрограмма "Архивная служба Лямбирского муниципального района"
B28: Расходы на обеспечение деятельности (оказание услуг) муниципальных учреждений Республики Мордовия | C28: 560.7 | D28: 0 | E28: 128.6 | F28: 432.1 | G28: 0
B29: Основное мероприятие 5."Сохранение, возрождение и развитие традиционной татарской культуры" | C29: 853.4 | D29: 0 | E29: 0 | F29: 853.4 | G29: 0
B30: Подпрограмма "Развитие татарской культуры. Возрождение национальных традиций"
B31: Расходы на обеспечение деятельности (оказание услуг) муниципальных учреждений Республики Мордовия | C31: 853.4 | F31: 853.4
C32: 0 | D32: 0 | E32: 0 | F32: 0 | G32: 0
C33: 0
C34: 0 | D34: 0 | E34: 0 | F34: 0 | G34: 0
C35: 0
B36: Приложение №1 к приложению №2 Муниципальной программы «Развитие культуры и туризма Лямбирского муниципального района на период 2016-2025 годы» Перечень мероприятий по укреплению материально-технической базы учреждений культуры Лямбирского муниципального района
B37: Софинансирование расходных обязательств по укреплению материально-технической базы учреждений культуры | C37: 80 | E37: 80
C38: 0
C39: 0
C40: 0
B41: Подключение общедоступных библиотек Российской Федерации к сети "Интернет" и развитие системы библиотечнго дела с учетом задачи расширения информационных технологий и оцифровки | C41: 46.2 | E41: 46.2
C42: 0
C43: 0
C44: 0
C45: 0
...

Sheet 2020-2022 в разб
A1: Муниципальная программа Развитие образования на 2018-2020 гг. (в разбивке по годам)
A5: Наименование основных направлений (сфер, отраслей) социально-экономического развития, в рамках которых планируется разработка программных мероприятий | B5: Перечень мероприятий (объектов), планируемых к реализации с характеристикой основных параметров (площадь, мощность, количество мест, посещений в смену и др.) | C5: Объем финансирования всего, тыс.руб. | D5: в том числе по источникам финансирования | H5: Срок исполнения | I5: Кроме того, стоимость разработки проектно-сметной документации, тыс.руб. | J5: Ответственный исполнитель (соисполнитель, участник) | K5: Наименование муниципальной программы, в рамках которой планируется реализация мероприятия | L5: Примечание (наличие ПСД, обоснованность включения мероприятия в программу, указать орган исполнительной власти, согласовавший объект)
D6: федеральный бюджет | E6: республиканский бюджет | F6: местный бюджет | G6: прочие источники
B7: 2020
B8: Основное мероприятие 1. Развитие дошкольного образования | C8: =D8+E8+F8+G8 -> #REF! | D8: =D9+D10+D11 -> 10.668 | E8: =E9+E10+E11 -> #REF! | F8: =F9+F10+F11 -> #REF! | G8: =G9+G10+G11 -> 0 | H8: =H9+H10+H11 -> 0 | I8: =I9+I10+I11 -> 517 | J8: Заместитель Главы Лямбирского муниципального района по социальным вопросам М.В. Левин | K8: Муниципальная программа "Развитие образования в Лямбирском муниципальном районе на 2016-2020 г.г."
B9: 1.1.Обеспечение государственных гарантий реализации прав на получение общедоступного и бесплатного дошкольного образования в муниципальных дошкольных образовательных учреждениях, включая расходы на оплату труда и начисления на выплаты по оплате труда. | C9: =D9+E9+F9+G9 -> 2.67485 | E9: ='2016-2025 МЕРОПРИЯТИЯ В РАЗБИВК'!E176 -> 2.54625 | F9: ='2016-2025 МЕРОПРИЯТИЯ В РАЗБИВК'!F176 -> 0.1286
B10: 1.2.Укрепление материально-технической базы муниципальных дошкольных образовательных учреждений (приложение №1 к приложению №2 Муниципальной программы «Развитие образования Лямбирского муниципального района на период 2016-2020 годы». | C10: =D10+E10+F10+G10 -> #REF! | D10: =D40 -> 10.668 | E10: ='2016-2025 МЕРОПРИЯТИЯ В РАЗБИВК'!#REF! -> #REF! | F10: ='2016-2025 МЕРОПРИЯТИЯ В РАЗБИВК'!#REF! -> #REF! | G10: =G40 -> 0 | H10: =H40 -> 0 | I10: =I40 -> 517
B11: 1.3.Обеспечение деятельности муниципальных дошкольных образовательных учреждений и их безопасности, содержания имущества. | C11: =D11+E11+F11+G11 -> 30.3 | E11: ='2016-2025 МЕРОПРИЯТИЯ В РАЗБИВК'!E99 -> 0 | F11: ='2016-2025 МЕРОПРИЯТИЯ В РАЗБИВК'!F177 -> 30.3
B12: Основное мероприятие 2. Развитие общего образования | C12: =D12+E12+F12+G12 -> 4095.3884 | D12: =D13+D14+D15+D16 -> 0 | E12: =E13+E14+E15+E16 -> 2472.3257 | F12: =F13+F14+F15+F16 -> 1623.0627 | G12: =G13+G14+G15+G16 -> 0 | H12: =H13+H14+H15+H16 -> 0 | I12: =I13+I14+I15+I16 -> 1157
B13: 2.1. Обеспечение государственных гарантий реализации прав на получение общедоступного и бесплатного начального общего, основного общего, среднего общего образования в муниципальных общеобразовательных учреждениях. | C13: =D13+E13+F13+G13 -> 43.8565 | E13: ='2016-2025 МЕРОПРИЯТИЯ В РАЗБИВК'!E179 -> 43.8565
B14: 2.2.Укрепление материально-технической базы муниципальных общеобразовательных учреждений (приложение №1 к приложению №2 Муниципальной программы «Развитие образования Лямбирского муниципального района на период 2016-2020 годы». | C14: =D14+E14+F14+G14 -> 30.3 | D14: ='2016-2025 МЕРОПРИЯТИЯ В РАЗБИВК'!D180 -> 0 | E14: ='2016-2025 МЕРОПРИЯТИЯ В РАЗБИВК'!E180 -> 0 | F14: ='2016-2025 МЕРОПРИЯТИЯ В РАЗБИВК'!F180 -> 30.3 | G14: =G41 -> 0 | H14: =H41 -> 0 | I14: =I41 -> 1157
B15: 2.3. Обеспечение деятельности муниципальных общеобразовательных учреждений и их безопасности, содержания имущества. | C15: =D15+E15+F15+G15 -> 1319.1192 | E15: ='2016-2025 МЕРОПРИЯТИЯ В РАЗБИВК'!E181 -> 781.3565 | F15: ='2016-2025 МЕРОПРИЯТИЯ В РАЗБИВК'!F181 -> 537.76267
B16: 2.4.Обеспечение организации питания обучающихся из малоимущих семей. | C16: =D16+E16+F16+G16 -> 2702.1128 | E16: ='2016-2025 МЕРОПРИЯТИЯ В РАЗБИВК'!E182 -> 1647.1128 | F16: ='2016-2025 МЕРОПРИЯТИЯ В РАЗБИВК'!F105 -> 1055
B17: Основное мероприятие 3. Развитие дополнительного образования детей | C17: =C18 -> 529.757 | D17: =D18 -> 192.713 | E17: =E18 -> 48.179 | F17: =F18 -> 288.865 | G17: =G18 -> 0
B18: 3.1. Организация предоставления дополнительного образования детей в Лямбирском муниципальном районе. | C18: =D18+E18+F18+G18 -> 529.757 | D18: ='2016-2025 МЕРОПРИЯТИЯ В РАЗБИВК'!D107 -> 192.713 | E18: ='2016-2025 МЕРОПРИЯТИЯ В РАЗБИВК'!E107 -> 48.179 | F18: ='2016-2025 МЕРОПРИЯТИЯ В РАЗБИВК'!F187 -> 288.865
B19: Основное мероприятие 4. Муниципальная поддержка лучших творческих педагогических работников образовательных учреждений и способной, талантливой молодежи | C19: =SUM(C20:C22) -> 30839.359 | D19: =SUM(D20:D22) -> 0 | E19: =SUM(E20:E22) -> 0 | F19: =SUM(F20:F22) -> 30839.359 | G19: =SUM(G20:G22) -> 0
B20: 4.1.Поощрение лучших педагогических работников дошкольных образовательных учреждений в рамках приоритетного национального проекта «Образование». | C20: =SUM(D20:G20) -> 26882.778 | F20: ='2016-2025 МЕРОПРИЯТИЯ В РАЗБИВК'!F190 -> 26882.778
B21: 4.2.Поощрение лучших творческих и талантливых учителей образовательных учреждений в рамках приоритетного национального проекта «Образование» | C21: =SUM(D21:G21) -> 3877.0354 | F21: ='2016-2025 МЕРОПРИЯТИЯ В РАЗБИВК'!F191 -> 3877.0354
B22: 4.3.Поддержка способной и талантливой молодежи в рамках приоритетного национального проекта «Образование» | C22: =SUM(D22:G22) -> 79.54546 | F22: ='2016-2025 МЕРОПРИЯТИЯ В РАЗБИВК'!F192 -> 79.54546
B23: Основное мероприятие 5. Реализация моделей получения качественного дошкольного, общего и дополнительного образования детьми-инвалидами и лицами с ограниченными возможностями здоровья | C23: =SUM(D23:G23) -> 0.6315 | D23: =D24 -> 0 | E23: =E24 -> 0 | F23: =F24 -> 0.6315 | G23: 0
B24: Создание условий для получения образования детей с ограниченными возможностями здоровья. | C24: =D24+E24+F24 -> 0.6315 | D24: ='2016-2025 МЕРОПРИЯТИЯ В РАЗБИВК'!D194 -> 0 | E24: ='2016-2025 МЕРОПРИЯТИЯ В РАЗБИВК'!E194 -> 0 | F24: ='2016-2025 МЕРОПРИЯТИЯ В РАЗБИВК'!F194 -> 0.6315 | G24: 0
B25: Основное мероприятие 6. Обеспечение деятельности МКУ « Центр информационно-методического обеспечения муниципальных образовательных учреждений Лямбирского муниципального района РМ» и реализация прочих мероприятий в области образования | C25: =C26 -> 11815.237 | D25: =D26 -> 0 | E25: =E26 -> 107.9 | F25: =F26 -> 11707.337 | G25: 0
B26: 6.1.Обеспечение деятельности МКУ «Центр информационно-методического обеспечения муниципальных образовательных учреждений Лямбирского муниципального района РМ» и реализация прочих мероприятий в области образования. | C26: =SUM(D26:G26) -> 11815.237 | D26: ='2016-2025 МЕРОПРИЯТИЯ В РАЗБИВК'!D117 -> 0 | E26: ='2016-2025 МЕРОПРИЯТИЯ В РАЗБИВК'!E117 -> 107.9 | F26: ='2016-2025 МЕРОПРИЯТИЯ В РАЗБИВК'!F196 -> 11707.337 | G26: 0
B27: Основное мероприятие 7. Организация отдыха, оздоровления и занятости детей и подростков | C27: =SUM(D27:G27) -> 11643.8 | D27: =D28 -> 0 | E27: =E28 -> 0 | F27: =F28 -> 11643.8 | G27: =G28 -> 0
B28: 7.1. Организация отдыха, оздоровления и занятости детей и подростков. | C28: =SUM(D28:G28) -> 11643.8 | D28: ='2016-2025 МЕРОПРИЯТИЯ В РАЗБИВК'!D198 -> 0 | E28: ='2016-2025 МЕРОПРИЯТИЯ В РАЗБИВК'!E198 -> 0 | F28: ='2016-2025 МЕРОПРИЯТИЯ В РАЗБИВК'!F198 -> 11643.8
B29: Основное мероприятие 8. Создание условий, обеспечивающих успешную социализацию детей, оставшихся без попечения родителей,находящихся в трудной жизненной ситуации | C29: =SUM(D29:G29) -> 0 | D29: =D30 -> 0 | E29: =E30 -> 0 | F29: =F30 -> 0 | G29: =G30 -> 0
B30: 8.1.Реализация государственных полномочий по оплате труда приемных родителей, проживающих на территории Республики Мордовия и выплате ежемесячного денежного пособия опекуну (попечителю), приемному родителю на содержание ребенка, находящегося под опекой (попечительством), в приемной семье в Республике Мордовия. | C30: =SUM(D30:G30) -> 0 | D30: ='2016-2025 МЕРОПРИЯТИЯ В РАЗБИВК'!D121 -> 0 | E30: ='2016-2025 МЕРОПРИЯТИЯ В РАЗБИВК'!E200 -> 0 | F30: ='2016-2025 МЕРОПРИЯТИЯ В РАЗБИВК'!F121 -> 0
B31: Приложение №1 к приложению №2 Муниципальной программы «Развитие образования Лямбирского муниципального района на период 2016-2020 годы» Перечень мероприятий по укреплению материально-технической базы образовательных учреждений Лямбирского муниципального района
B32: Строительство МОУ "Аксеновская СОШ" на 165 мест | C32: =D32+E32+F32+G32 -> 0 | D32: ='2016-2025 МЕРОПРИЯТИЯ В РАЗБИВК'!D209 -> 0 | E32: ='2016-2025 МЕРОПРИЯТИЯ В РАЗБИВК'!E209 -> 0 | F32: ='2016-2025 МЕРОПРИЯТИЯ В РАЗБИВК'!F209 -> 0 | G32: 0 | I32: 1100 | L32: ПСД имеется
D33: ='2016-2025 МЕРОПРИЯТИЯ В РАЗБИВК'!D126 -> 0 | L33: ПСД отсутствует
C34: =D34+E34+F34+G34 -> 0 | I34: 512 | L34: ПСД имеется
C35: =D35+E35+F35+G35 -> 0 | I35: 57 | L35: ПСД имеется
L36: ПСД имеется
L37: ПСД имеется
L38: ПСД имеется
C39: =D39+E39+F39+G39 -> 0 | I39: 5 | L39: ПСД имеется
B40: Итого по укреплению МТБ МДОУ за 2020 г. (тыс.руб.) | C40: =C34+C39 -> 0 | D40: ='2016-2025 МЕРОПРИЯТИЯ В РАЗБИВК'!D133 -> 10.668 | E40: ='2016-2025 МЕРОПРИЯТИЯ В РАЗБИВК'!E133 -> 2.669 | F40: ='2016-2025 МЕРОПРИЯТИЯ В РАЗБИВК'!F133 -> 0.135 | G40: =G34+G39 -> 0 | H40: =H34+H39 -> 0 | I40: =I34+I39 -> 517 | L40: ПСД имеется
B41: Итого по укреплению МТБ МОУ за 2020 г. (тыс.руб.) | C41: =C35+C32 -> 0 | D41: ='2016-2025 МЕРОПРИЯТИЯ В РАЗБИВК'!D134 -> 0 | E41: ='2016-2025 МЕРОПРИЯТИЯ В РАЗБИВК'!E134 -> 99.5 | F41: ='2016-2025 МЕРОПРИЯТИЯ В РАЗБИВК'!F134 -> 5.237 | G41: =G35+G32 -> 0 | H41: =H35+H32 -> 0 | I41: =I35+I32 -> 1157
B42: ВСЕГО по приложению №1 Перечень мероприятий по укреплению материально-технической базы образовательных учреждений Лямбирского муниципального района за 2018 г. (тыс. руб.) | C42: =C40+C41 -> 0 | D42: =D40+D41 -> 10.668 | E42: =E40+E41 -> 102.169 | F42: =F40+F41 -> 5.372 | G42: =G40+G41 -> 0 | H42: =H40+H41 -> 0 | I42: =I40+I41 -> 1674
B43: Итого за 2018 г. (тыс. руб.) | C43: =C8+C12+C17+C19+C23+C25+C27+C29 -> #REF! | D43: =D8+D12+D17+D19+D23+D25+D27+D29 -> 203.381 | E43: =E8+E12+E17+E19+E23+E25+E27+E29 -> #REF! | F43: =F8+F12+F17+F19+F23+F25+F27+F29 -> #REF! | G43: =G8+G12+G17+G19+G23+G25+G27+G29 -> 0 | H43: =H8+H12+H17+H19+H23+H25+H27+H29 -> 0 | I43: =I8+I12+I17+I19+I23+I25+I27+I29 -> 1674
...

Sheet 2020-2022 итого
A1: Муниципальная программа Развитие образования на 2020-2022 гг. (СВОД)
A5: Наименование основных направлений (сфер, отраслей) социально-экономического развития, в рамках которых планируется разработка программных мероприятий | B5: Перечень мероприятий (объектов), планируемых к реализации с характеристикой основных параметров (площадь, мощность, количество мест, посещений в смену и др.) | C5: Объем финансирования всего, тыс.руб. | D5: в том числе по источникам финансирования | H5: Срок исполнения | I5: Кроме того, стоимость разработки проектно-сметной документации, тыс.руб. | J5: Ответственный исполнитель (соисполнитель, участник) | K5: Наименование муниципальной программы, в рамках которой планируется реализация мероприятия | L5: Примечание (наличие ПСД, обоснованность включения мероприятия в программу, указать орган исполнительной власти, согласовавший объект)
D6: федеральный бюджет | E6: республиканский бюджет | F6: местный бюджет | G6: прочие источники
B7: 2020-2022
B8: Основное мероприятие 1. Развитие дошкольного образования | C8: =D8+E8+F8+G8 -> #REF! | D8: =D9+D10+D11 -> #REF! | E8: =E9+E10+E11 -> #REF! | F8: =F9+F10+F11 -> #REF! | G8: =G9+G10+G11 -> #REF! | H8: =H9+H10+H11 -> #REF! | I8: =I9+I10+I11 -> #REF! | J8: Заместитель Главы Лямбирского муниципального района по социальным вопросам М.В. Левин | K8: Муниципальная программа "Развитие образования в Лямбирском муниципальном районе на 2016-2020 г.г." | M8: ='2020-2022 в разб'!C8+'2020-2022 в разб'!C45+'2020-2022 в разб'!C74 -> #REF! | O8: =M8+M12+M17+M19+M23+M25+M27+M29 -> #REF!
B9: 1.1.Обеспечение государственных гарантий реализации прав на получение общедоступного и бесплатного дошкольного образования в муниципальных дошкольных образовательных учреждениях, включая расходы на оплату труда и начисления на выплаты по оплате труда. | C9: =D9+E9+F9+G9 -> #REF! | D9: ='2020-2022 в разб'!D9+'2020-2022 в разб'!D46+'2020-2022 в разб'!D75 -> 60.185 | E9: ='2020-2022 в разб'!E9+'2020-2022 в разб'!E46+'2020-2022 в разб'!E75 -> #REF! | F9: ='2020-2022 в разб'!F9+'2020-2022 в разб'!F46+'2020-2022 в разб'!F75 -> 245.3887 | G9: ='2020-2022 в разб'!G9+'2020-2022 в разб'!G46+'2020-2022 в разб'!G75 -> 0 | M9: ='2020-2022 в разб'!C9+'2020-2022 в разб'!C46+'2020-2022 в разб'!C75 -> #REF!
B10: 1.2.Укрепление материально-технической базы муниципальных дошкольных образовательных учреждений (приложение №1 к приложению №2 Муниципальной программы «Развитие образования Лямбирского муниципального района на период 2016-2020 годы». | C10: =D10+E10+F10+G10 -> #REF! | D10: ='2020-2022 в разб'!D10+'2020-2022 в разб'!D47+'2020-2022 в разб'!D76 -> #REF! | E10: ='2020-2022 в разб'!E10+'2020-2022 в разб'!E47+'2020-2022 в разб'!E76 -> #REF! | F10: ='2020-2022 в разб'!F10+'2020-2022 в разб'!F47+'2020-2022 в разб'!F76 -> #REF! | G10: ='2020-2022 в разб'!G10+'2020-2022 в разб'!G47+'2020-2022 в разб'!G76 -> #REF! | H10: =H31 -> #REF! | I10: =I31 -> #REF! | M10: ='2020-2022 в разб'!C10+'2020-2022 в разб'!C47+'2020-2022 в разб'!C76 -> #REF!
B11: 1.3.Обеспечение деятельности муниципальных дошкольных образовательных учреждений и их безопасности, содержания имущества. | C11: =D11+E11+F11+G11 -> #REF! | D11: ='2020-2022 в разб'!D11+'2020-2022 в разб'!D48+'2020-2022 в разб'!D77 -> 0 | E11: ='2020-2022 в разб'!E11+'2020-2022 в разб'!E48+'2020-2022 в разб'!E77 -> #REF! | F11: ='2020-2022 в разб'!F11+'2020-2022 в разб'!F48+'2020-2022 в разб'!F77 -> #REF! | M11: ='2020-2022 в разб'!C11+'2020-2022 в разб'!C48+'2020-2022 в разб'!C77 -> #REF!
B12: Основное мероприятие 2. Развитие общего образования | C12: =D12+E12+F12+G12 -> #REF! | D12: =D13+D14+D15+D16 -> #REF! | E12: =E13+E14+E15+E16 -> #REF! | F12: =F13+F14+F15+F16 -> #REF! | G12: =G13+G14+G15+G16 -> 0 | H12: =H13+H14+H15+H16 -> #REF! | I12: =I13+I14+I15+I16 -> #REF! | M12: ='2020-2022 в разб'!C12+'2020-2022 в разб'!C49+'2020-2022 в разб'!C78 -> #REF!
B13: 2.1. Обеспечение государственных гарантий реализации прав на получение общедоступного и бесплатного начального общего, основного общего, среднего общего образования в муниципальных общеобразовательных учреждениях. | C13: =D13+E13+F13+G13 -> #REF! | D13: ='2020-2022 в разб'!D13+'2020-2022 в разб'!D50+'2020-2022 в разб'!D79 -> 16509.056 | E13: ='2020-2022 в разб'!E13+'2020-2022 в разб'!E50+'2020-2022 в разб'!E79 -> #REF! | F13: ='2020-2022 в разб'!F13+'2020-2022 в разб'!F50+'2020-2022 в разб'!F79 -> 3960.719 | G13: ='2020-2022 в разб'!G13+'2020-2022 в разб'!G50+'2020-2022 в разб'!G79 -> 0 | M13: ='2020-2022 в разб'!C13+'2020-2022 в разб'!C50+'2020-2022 в разб'!C79 -> #REF! | N13: ='2020-2022 в разб'!D13+'2020-2022 в разб'!D50+'2020-2022 в разб'!D79 -> 16509.056 | O13: ='2020-2022 в разб'!E13+'2020-2022 в разб'!E50+'2020-2022 в разб'!E79 -> #REF! | P13: ='2020-2022 в разб'!F13+'2020-2022 в разб'!F50+'2020-2022 в разб'!F79 -> 3960.719 | Q13: ='2020-2022 в разб'!G13+'2020-2022 в разб'!G50+'2020-2022 в разб'!G79 -> 0
B14: 2.2.Укрепление материально-технической базы муниципальных общеобразовательных учреждений (приложение №1 к приложению №2 Муниципальной программы «Развитие образования Лямбирского муниципального района на период 2016-2020 годы». | C14: =D14+E14+F14+G14 -> #REF! | D14: ='2020-2022 в разб'!D14+'2020-2022 в разб'!D51+'2020-2022 в разб'!D80 -> #REF! | E14: ='2020-2022 в разб'!E14+'2020-2022 в разб'!E51+'2020-2022 в разб'!E80 -> #REF! | F14: ='2020-2022 в разб'!F14+'2020-2022 в разб'!F51+'2020-2022 в разб'!F80 -> #REF! | G14: ='2020-2022 в разб'!G14+'2020-2022 в разб'!G51+'2020-2022 в разб'!G80 -> 0 | H14: ='2020-2022 в разб'!H14+'2020-2022 в разб'!H51+'2020-2022 в разб'!H80 -> #REF! | I14: ='2020-2022 в разб'!I14+'2020-2022 в разб'!I51+'2020-2022 в разб'!I80 -> #REF! | M14: ='2020-2022 в разб'!C14+'2020-2022 в разб'!C51+'2020-2022 в разб'!C80 -> #REF!
B15: 2.3. Обеспечение деятельности муниципальных общеобразовательных учреждений и их безопасности, содержания имущества. | C15: =D15+E15+F15+G15 -> #REF! | D15: ='2020-2022 в разб'!D15+'2020-2022 в разб'!D52+'2020-2022 в разб'!D81 -> 3125.426 | E15: ='2020-2022 в разб'!E15+'2020-2022 в разб'!E52+'2020-2022 в разб'!E81 -> #REF! | F15: ='2020-2022 в разб'!F15+'2020-2022 в разб'!F52+'2020-2022 в разб'!F81 -> #REF! | G15: ='2020-2022 в разб'!G15+'2020-2022 в разб'!G52+'2020-2022 в разб'!G81 -> 0 | H15: ='2020-2022 в разб'!H15+'2020-2022 в разб'!H52+'2020-2022 в разб'!H81 -> 0 | I15: ='2020-2022 в разб'!I15+'2020-2022 в разб'!I52+'2020-2022 в разб'!I81 -> 0 | M15: ='2020-2022 в разб'!C15+'2020-2022 в разб'!C52+'2020-2022 в разб'!C81 -> #REF!
B16: 2.4.Обеспечение организации питания обучающихся из малоимущих семей. | C16: =D16+E16+F16+G16 -> #REF! | D16: ='2020-2022 в разб'!D16+'2020-2022 в разб'!D53+'2020-2022 в разб'!D82 -> 6250.852 | E16: ='2020-2022 в разб'!E16+'2020-2022 в разб'!E53+'2020-2022 в разб'!E82 -> #REF! | F16: ='2020-2022 в разб'!F16+'2020-2022 в разб'!F53+'2020-2022 в разб'!F82 -> 76327.466 | G16: ='2020-2022 в разб'!G16+'2020-2022 в разб'!G53+'2020-2022 в разб'!G82 -> 0 | H16: ='2020-2022 в разб'!H16+'2020-2022 в разб'!H53+'2020-2022 в разб'!H82 -> 0 | I16: ='2020-2022 в разб'!I16+'2020-2022 в разб'!I53+'2020-2022 в разб'!I82 -> 0 | M16: ='2020-2022 в разб'!C16+'2020-2022 в разб'!C53+'2020-2022 в разб'!C82 -> #REF!
B17: Основное мероприятие 3. Развитие дополнительного образования детей | C17: =C18 -> #REF! | D17: =D18 -> 0 | E17: =E18 -> 0 | F17: =F18 -> #REF! | G17: =G18 -> 0 | M17: ='2020-2022 в разб'!C17+'2020-2022 в разб'!C54+'2020-2022 в разб'!C83 -> #REF!
B18: 3.1. Организация предоставления дополнительного образования детей в Лямбирском муниципальном районе. | C18: =D18+E18+F18+G18 -> #REF! | F18: ='2020-2022 в разб'!F18+'2020-2022 в разб'!F55+'2020-2022 в разб'!F84 -> #REF! | M18: ='2020-2022 в разб'!C18+'2020-2022 в разб'!C55+'2020-2022 в разб'!C84 -> #REF!
B19: Основное мероприятие 4. Муниципальная поддержка лучших творческих педагогических работников образовательных учреждений и способной, талантливой молодежи | C19: =SUM(C20:C22) -> #REF! | D19: =SUM(D20:D22) -> 0 | E19: =SUM(E20:E22) -> 0 | F19: =SUM(F20:F22) -> #REF! | G19: =SUM(G20:G22) -> 0 | M19: ='2020-2022 в разб'!C19+'2020-2022 в разб'!C56+'2020-2022 в разб'!C85 -> #REF!
B20: 4.1.Поощрение лучших педагогических работников дошкольных образовательных учреждений в рамках приоритетного национального проекта «Образование». | C20: =SUM(D20:G20) -> #REF! | F20: ='2020-2022 в разб'!F20+'2020-2022 в разб'!F57+'2020-2022 в разб'!F86 -> #REF! | M20: ='2020-2022 в разб'!C20+'2020-2022 в разб'!C57+'2020-2022 в разб'!C86 -> #REF!
B21: 4.2.Поощрение лучших творческих и талантливых учителей образовательных учреждений в рамках приоритетного национального проекта «Образование» | C21: =SUM(D21:G21) -> #REF! | F21: ='2020-2022 в разб'!F21+'2020-2022 в разб'!F58+'2020-2022 в разб'!F87 -> #REF! | M21: ='2020-2022 в разб'!C21+'2020-2022 в разб'!C58+'2020-2022 в разб'!C87 -> #REF!
B22: 4.3.Поддержка способной и талантливой молодежи в рамках приоритетного национального проекта «Образование» | C22: =SUM(D22:G22) -> #REF! | F22: ='2020-2022 в разб'!F22+'2020-2022 в разб'!F59+'2020-2022 в разб'!F88 -> #REF! | M22: ='2020-2022 в разб'!C22+'2020-2022 в разб'!C59+'2020-2022 в разб'!C88 -> #REF!
B23: Основное мероприятие 5. Реализация моделей получения качественного дошкольного, общего и дополнительного образования детьми-инвалидами и лицами с ограниченными возможностями здоровья | C23: =SUM(D23:G23) -> 0.6315 | D23: =D24 -> 0 | E23: =E24 -> 0 | F23: =F24 -> 0.6315 | G23: =G24 -> 0 | M23: ='2020-2022 в разб'!C23+'2020-2022 в разб'!C60+'2020-2022 в разб'!C89 -> #REF!
B24: Создание условий для получения образования детей с ограниченными возможностями здоровья. | C24: =SUM(D24:G24) -> 0.6315 | D24: ='2020-2022 в разб'!D24 -> 0 | E24: ='2020-2022 в разб'!E24 -> 0 | F24: ='2020-2022 в разб'!F24 -> 0.6315 | G24: ='2020-2022 в разб'!G24 -> 0 | M24: ='2020-2022 в разб'!C24+'2020-2022 в разб'!C61+'2020-2022 в разб'!C90 -> #REF!
B25: Основное мероприятие 6. Обеспечение деятельности МКУ « Центр информационно-методического обеспечения муниципальных образовательных учреждений Лямбирского муниципального района РМ» и реализация прочих мероприятий в области образования | C25: =C26 -> #REF! | D25: =D26 -> 0 | E25: =E26 -> 0 | F25: =F26 -> #REF! | G25: 0 | M25: ='2020-2022 в разб'!C25+'2020-2022 в разб'!C62+'2020-2022 в разб'!C91 -> #REF!
B26: 6.1.Обеспечение деятельности МКУ «Центр информационно-методического обеспечения муниципальных образовательных учреждений Лямбирского муниципального района РМ» и реализация прочих мероприятий в области образования. | C26: =SUM(D26:G26) -> #REF! | D26: 0 | E26: 0 | F26: ='2020-2022 в разб'!F26+'2020-2022 в разб'!F63+'2020-2022 в разб'!F92 -> #REF! | G26: 0 | M26: ='2020-2022 в разб'!C26+'2020-2022 в разб'!C63+'2020-2022 в разб'!C92 -> #REF!
B27: Основное мероприятие 7. Организация отдыха, оздоровления и занятости детей и подростков | C27: =SUM(D27:G27) -> #REF! | D27: =D28 -> 115.241 | E27: =E28 -> #REF! | F27: =F28 -> #REF! | G27: =G28 -> 0 | M27: ='2020-2022 в разб'!C27+'2020-2022 в разб'!C64+'2020-2022 в разб'!C93 -> #REF!
B28: 7.1. Организация отдыха, оздоровления и занятости детей и подростков. | C28: =SUM(D28:G28) -> #REF! | D28: ='2020-2022 в разб'!D28+'2020-2022 в разб'!D65+'2020-2022 в разб'!D94 -> 115.241 | E28: ='2020-2022 в разб'!E28+'2020-2022 в разб'!E65+'2020-2022 в разб'!E94 -> #REF! | F28: ='2020-2022 в разб'!F28+'2020-2022 в разб'!F65+'2020-2022 в разб'!F94 -> #REF! | M28: ='2020-2022 в разб'!C28+'2020-2022 в разб'!C65+'2020-2022 в разб'!C94 -> #REF!
B29: Основное мероприятие 8. Создание условий, обеспечивающих успешную социализацию детей, оставшихся без попечения родителей,находящихся в трудной жизненной ситуации | C29: =SUM(D29:G29) -> #REF! | D29: =D30 -> 0 | E29: =E30 -> #REF! | F29: =F30 -> 0 | G29: =G30 -> 0 | M29: ='2020-2022 в разб'!C29+'2020-2022 в разб'!C66+'2020-2022 в разб'!C95 -> #REF!
B30: 8.1.Реализация государственных полномочий по оплате труда приемных родителей, проживающих на территории Республики Мордовия и выплате ежемесячного денежного пособия опекуну (попечителю), приемному родителю на содержание ребенка, находящегося под опекой (попечительством), в приемной семье в Республике Мордовия. | C30: =SUM(D30:G30) -> #REF! | E30: ='2020-2022 в разб'!E30+'2020-2022 в разб'!E67+'2020-2022 в разб'!E96 -> #REF! | M30: ='2020-2022 в разб'!C30+'2020-2022 в разб'!C67+'2020-2022 в разб'!C96 -> #REF!
B31: Итого по укреплению МТБ МДОУ за 2018 г. (тыс.руб.) | C31: =SUM(D31:G31) -> 0 | H31: ='2020-2022 в разб'!H40+'2020-2022 в разб'!H69+'2020-2022 в разб'!H98 -> #REF! | I31: ='2020-2022 в разб'!I40+'2020-2022 в разб'!I69+'2020-2022 в разб'!I98 -> #REF! | L31: ПСД имеется | M31: ='2020-2022 в разб'!C31+'2020-2022 в разб'!C68+'2020-2022 в разб'!C97 -> 0
B32: Итого по укреплению МТБ МОУ за 2018 г. (тыс.руб.) | C32: =SUM(D32:G32) -> 0 | H32: ='2020-2022 в разб'!H41+'2020-2022 в разб'!H70+'2020-2022 в разб'!H99 -> #REF! | I32: ='2020-2022 в разб'!I41+'2020-2022 в разб'!I70+'2020-2022 в разб'!I99 -> #REF!
B33: ВСЕГО по приложению №1 Перечень мероприятий по укреплению материально-технической базы образовательных учреждений Лямбирского муниципального района за 2018 г. (тыс. руб.) | C33: =SUM(D33:G33) -> 0 | H33: =H31+H32 -> #REF! | I33: =I31+I32 -> #REF!
B34: ВСЕГО на программу Развитие образования на 2020-2022 годы | C34: =SUM(D34:F34) -> #REF! | D34: =D8+D12+D17+D19+D23+D25+D27+D29 -> #REF! | E34: =E8+E12+E17+E19+E23+E25+E27+E29 -> #REF! | F34: =F8+F12+F17+F19+F23+F25+F27+F29 -> #REF! | G34: =G8+G12+G12+G17+G19+G23+G25+G27+G29 -> #REF! | H34: =H8+H12+H17+H19+H23+H25+H27+H29 -> #REF! | I34: =I8+I12+I17+I19+I23+I25+I27+I29 -> #REF!
C35: =C8+C12+C17+C19+C23+C25+C27+C29 -> #REF! | D35: =D8+D12+D17+D19+D23+D25+D27+D29 -> #REF! | E35: =E8+E12+E17+E19+E23+E25+E27+E29 -> #REF! | F35: =F8+F12+F17+F19+F23+F25+F27+F29 -> #REF! | G35: =G8+G12+G17+G19+G23+G25+G27+G29 -> #REF! | H35: =H8+H12+H17+H19+H23+H25+H27+H29 -> #REF!

Sheet Лист1

Sheet Лист2
