Workbook

Sheet 2016-2025 МЕРОПРИЯТИЯ В РАЗБИВК
G1: Приложение №3
G2: к муниципальной программе
G3: Лямбирского муниципального района
G4: "Развитие автомобильных дорог в Лямбирском муниципальном районе Республики Мордовия"
B7: Ресурсное обеспечение муниципальной программы Лямбирского муниципального района "Развитие автомобильных дорог в Лямбирском муниципальном районе Республики Мордовия"
A11: №п/п | B11: Наименование мероприятия | C11: Объем финансирования всего, тыс.руб. | D11: в том числе по источникам финансирования | H11: протяженноть (км)
D12: федеральный бюджет | E12: республиканский бюджет | F12: местный бюджет | G12: прочие источники
B13: 2016 | J13: "Развитие культуры и туризма"
B14: Основное мероприятие 1. "Развитие дополнительного образования" | C14: 21226.1 | D14: 0 | E14: 0 | F14: 21226.1 | G14: 0
B15: Подпрограмма "Развитие.Творчество"
B16: 1.1.Расходы на обеспечение деятельности (оказание услуг)муниципальных учреждений | C16: 21226.1 | F16: 21226.1 | J16: 33787.7
B17: Основное мероприятие 2. "Развитие исполнительских искусств" | C17: 6594 | D17: 0 | E17: 80 | F17: 6514 | G17: 0
B18: Подпрограмма "Организация досуга населения"
B19: 2.1. Субсидии автономным учреждениям на финансовое обеспечение государственного (муниципального) задания на оказание государственных (муниципальных) услуг (выполнение работ) | C19: 5520 | F19: 5520
B20: 2.2.Субсидии автономным учреждениям на иные цели | C20: 1016 | E20: 80 | F20: 936
B21: 2.3. Софинансирование расходных обязательств по укреплению материально-технической базы учреждений культуры | C21: 58 | F21: 58
B22: Основное мероприятие 3. "Развитие библиотечного дела" | C22: 4553.5 | D22: 0 | E22: 56.5 | F22: 4497 | G22: 0
B23: Подпрограмма "Библиотека: районный информационный центр"
B24: 3.1.Расходы на обеспечение деятельности (оказание услуг) муниципальных учреждений Республики Мордовия | C24: 4497 | F24: 4497
B25: 3.2.Субсидии бюджетным учреждениям на иные цели, в том числе подключение общедоступных библиотек Российской Федерации к сети "Интернет" и развитие системы библиотечнго дела с учетом задачи расширения информационных технологий и оцифровки | C25: 56.5 | E25: 56.5
B26: Основное мероприятие 4. | C26: 560.7 | D26: 0 | E26: 0 | F26: 432.1 | G26: 0
B27: Подпрограмма "Архивная служба Лямбирского муниципального района"
B28: Расходы на обеспечение деятельности (оказание услуг) муниципальных учреждений Республики Мордовия | C28: 560.7 | D28: 0 | E28: 128.6 | F28: 432.1 | G28: 0
B29: Основное мероприятие 5."Сохранение, возрождение и развитие традиционной татарской культуры" | C29: 853.4 | D29: 0 | E29: 0 | F29: 853.4 | G29: 0
B30: Подпрограмма "Развитие татарской культуры. Возрождение национальных традиций"
B31: Расходы на обеспечение деятельности (оказание услуг) муниципальных учреждений Республики Мордовия | C31: 853.4 | F31: 853.4
C32: 0 | D32: 0 | E32: 0 | F32: 0 | G32: 0
C33: 0
C34: 0 | D34: 0 | E34: 0 | F34: 0 | G34: 0
C35: 0
B36: Приложение №1 к приложению №2 Муниципальной программы «Развитие культуры и туризма Лямбирского муниципального района на период 2016-2025 годы» Перечень мероприятий по укреплению материально-технической базы учреждений культуры Лямбирского муниципального района
B37: Софинансирование расходных обязательств по укреплению материально-технической базы учреждений культуры | C37: 80 | E37: 80
C38: 0
C39: 0
C40: 0
B41: Подключение общедоступных библиотек Российской Федерации к сети "Интернет" и развитие системы библиотечнго дела с учетом задачи расширения информационных технологий и оцифровки | C41: 46.2 | E41: 46.2
C42: 0
C43: 0
C44: 0
C45: 0
B46: Итого по Подпрограмма "Организация досуга населения" за 2016 г. (тыс.руб.) | C46: 80 | D46: 0 | E46: 80 | F46: 0 | G46: 0
B47: Итого по Подпрограмма "Библиотека: районный информационный центр" за 2016г. (тыс.руб.) | C47: 46.2 | D47: 0 | E47: 46.2 | F47: 0 | G47: 0
B48: ВСЕГО Перечень мероприятий по укреплению материально-технической базы учреждений укультуры Лямбирского муниципального района за 2016 г. (тыс. руб.) | C48: 126.2 | D48: 0 | E48: 126.2 | F48: 0 | G48: 0
D49: 2017
B50: Основное мероприятие 1. "Развитие дополнительного образования" | C50: 23861.695 | D50: 0 | E50: 0 | F50: 23861.695 | G50: 0
B51: Подпрограмма "Развитие.Творчество"
B52: 1.1.Расходы на обеспечение деятельности (оказание услуг)муниципальных учреждений | C52: 23229.615 | F52: 23229.615
B53: 1.2.Субсидии бюджетным учреждениям на иные цели | C53: 632.08 | F53: 632.08 | I53: 44211.516
B54: Основное мероприятие 2. "Развитие исполнительских искусств" | C54: 12907.83 | D54: 0 | E54: 227.017 | F54: 12680.813 | G54: 0
B55: Подпрограмма "Организация досуга населения"
B56: 2.1. Субсидии автономным учреждениям на финансовое обеспечение государственного (муниципального) задания на оказание государственных (муниципальных) услуг (выполнение работ) | C56: 12680.813 | F56: 12680.813
B57: 2.2.Субсидии автономным учреждениям на иные цели | C57: 227.017 | E57: 227.017 | F57: 0
B58: 2.3. Софинансирование расходных обязательств по укреплению материально-технической базы учреждений культуры | C58: 0
B59: 2.4.Cубсидии на осуществление капитальных вложений в объекты капитального строительства государственной (муниципальной) собственности автономным учреждениям | C59: 0 | I59: 3581.9
B61: Основное мероприятие 3. "Развитие библиотечного дела" | C61: 6410.121 | D61: 264.902 | E61: 0 | F61: 6145.219 | G61: 0
B62: Подпрограмма "Библиотека: районный информационный центр"
B63: 3.1.Расходы на обеспечение деятельности (оказание услуг) муниципальных учреждений Республики Мордовия | C63: 6038.048 | F63: 6038.048
B64: 3.2.Субсидии бюджетным учреждениям на иные цели, в том числе подключение общедоступных библиотек Российской Федерации к сети "Интернет" и развитие системы библиотечнго дела с учетом задачи расширения информационных технологий и оцифровки | C64: 49.926 | D64: 48.4 | F64: 1.526
B65: 3.3.Субсидии бюджетным учреждениям на иные цели, в том числе на комплектование книжных фондов муниципальных общедоступных библиотек | C65: 4.729 | D65: 4.584 | F65: 0.145
B66: 3.4. Субсидии бюлджетным учреждениям на иные цели | C66: 317.418 | D66: 211.918 | F66: 105.5
B67: Основное мероприятие 4. | C67: 525.1 | D67: 0 | E67: 112.5 | F67: 412.6 | G67: 0
B68: Подпрограмма "Архивная служба Лямбирского муниципального района"
B69: Расходы на обеспечение деятельности (оказание услуг) муниципальных учреждений Республики Мордовия | C69: 525.1 | D69: 0 | E69: 112.5 | F69: 412.6 | G69: 0
B70: Основное мероприятие 5."Сохранение, возрождение и развитие традиционной татарской культуры" | C70: 506.77 | D70: 0 | E70: 0 | F70: 506.77 | G70: 0
B71: Подпрограмма "Развитие татарской культуры. Возрождение национальных традиций"
B72: Расходы на обеспечение деятельности (оказание услуг) муниципальных учреждений Республики Мордовия | C72: 506.77 | F72: 506.77
B73: Приложение №1 к приложению №2 Муниципальной программы «Развитие культуры и туризма Лямбирского муниципального района на период 2016-2025 годы» Перечень мероприятий по укреплению материально-технической базы учреждений культуры Лямбирского муниципального района
B74: Повышение квалификации Подпрограмма "Организация досуга населения" | C74: 12 | F74: 12
B75: Повышение квалификации Подпрограмма "Библиотека: районный информационный центр" | C75: 6 | F75: 6
B76: Повышение квалификации Подпрограмма "Развитие.Творчество" | C76: 6 | F76: 6
B77: Исследование материалов для дальнейшей эксплуатации здания Подпрограмма "Организация досуга населения" | C77: 99.95 | F77: 99.95
B78: Публикация в журнале о реорганизации Подпрограмма "Организация досуга населения" | C78: 71.8456 | F78: 71.8456
B79: Приобретение музыкальной аппаратуры Подпрограмма "Организация досуга населения" | C79: 140 | F79: 140
B80: Установка виеонаблюдения в филиале с.Аксеново Подпрограмма "Организация досуга населения" | C80: 60 | F80: 60
B81: Проведение инженерно-геодезическихиспытаний Подпрограмма "Организация досуга населения" | C81: 99.12 | F81: 99.12
B82: Осуществление авторского надзора Подпрограмма "Организация досуга населения" | C82: 16.7 | F82: 16.7
B83: Подключение общедоступных библиотек Российской Федерации к сети "Интернет" и развитие системы библиотечнго дела с учетом задачи расширения информационных технологий и оцифровки | C83: 152.585 | D83: 102.72 | E83: 48.339 | F83: 1.526
B84: Комплектование книжных фондов муниципальных общедоступных библиотек | C84: 14.467 | D84: 9.738 | E84: 4.584 | F84: 0.145
B85: Приобретение ПО Подпрограмма "Библиотека: районный информационный центр" | C85: 104.737 | E85: 99.5 | F85: 5.237
B86: Гос.поддержка муниципальных учреждений культуры находящихся на территории сельских поселений Подпрограмма "Организация досуга населения" | C86: 148.542 | D86: 100 | E86: 47.057 | F86: 1.485
B87: Гос.поддержка учреждений культуры на укрепление материально-технической базы Подпрограмма "Организация досуга населения" | C87: 84.211 | E87: 80 | F87: 4.211
B88: Стройконтроль по объекту "Стадион" Подпрограмма "Организация досуга населения" | C88: 24.3 | F88: 24.3
B89: Текущий ремонт здания Подпрограмма "Развитие.Творчество" | C89: 626.08 | F89: 626.08
B90: Итого по Подпрограмма "Организация досуга населения" за 2017 г. (тыс.руб.) | C90: 572.873 | D90: 100 | E90: 127.057 | F90: 345.816 | G90: 0
B91: Итого по Подпрограмма "Библиотека: районный информационный центр" за 2017 г. (тыс.руб.) | C91: 271.789 | D91: 112.458 | E91: 152.423 | F91: 6.908 | G91: 0
B92: Итого по Подпрограмма "Развитие.Творчество" за 2017 г. (тыс.руб.) | C92: 632.08 | D92: 0 | E92: 0 | F92: 632.08 | G92: 0
B93: ВСЕГО по приложению №1 Перечень мероприятий по укреплению материально-технической базы учреждений укультуры Лямбирского муниципального района за 2017 г. (тыс. руб.) | C93: 1476.742 | D93: 212.458 | E93: 279.48 | F93: 984.804 | G93: 0
B94: Итого за 2017 г. (тыс. руб.) | C94: 45688.258 | D94: 477.36 | E94: 618.997 | F94: 44591.901 | G94: 0
B95: 2018
B96: Основное мероприятие 1. "Развитие дополнительного образования" | C96: 24967 | D96: 0 | E96: 0 | F96: 24967 | G96: 0
B97: Подпрограмма "Развитие.Творчество"
B98: 1.1.Расходы на обеспечение деятельности (оказание услуг)муниципальных учреждений | C98: 24927 | F98: 24927
B99: 1.2.Субсидии бюджетным учреждениям на иные цели | C99: 40 | F99: 40
B100: Основное мероприятие 2. "Развитие исполнительских искусств" | C100: 10196.52 | D100: 50 | E100: 232.5 | F100: 9914.0205 | G100: 0
B101: Подпрограмма "Организация досуга населения"
B102: 2.1. Субсидии автономным учреждениям на финансовое обеспечение государственного (муниципального) задания на оказание государственных (муниципальных) услуг (выполнение работ) | C102: 8497.31 | F102: 8497.31
B103: 2.2.Субсидии автономным учреждениям на иные цели | C103: 581.079 | E103: 220 | F103: 361.079
B104: 2.3. Софинансирование расходных обязательств по укреплению материально-технической базы учреждений культуры | C104: 0
B105: 2.4.Cубсидии на осуществление капитальных вложений в объекты капитального строительства государственной (муниципальной) собственности автономным учреждениям | C105: 1055 | F105: 1055
B106: 2.5.Государственная поддержка лучших работников сельских учреждений культуры | C106: 63.1315 | D106: 50 | E106: 12.5 | F106: 0.6315
...

Sheet 2020-2022 в разб
A1: Муниципальная программа Развитие образования на 2018-2020 гг. (в разбивке по годам)
A5: Наименование основных направлений (сфер, отраслей) социально-экономического развития, в рамках которых планируется разработка программных мероприятий | B5: Перечень мероприятий (объектов), планируемых к реализации с характеристикой основных параметров (площадь, мощность, количество мест, посещений в смену и др.) | C5: Объем финансирования всего, тыс.руб. | D5: в том числе по источникам финансирования | H5: Срок исполнения | I5: Кроме того, стоимость разработки проектно-сметной документации, тыс.руб. | J5: Ответственный исполнитель (соисполнитель, участник) | K5: Наименование муниципальной программы, в рамках которой планируется реализация мероприятия | L5: Примечание (наличие ПСД, обоснованность включения мероприятия в программу, указать орган исполнительной власти, согласовавший объект)
D6: федеральный бюджет | E6: республиканский бюджет | F6: местный бюджет | G6: прочие источники
B7: 2020
B8: Основное мероприятие 1. Развитие дошкольного образования | C8: =D8+E8+F8+G8 -> #REF! | D8: =D9+D10+D11 -> 10.668 | E8: =E9+E10+E11 -> #REF! | F8: =F9+F10+F11 -> #REF! | G8: =G9+G10+G11 -> 0 | H8: =H9+H10+H11 -> 0 | I8: =I9+I10+I11 -> 517 | J8: Заместитель Главы Лямбирского муниципального района по социальным вопросам М.В. Левин | K8: Муниципальная программа "Развитие образования в Лямбирском муниципальном районе на 2016-2020 г.г."
B9: 1.1.Обеспечение государственных гарантий реализации прав на получение общедоступного и бесплатного дошкольного образования в муниципальных дошкольных образовательных учреждениях, включая расходы на оплату труда и начисления на выплаты по оплате труда. | C9: =D9+E9+F9+G9 -> 2.67485 | E9: ='2016-2025 МЕРОПРИЯТИЯ В РАЗБИВК'!E176 -> 2.54625 | F9: ='2016-2025 МЕРОПРИЯТИЯ В РАЗБИВК'!F176 -> 0.1286
B10: 1.2.Укрепление материально-технической базы муниципальных дошкольных образовательных учреждений (приложение №1 к приложению №2 Муниципальной программы «Развитие образования Лямбирского муниципального района на период 2016-2020 годы». | C10: =D10+E10+F10+G10 -> #REF! | D10: =D40 -> 10.668 | E10: ='2016-2025 МЕРОПРИЯТИЯ В РАЗБИВК'!#REF! -> #REF! | F10: ='2016-2025 МЕРОПРИЯТИЯ В РАЗБИВК'!#REF! -> #REF! | G10: =G40 -> 0 | H10: =H40 -> 0 | I10: =I40 -> 517
B11: 1.3.Обеспечение деятельности муниципальных дошкольных образовательных учреждений и их безопасности, содержания имущества. | C11: =D11+E11+F11+G11 -> 30.3 | E11: ='2016-2025 МЕРОПРИЯТИЯ В РАЗБИВК'!E99 -> 0 | F11: ='2016-2025 МЕРОПРИЯТИЯ В РАЗБИВК'!F177 -> 30.3
B12: Основное мероприятие 2. Развитие общего образования | C12: =D12+E12+F12+G12 -> 4095.3884 | D12: =D13+D14+D15+D16 -> 0 | E12: =E13+E14+E15+E16 -> 2472.3257 | F12: =F13+F14+F15+F16 -> 1623.0627 | G12: =G13+G14+G15+G16 -> 0 | H12: =H13+H14+H15+H16 -> 0 | I12: =I13+I14+I15+I16 -> 1157
B13: 2.1. Обеспечение государственных гарантий реализации прав на получение общедоступного и бесплатного начального общего, основного общего, среднего общего образования в муниципальных общеобразовательных учреждениях. | C13: =D13+E13+F13+G13 -> 43.8565 | E13: ='2016-2025 МЕРОПРИЯТИЯ В РАЗБИВК'!E179 -> 43.8565
B14: 2.2.Укрепление материально-технической базы муниципальных общеобразовательных учреждений (приложение №1 к приложению №2 Муниципальной программы «Развитие образования Лямбирского муниципального района на период 2016-2020 годы». | C14: =D14+E14+F14+G14 -> 30.3 | D14: ='2016-2025 МЕРОПРИЯТИЯ В РАЗБИВК'!D180 -> 0 | E14: ='2016-2025 МЕРОПРИЯТИЯ В РАЗБИВК'!E180 -> 0 | F14: ='2016-2025 МЕРОПРИЯТИЯ В РАЗБИВК'!F180 -> 30.3 | G14: =G41 -> 0 | H14: =H41 -> 0 | I14: =I41 -> 1157
B15: 2.3. Обеспечение деятельности муниципальных общеобразовательных учреждений и их безопасности, содержания имущества. | C15: =D15+E15+F15+G15 -> 1319.1192 | E15: ='2016-2025 МЕРОПРИЯТИЯ В РАЗБИВК'!E181 -> 781.3565 | F15: ='2016-2025 МЕРОПРИЯТИЯ В РАЗБИВК'!F181 -> 537.76267
B16: 2.4.Обеспечение организации питания обучающихся из малоимущих семей. | C16: =D16+E16+F16+G16 -> 2702.1128 | E16: ='2016-2025 МЕРОПРИЯТИЯ В РАЗБИВК'!E182 -> 1647.1128 | F16: ='2016-2025 МЕРОПРИЯТИЯ В РАЗБИВК'!F105 -> 1055
B17: Основное мероприятие 3. Развитие дополнительного образования детей | C17: =C18 -> 529.757 | D17: =D18 -> 192.713 | E17: =E18 -> 48.179 | F17: =F18 -> 288.865 | G17: =G18 -> 0
B18: 3.1. Организация предоставления дополнительного образования детей в Лямбирском муниципальном районе. | C18: =D18+E18+F18+G18 -> 529.757 | D18: ='2016-2025 МЕРОПРИЯТИЯ В РАЗБИВК'!D107 -> 192.713 | E18: ='2016-2025 МЕРОПРИЯТИЯ В РАЗБИВК'!E107 -> 48.179 | F18: ='2016-2025 МЕРОПРИЯТИЯ В РАЗБИВК'!F187 -> 288.865
B19: Основное мероприятие 4. Муниципальная поддержка лучших творческих педагогических работников образовательных учреждений и способной, талантливой молодежи | C19: =SUM(C20:C22) -> 30839.359 | D19: =SUM(D20:D22) -> 0 | E19: =SUM(E20:E22) -> 0 | F19: =SUM(F20:F22) -> 30839.359 | G19: =SUM(G20:G22) -> 0
B20: 4.1.Поощрение лучших педагогических работников дошкольных образовательных учреждений в рамках приоритетного национального проекта «Образование». | C20: =SUM(D20:G20) -> 26882.778 | F20: ='2016-2025 МЕРОПРИЯТИЯ В РАЗБИВК'!F190 -> 26882.778
B21: 4.2.Поощрение лучших творческих и талантливых учителей образовательных учреждений в рамках приоритетного национального проекта «Образование» | C21: =SUM(D21:G21) -> 3877.0354 | F21: ='2016-2025 МЕРОПРИЯТИЯ В РАЗБИВК'!F191 -> 3877.0354
B22: 4.3.Поддержка способной и талантливой молодежи в рамках приоритетного национального проекта «Образование» | C22: =SUM(D22:G22) -> 79.54546 | F22: ='2016-2025 МЕРОПРИЯТИЯ В РАЗБИВК'!F192 -> 79.54546
B23: Основное мероприятие 5. Реализация моделей получения качественного дошкольного, общего и дополнительного образования детьми-инвалидами и лицами с ограниченными возможностями здоровья | C23: =SUM(D23:G23) -> 0.6315 | D23: =D24 -> 0 | E23: =E24 -> 0 | F23: =F24 -> 0.6315 | G23: 0
B24: Создание условий для получения образования детей с ограниченными возможностями здоровья. | C24: =D24+E24+F24 -> 0.6315 | D24: ='2016-2025 МЕРОПРИЯТИЯ В РАЗБИВК'!D194 -> 0 | E24: ='2016-2025 МЕРОПРИЯТИЯ В РАЗБИВК'!E194 -> 0 | F24: ='2016-2025 МЕРОПРИЯТИЯ В РАЗБИВК'!F194 -> 0.6315 | G24: 0
B25: Основное мероприятие 6. Обеспечение деятельности МКУ « Центр информационно-методического обеспечения муниципальных образовательных учреждений Лямбирского муниципального района РМ» и реализация прочих мероприятий в области образования | C25: =C26 -> 11815.237 | D25: =D26 -> 0 | E25: =E26 -> 107.9 | F25: =F26 -> 11707.337 | G25: 0
B26: 6.1.Обеспечение деятельности МКУ «Центр информационно-методического обеспечения муниципальных образовательных учреждений Лямбирского муниципального района РМ» и реализация прочих мероприятий в области образования. | C26: =SUM(D26:G26) -> 11815.237 | D26: ='2016-2025 МЕРОПРИЯТИЯ В РАЗБИВК'!D117 -> 0 | E26: ='2016-2025 МЕРОПРИЯТИЯ В РАЗБИВК'!E117 -> 107.9 | F26: ='2016-2025 МЕРОПРИЯТИЯ В РАЗБИВК'!F196 -> 11707.337 | G26: 0
B27: Основное мероприятие 7. Организация отдыха, оздоровления и занятости детей и подростков | C27: =SUM(D27:G27) -> 11643.8 | D27: =D28 -> 0 | E27: =E28 -> 0 | F27: =F28 -> 11643.8 | G27: =G28 -> 0
B28: 7.1. Организация отдыха, оздоровления и занятости детей и подростков. | C28: =SUM(D28:G28) -> 11643.8 | D28: ='2016-2025 МЕРОПРИЯТИЯ В РАЗБИВК'!D198 -> 0 | E28: ='2016-2025 МЕРОПРИЯТИЯ В РАЗБИВК'!E198 -> 0 | F28: ='2016-2025 МЕРОПРИЯТИЯ В РАЗБИВК'!F198 -> 11643.8
B29: Основное мероприятие 8. Создание условий, обеспечивающих успешную социализацию детей, оставшихся без попечения родителей,находящихся в трудной жизненной ситуации | C29: =SUM(D29:G29) -> 0 | D29: =D30 -> 0 | E29: =E30 -> 0 | F29: =F30 -> 0 | G29: =G30 -> 0
B30: 8.1.Реализация государственных полномочий по оплате труда приемных родителей, проживающих на территории Республики Мордовия и выплате ежемесячного денежного пособия опекуну (попечителю), приемному родителю на содержание ребенка, находящегося под опекой (попечительством), в приемной семье в Республике Мордовия. | C30: =SUM(D30:G30) -> 0 | D30: ='2016-2025 МЕРОПРИЯТИЯ В РАЗБИВК'!D121 -> 0 | E30: ='2016-2025 МЕРОПРИЯТИЯ В РАЗБИВК'!E200 -> 0 | F30: ='2016-2025 МЕРОПРИЯТИЯ В РАЗБИВК'!F121 -> 0
B31: Приложение №1 к приложению №2 Муниципальной программы «Развитие образования Лямбирского муниципального района на период 2016-2020 годы» Перечень мероприятий по укреплению материально-технической базы образовательных учреждений Лямбирского муниципального района
B32: Строительство МОУ "Аксеновская СОШ" на 165 мест | C32: =D32+E32+F32+G32 -> 0 | D32: ='2016-2025 МЕРОПРИЯТИЯ В РАЗБИВК'!D209 -> 0 | E32: ='2016-2025 МЕРОПРИЯТИЯ В РАЗБИВК'!E209 -> 0 | F32: ='2016-2025 МЕРОПРИЯТИЯ В РАЗБИВК'!F209 -> 0 | G32: 0 | I32: 1100 | L32: ПСД имеется
D33: ='2016-2025 МЕРОПРИЯТИЯ В РАЗБИВК'!D126 -> 0 | L33: ПСД отсутствует
C34: =D34+E34+F34+G34 -> 0 | I34: 512 | L34: ПСД имеется
C35: =D35+E35+F35+G35 -> 0 | I35: 57 | L35: ПСД имеется
L36: ПСД имеется
L37: ПСД имеется
L38: ПСД имеется
C39: =D39+E39+F39+G39 -> 0 | I39: 5 | L39: ПСД имеется
B40: Итого по укреплению МТБ МДОУ за 2020 г. (тыс.руб.) | C40: =C34+C39 -> 0 | D40: ='2016-2025 МЕРОПРИЯТИЯ В РАЗБИВК'!D133 -> 10.668 | E40: ='2016-2025 МЕРОПРИЯТИЯ В РАЗБИВК'!E133 -> 2.669 | F40: ='2016-2025 МЕРОПРИЯТИЯ В РАЗБИВК'!F133 -> 0.135 | G40: =G34+G39 -> 0 | H40: =H34+H39 -> 0 | I40: =I34+I39 -> 517 | L40: ПСД имеется
B41: Итого по укреплению МТБ МОУ за 2020 г. (тыс.руб.) | C41: =C35+C32 -> 0 | D41: ='2016-2025 МЕРОПРИЯТИЯ В РАЗБИВК'!D134 -> 0 | E41: ='2016-2025 МЕРОПРИЯТИЯ В РАЗБИВК'!E134 -> 99.5 | F41: ='2016-2025 МЕРОПРИЯТИЯ В РАЗБИВК'!F134 -> 5.237 | G41: =G35+G32 -> 0 | H41: =H35+H32 -> 0 | I41: =I35+I32 -> 1157
B42: ВСЕГО по приложению №1 Перечень мероприятий по укреплению материально-технической базы образовательных учреждений Лямбирского муниципального района за 2018 г. (тыс. руб.) | C42: =C40+C41 -> 0 | D42: =D40+D41 -> 10.668 | E42: =E40+E41 -> 102.169 | F42: =F40+F41 -> 5.372 | G42: =G40+G41 -> 0 | H42: =H40+H41 -> 0 | I42: =I40+I41 -> 1674
B43: Итого за 2018 г. (тыс. руб.) | C43: =C8+C12+C17+C19+C23+C25+C27+C29 -> #REF! | D43: =D8+D12+D17+D19+D23+D25+D27+D29 -> 203.381 | E43: =E8+E12+E17+E19+E23+E25+E27+E29 -> #REF! | F43: =F8+F12+F17+F19+F23+F25+F27+F29 -> #REF! | G43: =G8+G12+G17+G19+G23+G25+G27+G29 -> 0 | H43: =H8+H12+H17+H19+H23+H25+H27+H29 -> 0 | I43: =I8+I12+I17+I19+I23+I25+I27+I29 -> 1674
B44: 2021
B45: Основное мероприятие 1. Развитие дошкольного образования | C45: =C46+C47+C48 -> #REF! | D45: =D46+D47+D48 -> 169.98487 | E45: =E46+E47+E48 -> 42.49622 | F45: =F46+F47+F48 -> 246.64646 | G45: =G46+G47+G48 -> #REF! | H45: =H46+H47+H48 -> #REF! | I45: =I46+I47+I48 -> #REF!
B46: 1.1.Обеспечение государственных гарантий реализации прав на получение общедоступного и бесплатного дошкольного образования в муниципальных дошкольных образовательных учреждениях, включая расходы на оплату труда и начисления на выплаты по оплате труда. | C46: =D46+E46+F46+G46 -> 307.6315 | D46: ='2016-2025 МЕРОПРИЯТИЯ В РАЗБИВК'!D136 -> 50 | E46: ='2016-2025 МЕРОПРИЯТИЯ В РАЗБИВК'!E229 -> 12.5 | F46: ='2016-2025 МЕРОПРИЯТИЯ В РАЗБИВК'!F136 -> 245.1315
B47: 1.2.Укрепление материально-технической базы муниципальных дошкольных образовательных учреждений (приложение №1 к приложению №2 Муниципальной программы «Развитие образования Лямбирского муниципального района на период 2016-2020 годы». | C47: =D47+E47+F47+G47 -> #REF! | D47: ='2016-2025 МЕРОПРИЯТИЯ В РАЗБИВК'!D230 -> 119.98487 | E47: ='2016-2025 МЕРОПРИЯТИЯ В РАЗБИВК'!E230 -> 29.99622 | F47: ='2016-2025 МЕРОПРИЯТИЯ В РАЗБИВК'!F230 -> 1.51496 | G47: =G69 -> #REF! | H47: =H69 -> #REF! | I47: =I69 -> #REF!
B48: 1.3.Обеспечение деятельности муниципальных дошкольных образовательных учреждений и их безопасности, содержания имущества. | C48: =D48+E48+F48+G48 -> 0 | D48: ='2016-2025 МЕРОПРИЯТИЯ В РАЗБИВК'!D138 -> 0 | E48: ='2016-2025 МЕРОПРИЯТИЯ В РАЗБИВК'!E231 -> 0 | F48: ='2016-2025 МЕРОПРИЯТИЯ В РАЗБИВК'!F231 -> 0
B49: Основное мероприятие 2. Развитие общего образования | C49: =C50+C51+C52+C53 -> 79402 | D49: =D50+D51+D52+D53 -> 16603.615 | E49: =E50+E51+E52+E53 -> 33726.808 | F49: =F50+F51+F52+F53 -> 29071.578 | G49: =G50+G51+G52+G53 -> 0 | H49: =H50+H51+H52+H53 -> #REF! | I49: =I50+I51+I52+I53 -> #REF!
B50: 2.1. Обеспечение государственных гарантий реализации прав на получение общедоступного и бесплатного начального общего, основного общего, среднего общего образования в муниципальных общеобразовательных учреждениях. | C50: =D50+E50+F50+G50 -> 37088.041 | D50: ='2016-2025 МЕРОПРИЯТИЯ В РАЗБИВК'!D234 -> 16333.63 | E50: ='2016-2025 МЕРОПРИЯТИЯ В РАЗБИВК'!E234 -> 16795.908 | F50: ='2016-2025 МЕРОПРИЯТИЯ В РАЗБИВК'!F234 -> 3958.5038
B51: 2.2.Укрепление материально-технической базы муниципальных общеобразовательных учреждений (приложение №1 к приложению №2 Муниципальной программы «Развитие образования Лямбирского муниципального района на период 2016-2020 годы». | C51: =D51+E51+F51+G51 -> 400.89017 | D51: ='2016-2025 МЕРОПРИЯТИЯ В РАЗБИВК'!D235 -> 269.98487 | E51: ='2016-2025 МЕРОПРИЯТИЯ В РАЗБИВК'!E235 -> 67.49622 | F51: ='2016-2025 МЕРОПРИЯТИЯ В РАЗБИВК'!F235 -> 63.40908 | G51: ='2016-2025 МЕРОПРИЯТИЯ В РАЗБИВК'!G142 -> 0 | H51: ='2016-2025 МЕРОПРИЯТИЯ В РАЗБИВК'!#REF! -> #REF! | I51: ='2016-2025 МЕРОПРИЯТИЯ В РАЗБИВК'!#REF! -> #REF!
B52: 2.3. Обеспечение деятельности муниципальных общеобразовательных учреждений и их безопасности, содержания имущества. | C52: =D52+E52+F52+G52 -> 288.865 | D52: ='2016-2025 МЕРОПРИЯТИЯ В РАЗБИВК'!D236 -> 0 | E52: ='2016-2025 МЕРОПРИЯТИЯ В РАЗБИВК'!E236 -> 0 | F52: ='2016-2025 МЕРОПРИЯТИЯ В РАЗБИВК'!F236 -> 288.865
B53: 2.4.Обеспечение организации питания обучающихся из малоимущих семей. | C53: =D53+E53+F53+G53 -> 41624.204 | D53: ='2016-2025 МЕРОПРИЯТИЯ В РАЗБИВК'!D144 -> 0 | E53: ='2016-2025 МЕРОПРИЯТИЯ В РАЗБИВК'!E237 -> 16863.404 | F53: ='2016-2025 МЕРОПРИЯТИЯ В РАЗБИВК'!F144 -> 24760.8
B54: Основное мероприятие 3. Развитие дополнительного образования детей | C54: =C55 -> #REF! | D54: =D55 -> #REF! | E54: =E55 -> #REF! | F54: =F55 -> #REF! | G54: =G55 -> 0 | H54: =H55 -> 0 | I54: =I55 -> 0
B55: 3.1. Организация предоставления дополнительного образования детей в Лямбирском муниципальном районе. | C55: =D55+E55+F55+G55 -> #REF! | D55: ='2016-2025 МЕРОПРИЯТИЯ В РАЗБИВК'!#REF! -> #REF! | E55: ='2016-2025 МЕРОПРИЯТИЯ В РАЗБИВК'!#REF! -> #REF! | F55: ='2016-2025 МЕРОПРИЯТИЯ В РАЗБИВК'!#REF! -> #REF!
B56: Основное мероприятие 4. Муниципальная поддержка лучших творческих педагогических работников образовательных учреждений и способной, талантливой молодежи | C56: =C57+C58+C59 -> #REF! | D56: =D57+D58+D59 -> 2800 | E56: =E57+E58+E59 -> 700 | F56: =F57+F58+F59 -> #REF! | G56: =G57+G58+G59 -> 0 | H56: =H57+H58+H59 -> 0 | I56: =I57+I58+I59 -> 0
B57: 4.1.Поощрение лучших педагогических работников дошкольных образовательных учреждений в рамках приоритетного национального проекта «Образование». | C57: =D57+E57+F57+G57 -> #REF! | D57: ='2016-2025 МЕРОПРИЯТИЯ В РАЗБИВК'!D148 -> 0 | E57: ='2016-2025 МЕРОПРИЯТИЯ В РАЗБИВК'!E148 -> 0 | F57: ='2016-2025 МЕРОПРИЯТИЯ В РАЗБИВК'!#REF! -> #REF!
B58: 4.2.Поощрение лучших творческих и талантливых учителей образовательных учреждений в рамках приоритетного национального проекта «Образование» | C58: =D58+E58+F58+G58 -> #REF! | D58: ='2016-2025 МЕРОПРИЯТИЯ В РАЗБИВК'!D149 -> 0 | E58: ='2016-2025 МЕРОПРИЯТИЯ В РАЗБИВК'!E149 -> 0 | F58: ='2016-2025 МЕРОПРИЯТИЯ В РАЗБИВК'!#REF! -> #REF!
B59: 4.3.Поддержка способной и талантливой молодежи в рамках приоритетного национального проекта «Образование» | C59: =D59+E59+F59+G59 -> #REF! | D59: ='2016-2025 МЕРОПРИЯТИЯ В РАЗБИВК'!D150 -> 2800 | E59: ='2016-2025 МЕРОПРИЯТИЯ В РАЗБИВК'!E150 -> 700 | F59: ='2016-2025 МЕРОПРИЯТИЯ В РАЗБИВК'!#REF! -> #REF!
B60: Основное мероприятие 5. Реализация моделей получения качественного дошкольного, общего и дополнительного образования детьми-инвалидами и лицами с ограниченными возможностями здоровья | C60: =C61 -> #REF! | D60: =D61 -> 50 | E60: =E61 -> 12.5 | F60: =F61 -> #REF! | G60: =G61 -> 0 | H60: =H61 -> 0 | I60: =I61 -> 0
B61: Создание условий для получения образования детей с ограниченными возможностями здоровья. | C61: =D61+E61+F61+G61 -> #REF! | D61: ='2016-2025 МЕРОПРИЯТИЯ В РАЗБИВК'!D152 -> 50 | E61: ='2016-2025 МЕРОПРИЯТИЯ В РАЗБИВК'!E152 -> 12.5 | F61: ='2016-2025 МЕРОПРИЯТИЯ В РАЗБИВК'!#REF! -> #REF! | G61: 0
B62: Основное мероприятие 6. Обеспечение деятельности МКУ « Центр информационно-методического обеспечения муниципальных образовательных учреждений Лямбирского муниципального района РМ» и реализация прочих мероприятий в области образования | C62: =C63 -> #REF! | D62: =D63 -> 0 | E62: =E63 -> 0 | F62: =F63 -> #REF! | G62: =G63 -> 0 | H62: =H63 -> 0 | I62: =I63 -> 0
B63: 6.1.Обеспечение деятельности МКУ «Центр информационно-методического обеспечения муниципальных образовательных учреждений Лямбирского муниципального района РМ» и реализация прочих мероприятий в области образования. | C63: =D63+E63+F63+G63 -> #REF! | D63: ='2016-2025 МЕРОПРИЯТИЯ В РАЗБИВК'!D155 -> 0 | E63: ='2016-2025 МЕРОПРИЯТИЯ В РАЗБИВК'!E155 -> 0 | F63: ='2016-2025 МЕРОПРИЯТИЯ В РАЗБИВК'!#REF! -> #REF!
B64: Основное мероприятие 7. Организация отдыха, оздоровления и занятости детей и подростков | C64: =C65 -> #REF! | D64: =D65 -> 115.241 | E64: =E65 -> #REF! | F64: =F65 -> #REF! | G64: =G65 -> 0 | H64: =H65 -> 0 | I64: =I65 -> 0
B65: 7.1. Организация отдыха, оздоровления и занятости детей и подростков. | C65: =D65+E65+F65+G65 -> #REF! | D65: ='2016-2025 МЕРОПРИЯТИЯ В РАЗБИВК'!D157 -> 115.241 | E65: ='2016-2025 МЕРОПРИЯТИЯ В РАЗБИВК'!#REF! -> #REF! | F65: ='2016-2025 МЕРОПРИЯТИЯ В РАЗБИВК'!#REF! -> #REF!
B66: Основное мероприятие 8. Создание условий, обеспечивающих успешную социализацию детей, оставшихся без попечения родителей,находящихся в трудной жизненной ситуации | C66: =C67 -> #REF! | D66: =D67 -> 0 | E66: =E67 -> #REF! | F66: =F67 -> 0 | G66: =G67 -> 0 | H66: =H67 -> 0 | I66: =I67 -> 0
B67: 8.1.Реализация государственных полномочий по оплате труда приемных родителей, проживающих на территории Республики Мордовия и выплате ежемесячного денежного пособия опекуну (попечителю), приемному родителю на содержание ребенка, находящегося под опекой (попечительством), в приемной семье в Республике Мордовия. | C67: =D67+E67+F67+G67 -> #REF! | D67: ='2016-2025 МЕРОПРИЯТИЯ В РАЗБИВК'!D159 -> 0 | E67: ='2016-2025 МЕРОПРИЯТИЯ В РАЗБИВК'!#REF! -> #REF! | F67: ='2016-2025 МЕРОПРИЯТИЯ В РАЗБИВК'!F159 -> 0
B68: Приложение №1 к приложению №2 Муниципальной программы «Развитие образования Лямбирского муниципального района на период 2016-2020 годы» Перечень мероприятий по укреплению материально-технической базы образовательных учреждений Лямбирского муниципального района
B69: Итого по укреплению МТБ МДОУ за 2019 г. (тыс.руб.) | C69: =SUM(D69:F69) -> 151.49605 | D69: =D47 -> 119.98487 | E69: =E47 -> 29.99622 | F69: =F47 -> 1.51496 | G69: ='2016-2025 МЕРОПРИЯТИЯ В РАЗБИВК'!#REF! -> #REF! | H69: =#REF!+#REF!+#REF!+#REF!+#REF! -> #REF! | I69: =#REF!+#REF!+#REF!+#REF!+#REF! -> #REF!
B70: Итого по укреплению МТБ МОУ за 2019 г. (тыс.руб.) | C70: =SUM(D70:F70) -> 400.89017 | D70: =D51 -> 269.98487 | E70: =E51 -> 67.49622 | F70: =F51 -> 63.40908 | G70: ='2016-2025 МЕРОПРИЯТИЯ В РАЗБИВК'!G171 -> 0 | H70: =H71-H69 -> #REF! | I70: =I71-I69 -> #REF!
B71: ВСЕГО по приложению №1 Перечень мероприятий по укреплению материально-технической базы образовательных учреждений Лямбирского муниципального района за 2019 г. (тыс. руб.) | C71: =C69+C70 -> 552.38622 | D71: =D69+D70 -> 389.96974 | E71: =E69+E70 -> 97.49244 | F71: =F69+F70 -> 64.92404 | G71: =SUM(#REF!) -> #REF! | H71: =SUM(#REF!) -> #REF! | I71: =SUM(#REF!) -> #REF!
B72: Итого за 2019 г. (тыс. руб.) | C72: =C66+C64+C62+C60+C56+C54+C49+C45 -> #REF! | D72: =D66+D64+D62+D60+D56+D54+D49+D45 -> #REF! | E72: =E66+E64+E62+E60+E56+E54+E49+E45 -> #REF! | F72: =F66+F64+F62+F60+F56+F54+F49+F45 -> #REF! | G72: =G66+G64+G62+G60+G56+G54+G49+G45 -> #REF! | H72: =H66+H64+H62+H60+H56+H54+H49+H45 -> #REF! | I72: =I66+I64+I62+I60+I56+I54+I49+I45 -> #REF!
B73: 2022
B74: Основное мероприятие 1. Развитие дошкольного образования | C74: =C75+C76+C77 -> #REF! | D74: =D75+D76+D77 -> #REF! | E74: =E75+E76+E77 -> #REF! | F74: =F75+F76+F77 -> #REF! | G74: =G75+G76+G77 -> 0 | H74: =H75+H76+H77 -> 0 | I74: =I75+I76+I77 -> #REF!
B75: 1.1.Обеспечение государственных гарантий реализации прав на получение общедоступного и бесплатного дошкольного образования в муниципальных дошкольных образовательных учреждениях, включая расходы на оплату труда и начисления на выплаты по оплате труда. | C75: =D75+E75+F75+G75 -> #REF! | D75: ='2016-2025 МЕРОПРИЯТИЯ В РАЗБИВК'!D176 -> 10.185 | E75: =#REF! -> #REF! | F75: ='2016-2025 МЕРОПРИЯТИЯ В РАЗБИВК'!F176 -> 0.1286
B76: 1.2.Укрепление материально-технической базы муниципальных дошкольных образовательных учреждений (приложение №1 к приложению №2 Муниципальной программы «Развитие образования Лямбирского муниципального района на период 2016-2020 годы». | C76: =D76+E76+F76+G76 -> #REF! | D76: ='2016-2025 МЕРОПРИЯТИЯ В РАЗБИВК'!#REF! -> #REF! | E76: =#REF! -> #REF! | F76: ='2016-2025 МЕРОПРИЯТИЯ В РАЗБИВК'!#REF! -> #REF! | G76: =G98 -> 0 | I76: =I98 -> #REF!
B77: 1.3.Обеспечение деятельности муниципальных дошкольных образовательных учреждений и их безопасности, содержания имущества. | C77: =D77+E77+F77+G77 -> #REF! | D77: ='2016-2025 МЕРОПРИЯТИЯ В РАЗБИВК'!D177 -> 0 | E77: =#REF! -> #REF! | F77: =#REF! -> #REF!
B78: Основное мероприятие 2. Развитие общего образования | C78: =C79+C80+C81+C82 -> #REF! | D78: =D79+D80+D81+D82 -> #REF! | E78: =E79+E80+E81+E82 -> #REF! | F78: =F79+F80+F81+F82 -> #REF! | G78: =G79+G80+G81+G82 -> 0
B79: 2.1. Обеспечение государственных гарантий реализации прав на получение общедоступного и бесплатного начального общего, основного общего, среднего общего образования в муниципальных общеобразовательных учреждениях. | C79: =D79+E79+F79+G79 -> #REF! | D79: ='2016-2025 МЕРОПРИЯТИЯ В РАЗБИВК'!D179 -> 175.426 | E79: =#REF! -> #REF! | F79: ='2016-2025 МЕРОПРИЯТИЯ В РАЗБИВК'!F179 -> 2.21517
B80: 2.2.Укрепление материально-технической базы муниципальных общеобразовательных учреждений (приложение №1 к приложению №2 Муниципальной программы «Развитие образования Лямбирского муниципального района на период 2016-2020 годы». | C80: =D80+E80+F80+G80 -> #REF! | D80: =#REF! -> #REF! | E80: =#REF! -> #REF! | F80: =#REF! -> #REF! | G80: =G99 -> 0 | I80: =I99 -> #REF!
B81: 2.3. Обеспечение деятельности муниципальных общеобразовательных учреждений и их безопасности, содержания имущества. | C81: =D81+E81+F81+G81 -> #REF! | D81: ='2016-2025 МЕРОПРИЯТИЯ В РАЗБИВК'!D181 -> 3125.426 | E81: =#REF! -> #REF! | F81: =#REF! -> #REF!
B82: 2.4.Обеспечение организации питания обучающихся из малоимущих семей. | C82: =D82+E82+F82+G82 -> #REF! | D82: ='2016-2025 МЕРОПРИЯТИЯ В РАЗБИВК'!D182 -> 6250.852 | E82: =#REF! -> #REF! | F82: ='2016-2025 МЕРОПРИЯТИЯ В РАЗБИВК'!F182 -> 50511.666
B83: Основное мероприятие 3. Развитие дополнительного образования детей | C83: =C84 -> #REF! | D83: =D84 -> 0 | E83: =E84 -> 0 | F83: =F84 -> #REF! | G83: =G84 -> 0
B84: 3.1. Организация предоставления дополнительного образования детей в Лямбирском муниципальном районе. | C84: =D84+E84+F84+G84 -> #REF! | D84: ='2016-2025 МЕРОПРИЯТИЯ В РАЗБИВК'!D187 -> 0 | E84: ='2016-2025 МЕРОПРИЯТИЯ В РАЗБИВК'!E187 -> 0 | F84: =#REF! -> #REF!
B85: Основное мероприятие 4. Муниципальная поддержка лучших творческих педагогических работников образовательных учреждений и способной, талантливой молодежи | C85: =C86+C87+C88 -> #REF! | D85: =D86+D87+D88 -> 16233.631 | E85: =E86+E87+E88 -> 16770.908 | F85: =F86+F87+F88 -> #REF! | G85: =G86+G87+G88 -> 0
B86: 4.1.Поощрение лучших педагогических работников дошкольных образовательных учреждений в рамках приоритетного национального проекта «Образование». | C86: =D86+E86+F86+G86 -> #REF! | D86: ='2016-2025 МЕРОПРИЯТИЯ В РАЗБИВК'!D190 -> 0 | E86: ='2016-2025 МЕРОПРИЯТИЯ В РАЗБИВК'!E190 -> 0 | F86: =#REF! -> #REF!
B87: 4.2.Поощрение лучших творческих и талантливых учителей образовательных учреждений в рамках приоритетного национального проекта «Образование» | C87: =D87+E87+F87+G87 -> #REF! | D87: ='2016-2025 МЕРОПРИЯТИЯ В РАЗБИВК'!D191 -> 9933.6312 | E87: ='2016-2025 МЕРОПРИЯТИЯ В РАЗБИВК'!E191 -> 15195.908 | F87: =#REF! -> #REF!
B88: 4.3.Поддержка способной и талантливой молодежи в рамках приоритетного национального проекта «Образование» | C88: =D88+E88+F88+G88 -> #REF! | D88: ='2016-2025 МЕРОПРИЯТИЯ В РАЗБИВК'!D192 -> 6300 | E88: ='2016-2025 МЕРОПРИЯТИЯ В РАЗБИВК'!E192 -> 1575 | F88: =#REF! -> #REF!
B89: Основное мероприятие 5. Реализация моделей получения качественного дошкольного, общего и дополнительного образования детьми-инвалидами и лицами с ограниченными возможностями здоровья | C89: =C90 -> #REF! | D89: =D90 -> #REF! | E89: =E90 -> #REF! | F89: =F90 -> #REF! | G89: =G90 -> 0
B90: Создание условий для получения образования детей с ограниченными возможностями здоровья. | C90: =D90+E90+F90+G90 -> #REF! | D90: ='2016-2025 МЕРОПРИЯТИЯ В РАЗБИВК'!#REF! -> #REF! | E90: ='2016-2025 МЕРОПРИЯТИЯ В РАЗБИВК'!#REF! -> #REF! | F90: ='2016-2025 МЕРОПРИЯТИЯ В РАЗБИВК'!#REF! -> #REF! | G90: 0
B91: Основное мероприятие 6. Обеспечение деятельности МКУ « Центр информационно-методического обеспечения муниципальных образовательных учреждений Лямбирского муниципального района РМ» и реализация прочих мероприятий в области образования | C91: =C92 -> #REF! | D91: =D92 -> 269.98487 | E91: =E92 -> 67.49622 | F91: =F92 -> #REF! | G91: =G92 -> 0
B92: 6.1.Обеспечение деятельности МКУ «Центр информационно-методического обеспечения муниципальных образовательных учреждений Лямбирского муниципального района РМ» и реализация прочих мероприятий в области образования. | C92: =D92+E92+F92+G92 -> #REF! | D92: ='2016-2025 МЕРОПРИЯТИЯ В РАЗБИВК'!D196 -> 269.98487 | E92: ='2016-2025 МЕРОПРИЯТИЯ В РАЗБИВК'!E196 -> 67.49622 | F92: =#REF! -> #REF!
B93: Основное мероприятие 7. Организация отдыха, оздоровления и занятости детей и подростков | C93: =C94 -> #REF! | D93: =D94 -> 0 | E93: =E94 -> #REF! | F93: =F94 -> #REF! | G93: =G94 -> 0
B94: 7.1. Организация отдыха, оздоровления и занятости детей и подростков. | C94: =D94+E94+F94+G94 -> #REF! | D94: ='2016-2025 МЕРОПРИЯТИЯ В РАЗБИВК'!D198 -> 0 | E94: =#REF! -> #REF! | F94: =#REF! -> #REF!
B95: Основное мероприятие 8. Создание условий, обеспечивающих успешную социализацию детей, оставшихся без попечения родителей,находящихся в трудной жизненной ситуации | C95: =C96 -> #REF! | D95: =D96 -> 0 | E95: =E96 -> #REF! | F95: =F96 -> 0.12786 | G95: =G96 -> 0
B96: 8.1.Реализация государственных полномочий по оплате труда приемных родителей, проживающих на территории Республики Мордовия и выплате ежемесячного денежного пособия опекуну (попечителю), приемному родителю на содержание ребенка, находящегося под опекой (попечительством), в приемной семье в Республике Мордовия. | C96: =D96+E96+F96+G96 -> #REF! | D96: ='2016-2025 МЕРОПРИЯТИЯ В РАЗБИВК'!D200 -> 0 | E96: ='2016-2025 МЕРОПРИЯТИЯ В РАЗБИВК'!#REF! -> #REF! | F96: ='2016-2025 МЕРОПРИЯТИЯ В РАЗБИВК'!F200 -> 0.12786 | G96: ='2016-2025 МЕРОПРИЯТИЯ В РАЗБИВК'!G200 -> 0
B97: Приложение №1 к приложению №2 Муниципальной программы «Развитие образования Лямбирского муниципального района на период 2016-2020 годы» Перечень мероприятий по укреплению материально-технической базы образовательных учреждений Лямбирского муниципального района | L97: ПСД отсутствует
B98: Итого по укреплению МТБ МДОУ за 2020 г. (тыс.руб.) | C98: =SUM(D98:G98) -> #REF! | D98: =D76 -> #REF! | E98: =E76 -> #REF! | F98: =F76 -> #REF! | G98: ='2016-2025 МЕРОПРИЯТИЯ В РАЗБИВК'!G210 -> 0 | H98: =#REF!+#REF!+#REF!+#REF! -> #REF! | I98: =#REF!+#REF!+#REF!+#REF! -> #REF!
B99: Итого по укреплению МТБ МОУ за 2020 г. (тыс.руб.) | C99: =SUM(D99:G99) -> #REF! | D99: =D80 -> #REF! | E99: =E80 -> #REF! | F99: =F80 -> #REF! | G99: ='2016-2025 МЕРОПРИЯТИЯ В РАЗБИВК'!G211 -> 0 | H99: =#REF! -> #REF! | I99: =#REF! -> #REF!
B100: ВСЕГО по приложению №1 Перечень мероприятий по укреплению материально-технической базы образовательных учреждений Лямбирского муниципального района за 2020 г. (тыс. руб.) | C100: =C98+C99 -> #REF! | D100: =D98+D99 -> #REF! | E100: =E98+E99 -> #REF! | F100: =F98+F99 -> #REF! | G100: =G98+G99 -> 0 | I100: =SUM(#REF!) -> #REF!
B101: Итого за 2020 г. (тыс. руб.) | C101: =C95+C93+C91+C89+C85+C83+C78+C74 -> #REF! | D101: =D95+D93+D91+D89+D85+D83+D78+D74 -> #REF! | E101: =E95+E93+E91+E89+E85+E83+E78+E74 -> #REF! | F101: =F95+F93+F91+F89+F85+F83+F78+F74 -> #REF! | G101: =G95+G93+G91+G89+G85+G83+G78+G74 -> 0 | H101: =H95+H93+H91+H89+H85+H83+H78+H74 -> 0 | I101: =I95+I93+I91+I89+I85+I83+I78+I74 -> #REF!
B102: Основное мероприятие 1. Развитие дошкольного образования ВСЕГО | C102: =SUM(C103:C105) -> #REF! | D102: =SUM(D103:D105) -> #REF! | E102: =SUM(E103:E105) -> #REF! | F102: =SUM(F103:F105) -> #REF! | G102: =SUM(G103:G105) -> #REF! | H102: =SUM(H103:H105) -> #REF! | I102: =SUM(I103:I105) -> #REF!
B103: 2020 | C103: =SUM(D103:F103) -> #REF! | D103: =D8 -> 10.668 | E103: =E8 -> #REF! | F103: =F8 -> #REF! | G103: =G8 -> 0 | H103: =H8 -> 0 | I103: =I8 -> 517
...

Sheet 2020-2022 итого
A1: Муниципальная программа Развитие образования на 2020-2022 гг. (СВОД)
A5: Наименование основных направлений (сфер, отраслей) социально-экономического развития, в рамках которых планируется разработка программных мероприятий | B5: Перечень мероприятий (объектов), планируемых к реализации с характеристикой основных параметров (площадь, мощность, количество мест, посещений в смену и др.) | C5: Объем финансирования всего, тыс.руб. | D5: в том числе по источникам финансирования | H5: Срок исполнения | I5: Кроме того, стоимость разработки проектно-сметной документации, тыс.руб. | J5: Ответственный исполнитель (соисполнитель, участник) | K5: Наименование муниципальной программы, в рамках которой планируется реализация мероприятия | L5: Примечание (наличие ПСД, обоснованность включения мероприятия в программу, указать орган исполнительной власти, согласовавший объект)
D6: федеральный бюджет | E6: республиканский бюджет | F6: местный бюджет | G6: прочие источники
B7: 2020-2022
B8: Основное мероприятие 1. Развитие дошкольного образования | C8: =D8+E8+F8+G8 -> #REF! | D8: =D9+D10+D11 -> #REF! | E8: =E9+E10+E11 -> #REF! | F8: =F9+F10+F11 -> #REF! | G8: =G9+G10+G11 -> #REF! | H8: =H9+H10+H11 -> #REF! | I8: =I9+I10+I11 -> #REF! | J8: Заместитель Главы Лямбирского муниципального района по социальным вопросам М.В. Левин | K8: Муниципальная программа "Развитие образования в Лямбирском муниципальном районе на 2016-2020 г.г." | M8: ='2020-2022 в разб'!C8+'2020-2022 в разб'!C45+'2020-2022 в разб'!C74 -> #REF! | O8: =M8+M12+M17+M19+M23+M25+M27+M29 -> #REF!
B9: 1.1.Обеспечение государственных гарантий реализации прав на получение общедоступного и бесплатного дошкольного образования в муниципальных дошкольных образовательных учреждениях, включая расходы на оплату труда и начисления на выплаты по оплате труда. | C9: =D9+E9+F9+G9 -> #REF! | D9: ='2020-2022 в разб'!D9+'2020-2022 в разб'!D46+'2020-2022 в разб'!D75 -> 60.185 | E9: ='2020-2022 в разб'!E9+'2020-2022 в разб'!E46+'2020-2022 в разб'!E75 -> #REF! | F9: ='2020-2022 в разб'!F9+'2020-2022 в разб'!F46+'2020-2022 в разб'!F75 -> 245.3887 | G9: ='2020-2022 в разб'!G9+'2020-2022 в разб'!G46+'2020-2022 в разб'!G75 -> 0 | M9: ='2020-2022 в разб'!C9+'2020-2022 в разб'!C46+'2020-2022 в разб'!C75 -> #REF!
B10: 1.2.Укрепление материально-технической базы муниципальных дошкольных образовательных учреждений (приложение №1 к приложению №2 Муниципальной программы «Развитие образования Лямбирского муниципального района на период 2016-2020 годы». | C10: =D10+E10+F10+G10 -> #REF! | D10: ='2020-2022 в разб'!D10+'2020-2022 в разб'!D47+'2020-2022 в разб'!D76 -> #REF! | E10: ='2020-2022 в разб'!E10+'2020-2022 в разб'!E47+'2020-2022 в разб'!E76 -> #REF! | F10: ='2020-2022 в разб'!F10+'2020-2022 в разб'!F47+'2020-2022 в разб'!F76 -> #REF! | G10: ='2020-2022 в разб'!G10+'2020-2022 в разб'!G47+'2020-2022 в разб'!G76 -> #REF! | H10: =H31 -> #REF! | I10: =I31 -> #REF! | M10: ='2020-2022 в разб'!C10+'2020-2022 в разб'!C47+'2020-2022 в разб'!C76 -> #REF!
B11: 1.3.Обеспечение деятельности муниципальных дошкольных образовательных учреждений и их безопасности, содержания имущества. | C11: =D11+E11+F11+G11 -> #REF! | D11: ='2020-2022 в разб'!D11+'2020-2022 в разб'!D48+'2020-2022 в разб'!D77 -> 0 | E11: ='2020-2022 в разб'!E11+'2020-2022 в разб'!E48+'2020-2022 в разб'!E77 -> #REF! | F11: ='2020-2022 в разб'!F11+'2020-2022 в разб'!F48+'2020-2022 в разб'!F77 -> #REF! | M11: ='2020-2022 в разб'!C11+'2020-2022 в разб'!C48+'2020-2022 в разб'!C77 -> #REF!
B12: Основное мероприятие 2. Развитие общего образования | C12: =D12+E12+F12+G12 -> #REF! | D12: =D13+D14+D15+D16 -> #REF! | E12: =E13+E14+E15+E16 -> #REF! | F12: =F13+F14+F15+F16 -> #REF! | G12: =G13+G14+G15+G16 -> 0 | H12: =H13+H14+H15+H16 -> #REF! | I12: =I13+I14+I15+I16 -> #REF! | M12: ='2020-2022 в разб'!C12+'2020-2022 в разб'!C49+'2020-2022 в разб'!C78 -> #REF!
B13: 2.1. Обеспечение государственных гарантий реализации прав на получение общедоступного и бесплатного начального общего, основного общего, среднего общего образования в муниципальных общеобразовательных учреждениях. | C13: =D13+E13+F13+G13 -> #REF! | D13: ='2020-2022 в разб'!D13+'2020-2022 в разб'!D50+'2020-2022 в разб'!D79 -> 16509.056 | E13: ='2020-2022 в разб'!E13+'2020-2022 в разб'!E50+'2020-2022 в разб'!E79 -> #REF! | F13: ='2020-2022 в разб'!F13+'2020-2022 в разб'!F50+'2020-2022 в разб'!F79 -> 3960.719 | G13: ='2020-2022 в разб'!G13+'2020-2022 в разб'!G50+'2020-2022 в разб'!G79 -> 0 | M13: ='2020-2022 в разб'!C13+'2020-2022 в разб'!C50+'2020-2022 в разб'!C79 -> #REF! | N13: ='2020-2022 в разб'!D13+'2020-2022 в разб'!D50+'2020-2022 в разб'!D79 -> 16509.056 | O13: ='2020-2022 в разб'!E13+'2020-2022 в разб'!E50+'2020-2022 в разб'!E79 -> #REF! | P13: ='2020-2022 в разб'!F13+'2020-2022 в разб'!F50+'2020-2022 в разб'!F79 -> 3960.719 | Q13: ='2020-2022 в разб'!G13+'2020-2022 в разб'!G50+'2020-2022 в разб'!G79 -> 0
B14: 2.2.Укрепление материально-технической базы муниципальных общеобразовательных учреждений (приложение №1 к приложению №2 Муниципальной программы «Развитие образования Лямбирского муниципального района на период 2016-2020 годы». | C14: =D14+E14+F14+G14 -> #REF! | D14: ='2020-2022 в разб'!D14+'2020-2022 в разб'!D51+'2020-2022 в разб'!D80 -> #REF! | E14: ='2020-2022 в разб'!E14+'2020-2022 в разб'!E51+'2020-2022 в разб'!E80 -> #REF! | F14: ='2020-2022 в разб'!F14+'2020-2022 в разб'!F51+'2020-2022 в разб'!F80 -> #REF! | G14: ='2020-2022 в разб'!G14+'2020-2022 в разб'!G51+'2020-2022 в разб'!G80 -> 0 | H14: ='2020-2022 в разб'!H14+'2020-2022 в разб'!H51+'2020-2022 в разб'!H80 -> #REF! | I14: ='2020-2022 в разб'!I14+'2020-2022 в разб'!I51+'2020-2022 в разб'!I80 -> #REF! | M14: ='2020-2022 в разб'!C14+'2020-2022 в разб'!C51+'2020-2022 в разб'!C80 -> #REF!
B15: 2.3. Обеспечение деятельности муниципальных общеобразовательных учреждений и их безопасности, содержания имущества. | C15: =D15+E15+F15+G15 -> #REF! | D15: ='2020-2022 в разб'!D15+'2020-2022 в разб'!D52+'2020-2022 в разб'!D81 -> 3125.426 | E15: ='2020-2022 в разб'!E15+'2020-2022 в разб'!E52+'2020-2022 в разб'!E81 -> #REF! | F15: ='2020-2022 в разб'!F15+'2020-2022 в разб'!F52+'2020-2022 в разб'!F81 -> #REF! | G15: ='2020-2022 в разб'!G15+'2020-2022 в разб'!G52+'2020-2022 в разб'!G81 -> 0 | H15: ='2020-2022 в разб'!H15+'2020-2022 в разб'!H52+'2020-2022 в разб'!H81 -> 0 | I15: ='2020-2022 в разб'!I15+'2020-2022 в разб'!I52+'2020-2022 в разб'!I81 -> 0 | M15: ='2020-2022 в разб'!C15+'2020-2022 в разб'!C52+'2020-2022 в разб'!C81 -> #REF!
B16: 2.4.Обеспечение организации питания обучающихся из малоимущих семей. | C16: =D16+E16+F16+G16 -> #REF! | D16: ='2020-2022 в разб'!D16+'2020-2022 в разб'!D53+'2020-2022 в разб'!D82 -> 6250.852 | E16: ='2020-2022 в разб'!E16+'2020-2022 в разб'!E53+'2020-2022 в разб'!E82 -> #REF! | F16: ='2020-2022 в разб'!F16+'2020-2022 в разб'!F53+'2020-2022 в разб'!F82 -> 76327.466 | G16: ='2020-2022 в разб'!G16+'2020-2022 в разб'!G53+'2020-2022 в разб'!G82 -> 0 | H16: ='2020-2022 в разб'!H16+'2020-2022 в разб'!H53+'2020-2022 в разб'!H82 -> 0 | I16: ='2020-2022 в разб'!I16+'2020-2022 в разб'!I53+'2020-2022 в разб'!I82 -> 0 | M16: ='2020-2022 в разб'!C16+'2020-2022 в разб'!C53+'2020-2022 в разб'!C82 -> #REF!
B17: Основное мероприятие 3. Развитие дополнительного образования детей | C17: =C18 -> #REF! | D17: =D18 -> 0 | E17: =E18 -> 0 | F17: =F18 -> #REF! | G17: =G18 -> 0 | M17: ='2020-2022 в разб'!C17+'2020-2022 в разб'!C54+'2020-2022 в разб'!C83 -> #REF!
B18: 3.1. Организация предоставления дополнительного образования детей в Лямбирском муниципальном районе. | C18: =D18+E18+F18+G18 -> #REF! | F18: ='2020-2022 в разб'!F18+'2020-2022 в разб'!F55+'2020-2022 в разб'!F84 -> #REF! | M18: ='2020-2022 в разб'!C18+'2020-2022 в разб'!C55+'2020-2022 в разб'!C84 -> #REF!
B19: Основное мероприятие 4. Муниципальная поддержка лучших творческих педагогических работников образовательных учреждений и способной, талантливой молодежи | C19: =SUM(C20:C22) -> #REF! | D19: =SUM(D20:D22) -> 0 | E19: =SUM(E20:E22) -> 0 | F19: =SUM(F20:F22) -> #REF! | G19: =SUM(G20:G22) -> 0 | M19: ='2020-2022 в разб'!C19+'2020-2022 в разб'!C56+'2020-2022 в разб'!C85 -> #REF!
B20: 4.1.Поощрение лучших педагогических работников дошкольных образовательных учреждений в рамках приоритетного национального проекта «Образование». | C20: =SUM(D20:G20) -> #REF! | F20: ='2020-2022 в разб'!F20+'2020-2022 в разб'!F57+'2020-2022 в разб'!F86 -> #REF! | M20: ='2020-2022 в разб'!C20+'2020-2022 в разб'!C57+'2020-2022 в разб'!C86 -> #REF!
B21: 4.2.Поощрение лучших творческих и талантливых учителей образовательных учреждений в рамках приоритетного национального проекта «Образование» | C21: =SUM(D21:G21) -> #REF! | F21: ='2020-2022 в разб'!F21+'2020-2022 в разб'!F58+'2020-2022 в разб'!F87 -> #REF! | M21: ='2020-2022 в разб'!C21+'2020-2022 в разб'!C58+'2020-2022 в разб'!C87 -> #REF!
B22: 4.3.Поддержка способной и талантливой молодежи в рамках приоритетного национального проекта «Образование» | C22: =SUM(D22:G22) -> #REF! | F22: ='2020-2022 в разб'!F22+'2020-2022 в разб'!F59+'2020-2022 в разб'!F88 -> #REF! | M22: ='2020-2022 в разб'!C22+'2020-2022 в разб'!C59+'2020-2022 в разб'!C88 -> #REF!
B23: Основное мероприятие 5. Реализация моделей получения качественного дошкольного, общего и дополнительного образования детьми-инвалидами и лицами с ограниченными возможностями здоровья | C23: =SUM(D23:G23) -> 0.6315 | D23: =D24 -> 0 | E23: =E24 -> 0 | F23: =F24 -> 0.6315 | G23: =G24 -> 0 | M23: ='2020-2022 в разб'!C23+'2020-2022 в разб'!C60+'2020-2022 в разб'!C89 -> #REF!
B24: Создание условий для получения образования детей с ограниченными возможностями здоровья. | C24: =SUM(D24:G24) -> 0.6315 | D24: ='2020-2022 в разб'!D24 -> 0 | E24: ='2020-2022 в разб'!E24 -> 0 | F24: ='2020-2022 в разб'!F24 -> 0.6315 | G24: ='2020-2022 в разб'!G24 -> 0 | M24: ='2020-2022 в разб'!C24+'2020-2022 в разб'!C61+'2020-2022 в разб'!C90 -> #REF!
B25: Основное мероприятие 6. Обеспечение деятельности МКУ « Центр информационно-методического обеспечения муниципальных образовательных учреждений Лямбирского муниципального района РМ» и реализация прочих мероприятий в области образования | C25: =C26 -> #REF! | D25: =D26 -> 0 | E25: =E26 -> 0 | F25: =F26 -> #REF! | G25: 0 | M25: ='2020-2022 в разб'!C25+'2020-2022 в разб'!C62+'2020-2022 в разб'!C91 -> #REF!
B26: 6.1.Обеспечение деятельности МКУ «Центр информационно-методического обеспечения муниципальных образовательных учреждений Лямбирского муниципального района РМ» и реализация прочих мероприятий в области образования. | C26: =SUM(D26:G26) -> #REF! | D26: 0 | E26: 0 | F26: ='2020-2022 в разб'!F26+'2020-2022 в разб'!F63+'2020-2022 в разб'!F92 -> #REF! | G26: 0 | M26: ='2020-2022 в разб'!C26+'2020-2022 в разб'!C63+'2020-2022 в разб'!C92 -> #REF!
B27: Основное мероприятие 7. Организация отдыха, оздоровления и занятости детей и подростков | C27: =SUM(D27:G27) -> #REF! | D27: =D28 -> 115.241 | E27: =E28 -> #REF! | F27: =F28 -> #REF! | G27: =G28 -> 0 | M27: ='2020-2022 в разб'!C27+'2020-2022 в разб'!C64+'2020-2022 в разб'!C93 -> #REF!
B28: 7.1. Организация отдыха, оздоровления и занятости детей и подростков. | C28: =SUM(D28:G28) -> #REF! | D28: ='2020-2022 в разб'!D28+'2020-2022 в разб'!D65+'2020-2022 в разб'!D94 -> 115.241 | E28: ='2020-2022 в разб'!E28+'2020-2022 в разб'!E65+'2020-2022 в разб'!E94 -> #REF! | F28: ='2020-2022 в разб'!F28+'2020-2022 в разб'!F65+'2020-2022 в разб'!F94 -> #REF! | M28: ='2020-2022 в разб'!C28+'2020-2022 в разб'!C65+'2020-2022 в разб'!C94 -> #REF!
B29: Основное мероприятие 8. Создание условий, обеспечивающих успешную социализацию детей, оставшихся без попечения родителей,находящихся в трудной жизненной ситуации | C29: =SUM(D29:G29) -> #REF! | D29: =D30 -> 0 | E29: =E30 -> #REF! | F29: =F30 -> 0 | G29: =G30 -> 0 | M29: ='2020-2022 в разб'!C29+'2020-2022 в разб'!C66+'2020-2022 в разб'!C95 -> #REF!
B30: 8.1.Реализация государственных полномочий по оплате труда приемных родителей, проживающих на территории Республики Мордовия и выплате ежемесячного денежного пособия опекуну (попечителю), приемному родителю на содержание ребенка, находящегося под опекой (попечительством), в приемной семье в Республике Мордовия. | C30: =SUM(D30:G30) -> #REF! | E30: ='2020-2022 в разб'!E30+'2020-2022 в разб'!E67+'2020-2022 в разб'!E96 -> #REF! | M30: ='2020-2022 в разб'!C30+'2020-2022 в разб'!C67+'2020-2022 в разб'!C96 -> #REF!
B31: Итого по укреплению МТБ МДОУ за 2018 г. (тыс.руб.) | C31: =SUM(D31:G31) -> 0 | H31: ='2020-2022 в разб'!H40+'2020-2022 в разб'!H69+'2020-2022 в разб'!H98 -> #REF! | I31: ='2020-2022 в разб'!I40+'2020-2022 в разб'!I69+'2020-2022 в разб'!I98 -> #REF! | L31: ПСД имеется | M31: ='2020-2022 в разб'!C31+'2020-2022 в разб'!C68+'2020-2022 в разб'!C97 -> 0
B32: Итого по укреплению МТБ МОУ за 2018 г. (тыс.руб.) | C32: =SUM(D32:G32) -> 0 | H32: ='2020-2022 в разб'!H41+'2020-2022 в разб'!H70+'2020-2022 в разб'!H99 -> #REF! | I32: ='2020-2022 в разб'!I41+'2020-2022 в разб'!I70+'2020-2022 в разб'!I99 -> #REF!
B33: ВСЕГО по приложению №1 Перечень мероприятий по укреплению материально-технической базы образовательных учреждений Лямбирского муниципального района за 2018 г. (тыс. руб.) | C33: =SUM(D33:G33) -> 0 | H33: =H31+H32 -> #REF! | I33: =I31+I32 -> #REF!
B34: ВСЕГО на программу Развитие образования на 2020-2022 годы | C34: =SUM(D34:F34) -> #REF! | D34: =D8+D12+D17+D19+D23+D25+D27+D29 -> #REF! | E34: =E8+E12+E17+E19+E23+E25+E27+E29 -> #REF! | F34: =F8+F12+F17+F19+F23+F25+F27+F29 -> #REF! | G34: =G8+G12+G12+G17+G19+G23+G25+G27+G29 -> #REF! | H34: =H8+H12+H17+H19+H23+H25+H27+H29 -> #REF! | I34: =I8+I12+I17+I19+I23+I25+I27+I29 -> #REF!
C35: =C8+C12+C17+C19+C23+C25+C27+C29 -> #REF! | D35: =D8+D12+D17+D19+D23+D25+D27+D29 -> #REF! | E35: =E8+E12+E17+E19+E23+E25+E27+E29 -> #REF! | F35: =F8+F12+F17+F19+F23+F25+F27+F29 -> #REF! | G35: =G8+G12+G17+G19+G23+G25+G27+G29 -> #REF! | H35: =H8+H12+H17+H19+H23+H25+H27+H29 -> #REF!

Sheet Лист1

Sheet Лист2
