Workbook

Sheet Лист1
A2: СРОЧНО!!! До 15 часов 27.11.2015 г Предоставить распределение Госстандарта на 2016 год в связи с вашей потребностью. Расписать потребность
B5: Всего Учебных расходов на 2016 год | C5: Численность детей | D5: 310 ст. учебники 2% 4126,2 т.р | E5: 310 ст.Учебно- наглядные пособия 2,5% 5157,7 т..р | F5: 340 ст. прочие мат затр 3 % 6189,3 т.р. | G5: 310 ст. на приобритение оборудования 2,5% 5157,7 т. р. | H5: Распределение учебных расходов в размере 10% от ГС
A6: 1 | B6: 2 | C6: 3 | D6: 4 | E6: 5 | F6: 6 | G6: 7 | H6: 8
B7: 20630.9 | C7: 2645 | D7: =B7*20% -> 4126.18 | E7: =B7*25% -> 5157.725 | F7: =B7*30% -> 6189.27 | G7: =B7*25% -> 5157.725 | H7: =G7+F7+E7+D7 -> 20630.9
A8: Лямбирский муниципальный район
A9: МОУ "Аксеновская средняя школа" | B9: =D9+E9+F9+G9 -> 405.6 | C9: 52 | D9: 110 | E9: 72.5 | F9: 103.2 | G9: 119.9 | H9: 405.59882
A10: МОУ "Александровская средняя школа" | B10: =D10+E10+F10+G10 -> 897 | C10: 115 | D10: 179.5 | E10: 153.4 | F10: 234.1 | G10: 330 | H10: 896.99739
A11: МОУ "Атемарская средняя школа" | B11: =D11+E11+F11+G11 -> 3619.1 | C11: 464 | D11: 723.8 | E11: 904.8 | F11: 1085.7 | G11: 904.8 | H11: 3619.1895
A12: МОУ "Берсеневская средняя школа" | B12: =D12+E12+F12+G12 -> 1544.4 | C12: 198 | D12: 270.9 | E12: 424.1 | F12: 463.3 | G12: 386.1 | H12: 1544.3955
A13: МОУ "Болотниковская средняя школа" | B13: =D13+E13+F13+G13 -> 187.2 | C13: 24 | D13: 47.4 | E13: 36.8 | F13: 54.2 | G13: 48.8 | H13: 187.19946
A14: МОУ "Б.Елховская средняя школа" | B14: =D14+E14+F14+G14 -> 4056 | C14: 520 | D14: 811.5 | E14: 564.5 | F14: 600 | G14: 2080 | H14: 4055.9882
A15: МОУ "Николаевская средняя школа" | B15: =D15+E15+F15+G15 -> 101.4 | C15: 13 | D15: 20.3 | E15: 25.3 | F15: 30.4 | G15: 25.4 | H15: 101.39971
A16: МОУ "Кривозерьевская средняя школа" | B16: =D16+E16+F16+G16 -> 865.8 | C16: 111 | D16: 100 | E16: 289.6 | F16: 259.7 | G16: 216.5 | H16: 865.79748
A17: МОУ "Лямбирская средняя школа №1" | B17: =D17+E17+F17+G17 -> 3416.4 | C17: 438 | D17: 683.3 | E17: 654.1 | F17: 1300 | G17: 779 | H17: 3416.3901
A18: МОУ "Лямбирская средняя школа №2" | B18: =D18+E18+F18+G18 -> 2659.8 | C18: 341 | D18: 532.1 | E18: 664.9 | F18: 797.9 | G18: 664.9 | H18: 2659.7923
A19: МОУ "Черемишевская основная школа" | B19: =D19+E19+F19+G19 -> 312 | C19: 40 | D19: 62.4 | E19: 78 | F19: 93.6 | G19: =G$12/C$12*C19 -> 78 | H19: 311.99909
A20: МОУ "Пензятская средняя школа" | B20: =D20+E20+F20+G20 -> 826.8 | C20: 106 | D20: 90 | E20: 221.7 | F20: 258.4 | G20: 256.7 | H20: 826.7976
A21: МОУ "Первомайская средняя школа" | B21: =D21+E21+F21+G21 -> 577.15253 | C21: 74 | D21: 115.4 | E21: 144.3 | F21: =F$12/C$12*C21 -> 173.15253 | G21: =G$12/C$12*C21 -> 144.3 | H21: 577.19832
A22: МОУ "Саловская средняя школа" | B22: =D22+E22+F22+G22 -> 506.99343 | C22: 65 | D22: 101.4 | E22: 126.7 | F22: =F$12/C$12*C22 -> 152.09343 | G22: 126.8 | H22: 506.99853
A23: МОУ "Лопатинская основная школа" | B23: =D23+E23+F23+G23 -> 210.6 | C23: 27 | D23: 30.6 | E23: 80 | F23: 30 | G23: 70 | H23: 210.59939
A24: МОУ "Скрябинская средняя школа" | B24: =D24+E24+F24+G24 -> 140.4 | C24: 18 | D24: 33.1 | E24: 30.1 | F24: 35.1 | G24: 42.1 | H24: 140.39959
A25: МОУ "Т.Тавлинская средняя школа" | B25: =D25+E25+F25+G25 -> 304.15606 | C25: 39 | D25: 60.8 | E25: 76 | F25: =F$12/C$12*C25 -> 91.256061 | G25: 76.1 | H25: 304.19912
A26: ИТОГО | B26: =SUM(B9:B25) -> 20630.802 | C26: =SUM(C9:C25) -> 2645 | D26: =SUM(D9:D25) -> 3972.5 | E26: =SUM(E9:E25) -> 4546.8 | F26: =SUM(F9:F25) -> 5762.102 | G26: =SUM(G9:G25) -> 6349.4 | H26: =SUM(H9:H25) -> 20630.94

Sheet  БНЗ 2019
K1: Приложение 1 к постановлению
K2: Администрации Лямбирского муниципального района
K3: от "__" ___________ 20___г. №______
A4: Значения базовых нормативов затрат на оказание муниципальных услуг (выполнение работ)
A5: муниципальными учреждениями Лямбирского муниципального района на 2019 год
A11: Наименование учреждений | B11: Наименование муниципальной услуги | C11: Затраты, непосредственно связанные с оказанием муниципальной услуги, руб. | F11: Затраты на общехозяйственные нужды на оказание муниципальной услуги, руб | M11: Значение базового норматива затрат на оказание услуги, руб. | N11: Объем муниципальной услуги, установленной муниципальным заданием на 2016 год | O11: Затраты на уплату налогов, в качестве объекта налогооблажения по которым признается имущество муниципального учреждения (рублей) | P11: Оъем финансового обеспечения выполнения муниципального задания (рублей)
C12: Оплата труда и начисления на выплаты по оплате труда работников, непосредственно связанных с оказанием муниципальной услуги | D12: Приобретение материальных запасов и особо ценного движимого имущества, потребляемого в процессе оказания муниципальной услуги | E12: Иные затраты, непосредственно связанные с оказанием муниципальной услуги | F12: Коммунальные услуги | G12: Содержание объектов недвижимого имущества | H12: Содержание объектов особо ценного движимого имущества | I12: Приобретение услуг связи | J12: Приобретение транспортных услуг | K12: Оплата труда и начисления на выплаты по оплате труда работников, которые не принимают непосредственного участия в оказании муниципальной услуги | L12: Прочие общехозяйственные нужды
A13: 1 | B13: 2 | C13: 3 | D13: 4 | E13: 5 | F13: 6 | G13: 7 | H13: 8 | I13: 9 | J13: 10 | K13: 11 | L13: 12 | M13: 13 | N13: 16 | O13: 17 | P13: 18=15*16+17
A14: Дошкольные учреждения Лямбирского муниципального района | C14: 29552.492 | D14: 485.02463 | E14: 169.85222 | F14: 6575.1724 | G14: 1108.1773 | H14: 358.2266 | I14: 162.56158 | J14: 21.674877 | K14: 17655.334 | L14: 4362.5616 | M14: =C14+D14+E14+F14+G14+H14+I14+J14+K14+L14 -> 60451.077 | N14: =SUM(N15:N20) -> 1015 | O14: 2370300 | P14: =SUM(P15:P20) -> 59555268
A15: МБДОУ Лямбирского муниципального района"Атемарский детский сад №1 "Теремок" | B15: Реализации основных общеобразовательных программ дошкольного образования (показатель объема -физические лица в возрасте до 8 лет) | C15: 22952.321 | D15: 260.75949 | E15: 105.90717 | F15: 5294.9367 | G15: 521.94093 | H15: 191.56118 | I15: 176.79325 | K15: 15955.696 | L15: 1513.9241 | M15: =C15+D15+E15+F15+G15+H15+I15+J15+K15+L15 -> 46973.84 | N15: 204 | O15: 179900 | P15: =M15*N15+O15 -> 9762563.3
A16: МБДОУ Лямбирского муниципального района "Александровский детский сад "Ягодка" | B16: Реализации основных общеобразовательных программ дошкольного образования (показатель объема -физические лица в возрасте до 8 лет) | C16: 27668.116 | D16: 328.98551 | E16: 104.34783 | F16: 3927.5362 | G16: 900 | H16: 304.34783 | I16: 253.62319 | K16: 24047.826 | L16: 1552.1739 | M16: =C16+D16+E16+F16+G16+H16+I16+J16+K16+L16 -> 59086.957 | N16: 80 | O16: 170000 | P16: =M16*N16+O16 -> 4896956.5
A17: МБДОУ Лямбирского муниципального района "Большеелховский детский сад №1 комбинированного вида" | B17: Реализации основных общеобразовательных программ дошкольного образования (показатель объема -физические лица в возрасте до 8 лет) | C17: 32912.664 | D17: 356.76856 | E17: 134.06114 | F17: 6165.0655 | G17: 519.65066 | H17: 261.13537 | I17: 103.93013 | K17: 18914.847 | L17: 1598.69 | M17: =C17+D17+E17+F17+G17+H17+I17+J17+K17+L17 -> 60966.812 | N17: 248 | O17: 256600 | P17: =M17*N17+O17 -> 15376369
A18: МБДОУ Лямбирского муниципального района"Лямбирский детский сад № 2 "Родничок"" | B18: Реализации основных общеобразовательных программ дошкольного образования (показатель объема -физические лица в возрасте до 8 лет) | C18: 31279.091 | D18: 379.09091 | E18: 139.09091 | F18: 8932.7273 | G18: 962.72727 | H18: 328.18182 | I18: 184.54545 | K18: 21301.818 | L18: 1522.7273 | M18: =C18+D18+E18+F18+G18+H18+I18+J18+K18+L18 -> 65030 | N18: 118 | O18: 193800 | P18: =M18*N18+O18 -> 7867340
A19: МБДОУ Лямбирского муниципального района"Лямбирский детский сад № 3 комбинированного вида" | B19: Реализации основных общеобразовательных программ дошкольного образования (показатель объема -физические лица в возрасте до 8 лет) | C19: 26650.301 | D19: 312.04819 | E19: 101.50602 | F19: 5698.1928 | G19: 479.21687 | H19: 229.21687 | I19: 67.46988 | K19: 16061.747 | L19: 1558.1325 | M19: =C19+D19+E19+F19+G19+H19+I19+J19+K19+L19 -> 51157.831 | N19: 305 | O19: 503100 | P19: =M19*N19+O19 -> 16106239
A20: МБДОУ Лямбирского муниципального района"Коммунарский детский сад "Солнышко" | B20: Реализации основных общеобразовательных программ дошкольного образования (показатель объема -физические лица в возрасте до 8 лет) | C20: 27320 | D20: 368.33333 | E20: 148.33333 | F20: 14016.667 | G20: 1243.3333 | H20: 346.66667 | I20: 291.66667 | K20: 29345 | L20: 1568.3333 | M20: =C20+D20+E20+F20+G20+H20+I20+J20+K20+L20 -> 74648.333 | N20: 60 | O20: 1066900 | P20: =M20*N20+O20 -> 5545800
A21: Общеобразовательные учреждения Лямбирского муниципального района | C21: 52150.845 | D21: 5767.5185 | E21: 38.518519 | F21: 7148.8148 | G21: 1148.7037 | H21: 312.55556 | I21: 190.66667 | J21: 31.481481 | K21: 15315.571 | L21: 2895.5296 | M21: =C21+D21+E21+F21+G21+H21+I21+J21+K21+L21 -> 85000.204 | N21: =SUM(N22:N38) -> 2700 | O21: 8348900 | P21: =SUM(P22:P38) -> 2.1892147e+08
A22: МОУ "Аксеновская средняя общеобразовательная школа" Лямбирского муниципального района РМ | B22: Реализация основных общеобразовательных программ начального общего, основного, среднего общего образования (показатель объема -физические лица в возрасте от 6 до 18 лет) | C22: 92635.714 | D22: 2420 | E22: 100 | F22: 5665.7143 | G22: 528.57143 | H22: 142.85714 | I22: 218.57143 | K22: 44837.143 | M22: =C22+D22+E22+F22+G22+H22+I22+J22+K22+L22 -> 146548.57 | N22: 53 | O22: 260400 | P22: =M22*N22+O22 -> 8027474.3
A23: МОУ "Александровская средняя общеобразовательная школа" Лямбирского муниципального района РМ | B23: Реализация основных общеобразовательных программ начального общего, основного, среднего общего образования (показатель объема -физические лица в возрасте от 6 до 18 лет) | C23: 66412.057 | D23: 1521.2766 | E23: 27.659574 | F23: 10058.156 | G23: 448.22695 | H23: 79.432624 | I23: 111.34752 | K23: 20369.504 | M23: =C23+D23+E23+F23+G23+H23+I23+J23+K23+L23 -> 99027.66 | N23: 120 | O23: 552900 | P23: =M23*N23+O23 -> 12436219
A24: МОУ "Атемарская средняя общеобразовательная школа" Лямбирского муниципального района РМ | B24: Реализация основных общеобразовательных программ начального общего, основного, среднего общего образования (показатель объема -физические лица в возрасте от 6 до 18 лет) | C24: 30511.155 | D24: 833.26693 | E24: 13.944223 | F24: 4419.5219 | G24: 395.61753 | H24: 54.38247 | I24: 115.93625 | K24: 17294.223 | L24: 1237.251 | M24: =C24+D24+E24+F24+G24+H24+I24+J24+K24+L24 -> 54875.299 | N24: 465 | O24: 1812100 | P24: =M24*N24+O24 -> 27329114
A25: МОУ "Берсеневская средняя общеобразовательная школа" Лямбирского муниципального района РМ | B25: Реализация основных общеобразовательных программ начального общего, основного, среднего общего образования (показатель объема -физические лица в возрасте от 6 до 18 лет) | C25: 45929.902 | D25: 1133.3333 | E25: 17.156863 | F25: 7418.6275 | G25: 431.86275 | H25: 62.745098 | I25: 103.43137 | K25: 18776.961 | M25: =C25+D25+E25+F25+G25+H25+I25+J25+K25+L25 -> 73874.02 | N25: 203 | O25: 224200 | P25: =M25*N25+O25 -> 15220626
A26: МКОУ "Болотниковская основная общеобразовательная школа" Лямбирского муниципального района РМ | B26: Реализация основных общеобразовательных программ начального общего, основного, среднего общего образования (показатель объема -физические лица в возрасте от 6 до 18 лет) | C26: 98376.115 | D26: 5642.3077 | E26: 76.923077 | F26: 7434.6154 | G26: 7184.6154 | H26: 1242.3077 | I26: 384.61538 | J26: 192.30769 | K26: 52500.646 | L26: 5190.4438 | M26: =C26+D26+E26+F26+G26+H26+I26+J26+K26+L26 -> 178224.9 | N26: 26 | O26: 54400 | P26: =M26*N26+O26 -> 4688247.3
A27: МОУ "Большеелховская средняя общеобразовательная школа" Лямбирского муниципального района РМ | B27: Реализация основных общеобразовательных программ начального общего, основного, среднего общего образования (показатель объема -физические лица в возрасте от 6 до 18 лет) | C27: 30686.011 | D27: 780.5293 | E27: 26.465028 | F27: 2777.8828 | G27: 297.9206 | H27: 53.308129 | I27: 133.64839 | K27: 14089.036 | L27: 1132.7032 | M27: =C27+D27+E27+F27+G27+H27+I27+J27+K27+L27 -> 49977.505 | N27: 540 | O27: 1817400 | P27: =M27*N27+O27 -> 28805253
A28: МКОУ "Николаевская основная общеобразовательная школа" Лямбирского муниципального района РМ | B28: Реализация основных общеобразовательных программ начального общего, основного, среднего общего образования (показатель объема -физические лица в возрасте от 6 до 18 лет) | C28: 142821.26 | D28: 5268.75 | E28: 187.5 | F28: 101456.25 | G28: 10887.5 | H28: 1900 | I28: 625 | K28: 77696.85 | L28: 4923.6198 | M28: =C28+D28+E28+F28+G28+H28+I28+J28+K28+L28 -> 345766.73 | N28: 16 | O28: 181400 | P28: =M28*N28+O28 -> 5713667.7
A29: МОУ "Кривозерьевская средняя общеобразовательная школа" Лямбирского муниципального района РМ | B29: Реализация основных общеобразовательных программ начального общего, основного, среднего общего образования (показатель объема -физические лица в возрасте от 6 до 18 лет) | C29: 78131.522 | D29: 1981.5217 | E29: 22.826087 | F29: 7728.2609 | G29: 1011.9565 | H29: 140.21739 | I29: 186.95652 | K29: 34448.913 | L29: 1031.5217 | M29: =C29+D29+E29+F29+G29+H29+I29+J29+K29+L29 -> 124683.7 | N29: 114 | O29: 1560300 | P29: =M29*N29+O29 -> 15774241
A30: МОУ "Лямбирская средняя общеобразовательная школа № 1 " Лямбирского муниципального района | B30: Реализация основных общеобразовательных программ начального общего, основного, среднего общего образования (показатель объема -физические лица в возрасте от 6 до 18 лет) | C30: 34266.741 | D30: 828.38137 | E30: 23.281596 | F30: 3027.2727 | G30: 164.96674 | H30: 49.223947 | I30: 88.248337 | K30: 13154.767 | L30: 187.13969 | M30: =C30+D30+E30+F30+G30+H30+I30+J30+K30+L30 -> 51790.022 | N30: 434 | O30: 283600 | P30: =M30*N30+O30 -> 22760470
A31: МОУ "Лямбирская средняя общеобразовательная школа №2" Лямбирского муниципального района | B31: Реализация основных общеобразовательных программ начального общего, основного, среднего общего образования (показатель объема -физические лица в возрасте от 6 до 18 лет) | C31: 35768.889 | D31: 816.2963 | E31: 20.740741 | F31: 3835.0617 | G31: 177.53086 | H31: 38.518519 | I31: 74.074074 | K31: 10938.519 | M31: =C31+D31+E31+F31+G31+H31+I31+J31+K31+L31 -> 51669.63 | N31: 350 | O31: 649900 | P31: =M31*N31+O31 -> 18734270
A32: МОУ "Черемишевская основная общеобразовательная школа" Лямбирского муниципального района РМ | B32: Реализация основных общеобразовательных программ начального общего, основного общего образования (показатель объема -физические лица в возрасте от 6 до 18 лет) | C32: 134652.78 | D32: 3497.2222 | E32: 55.555556 | F32: 11608.333 | G32: 1188.8889 | H32: 269.44444 | I32: 263.88889 | K32: 62963.889 | M32: =C32+D32+E32+F32+G32+H32+I32+J32+K32+L32 -> 214500 | N32: 40 | O32: 190900 | P32: =M32*N32+O32 -> 8770900
A33: МОУ "Пензятская средняя общеобразовательная школа " Лямбирского муниципального района | B33: Реализация основных общеобразовательных программ начального общего, основного, среднего общего образования (показатель объема -физические лица в возрасте от 6 до 18 лет) | C33: 74599.029 | D33: 1850.4854 | E33: 33.980583 | F33: 9051.4563 | G33: 567.96117 | H33: 130.09709 | I33: 194.17476 | K33: 30593.204 | L33: 1582.5243 | M33: =C33+D33+E33+F33+G33+H33+I33+J33+K33+L33 -> 118602.91 | N33: 104 | O33: 251900 | P33: =M33*N33+O33 -> 12586603
A34: МОУ "Первомайская средняя общеобразовательная школа " Лямбирского муниципального района | B34: Реализация основных общеобразовательных программ начального общего, основного, среднего общего образования (показатель объема -физические лица в возрасте от 6 до 18 лет) | C34: 89836.62 | D34: 2197.1831 | E34: 19.71831 | F34: 6787.3239 | G34: 423.94366 | H34: 101.40845 | I34: 214.08451 | K34: 34660.563 | M34: =C34+D34+E34+F34+G34+H34+I34+J34+K34+L34 -> 134240.85 | N34: 77 | O34: 14400 | P34: =M34*N34+O34 -> 10350945
A35: МОУ "Саловская средняя общеобразовательная школа " Лямбирского муниципального района | B35: Реализация основных общеобразовательных программ начального общего, основного, среднего общего образования (показатель объема -физические лица в возрасте от 6 до 18 лет) | C35: 70277.778 | D35: 1748.1481 | E35: 25.925926 | F35: 17114.815 | G35: 502.46914 | H35: 124.69136 | I35: 188.88889 | K35: 28791.358 | L35: 1316.0494 | M35: =C35+D35+E35+F35+G35+H35+I35+J35+K35+L35 -> 120090.12 | N35: 71 | O35: 135300 | P35: =M35*N35+O35 -> 8661698.8
A36: МКОУ "Лопатинская основная общеобразовательная школа" Лямбирского муниципального района РМ | B36: Реализация основных общеобразовательных программ начального общего, основного, среднего общего образования (показатель объема -физические лица в возрасте от 6 до 18 лет) | C36: 112844.82 | D36: 7388.8889 | E36: 74.074074 | F36: 25096.296 | G36: 5929.6296 | H36: 933.33333 | I36: 555.55556 | K36: 37704.956 | L36: 778.07337 | M36: =C36+D36+E36+F36+G36+H36+I36+J36+K36+L36 -> 191305.63 | N36: 27 | O36: 139700 | P36: =M36*N36+O36 -> 5304952
A37: МКОУ "Скрябинская основная общеобразовательная школа" Лямбирского муниципального района РМ | B37: Реализация основных общеобразовательных программ начального общего, основного, среднего общего образования (показатель объема -физические лица в возрасте от 6 до 18 лет) | C37: 165503.73 | D37: 6385 | E37: 100 | F37: 31535 | G37: 8050 | H37: 1625 | I37: 1000 | K37: 68973.45 | L37: 1371.9327 | M37: =C37+D37+E37+F37+G37+H37+I37+J37+K37+L37 -> 284544.11 | N37: 20 | O37: 109500 | P37: =M37*N37+O37 -> 5800382.3
A38: МОУ "Т атарско-Тавленская основная общеобразовательная школа" Лямбирского муниципального района РМ | B38: Реализация основных общеобразовательных программ начального общего, основного общего образования (показатель объема -физические лица в возрасте от 6 до 18 лет) | C38: 130309.52 | D38: 3304.7619 | E38: 33.333333 | F38: 4733.3333 | G38: 642.85714 | H38: 171.42857 | I38: 200 | K38: 56750 | M38: =C38+D38+E38+F38+G38+H38+I38+J38+K38+L38 -> 196145.24 | N38: 40 | O38: 110600 | P38: =M38*N38+O38 -> 7956409.5
A39: Внешкольные учреждения Лямбирского муниципального района | C39: 1615.5907 | D39: 0 | E39: 4.1580042 | F39: 185.44699 | G39: 44.740125 | H39: 1.039501 | I39: 12.474012 | J39: 0 | K39: 3504.2908 | L39: 14.012474 | M39: =C39+D39+E39+F39+G39+H39+I39+J39+K39+L39 -> 5381.7526 | N39: =SUM(N40:N41) -> 2405 | O39: 885600 | P39: =SUM(P40:P41) -> 11490852
A40: Муниципальное учреждение дополнительного образования "Лямбирский районный дом детского творчества" | B40: Услуга по реализации дополнительных общеобразовательных программ (физические лица) | C40: 400.20818 | D40: 0 | E40: 2.8555111 | F40: 0 | G40: 7.9954312 | H40: 0 | I40: 8.5665334 | J40: 0 | K40: 2187.2556 | L40: 1.8846374 | M40: =C40+D40+E40+F40+G40+H40+I40+J40+K40+L40 -> 2608.7659 | N40: 1751 | O40: 4300 | P40: =M40*N40+O40 -> 4572249.1
A41: МУДО "Лямбирская детско-юношеская спортивная школа" | B41: Реализация дополнительных общеобразовательных программ (показатель объема - физические лица) | C41: 3936.2 | D41: 8.3 | E41: 13.77 | F41: 513.93 | G41: 115.18 | H41: 111.42 | I41: 16.43 | K41: 4465.57 | L41: 50.55 | M41: =C41+D41+E41+F41+G41+H41+I41+J41+K41+L41 -> 9231.35 | N41: 654 | O41: 881300 | P41: =M41*N41+O41 -> 6918602.9
A42: МБУ Лямбирского муниципального района РМ «Многофункциональный центр предоставления государственных и муниципальных услуг Лямбирского муниципального района» | B42: Организация предоставления государственных и муниципальных услуг в многофункциональном центре (показатель объема - физические, юридические лица) | C42: 275 | D42: 4.2 | E42: 1.31 | G42: 5.9 | H42: 6.31 | I42: 7 | K42: 72.52 | L42: 12.69 | M42: =C42+D42+E42+F42+G42+H42+I42+J42+K42+L42 -> 384.93 | N42: =#REF! -> #REF! | O42: =#REF! -> #REF! | P42: =M42*N42+O42 -> #REF!
A43: МБУ ДО "Атемарская ДШИ" | B43: Реализация дополнительных общеразвивающих программ. (показатель объема - число человеко-часов пребывания) | C43: 8743.0427 | D43: 33.266636 | E43: 41.749515 | F43: 263.49621 | G43: 0.33609091 | H43: 30.022576 | I43: 20.878788 | J43: 20.874758 | K43: 3849.5106 | L43: 14.088818 | M43: =C43+D43+E43+F43+G43+H43+I43+J43+K43+L43 -> 13017.267 | N43: 13600 | O43: 0 | P43: 4197003.2
A44: МБУ ДО "Большеелховская ДШИ" | B44: Реализация дополнительных общеразвивающих программ. (показатель объема - число человеко-часов пребывания) | C44: 12628.839 | D44: 45.870061 | E44: 57.627394 | F44: 1303.2729 | G44: 0.53278788 | H44: 41.39697 | I44: 28.783394 | J44: 28.783394 | K44: 4734.5455 | L44: 0.64436364 | M44: =C44+D44+E44+F44+G44+H44+I44+J44+K44+L44 -> 18870.296 | N44: 18900 | O44: 167.112 | P44: 5543542.4
A45: МБУ ДО "Лямбирская ДШИ" | B45: Реализация дополнительных общеразвивающих программ. (показатель объема - число человеко-часов пребывания) | C45: 8018.2143 | D45: 36.500766 | E45: 45.808348 | F45: 1248.453 | G45: 31.767156 | H45: 32.941332 | I45: 22.904174 | J45: 22.904174 | K45: 5798.5711 | L45: 0 | M45: =C45+D45+E45+F45+G45+H45+I45+J45+K45+L45 -> 15258.064 | N45: 21647 | O45: 542610.21 | P45: 8317638.9
...

Sheet БНЗ 2020
K1: Приложение 2
K2: к постановлению Администрации
K3: Лямбирского муниципального района
K4: =' БНЗ 2019'!K3:M3 -> от "__" ___________ 20___г. №______
A5: Значения базовых нормативов затрат на оказание муниципальных услуг (выполнение работ)
A6: муниципальными учреждениями Лямбирского муниципального района на 2020 год
A12: Наименование учреждений | B12: Наименование муниципальной услуги | C12: Затраты, непосредственно связанные с оказанием муниципальной услуги, руб. | F12: Затраты на общехозяйственные нужды на оказание муниципальной услуги, руб | M12: Значение базового норматива затрат на оказание услуги, руб. | N12: Объем муниципальной услуги, установленной муниципальным заданием на 2016 год | O12: Затраты на уплату налогов, в качестве объекта налогооблажения по которым признается имущество муниципального учреждения (рублей) | P12: Оъем финансового обеспечения выполнения муниципального задания (рублей)
C13: Оплата труда и начисления на выплаты по оплате труда работников, непосредственно связанных с оказанием муниципальной услуги | D13: Приобретение материальных запасов и особо ценного движимого имущества, потребляемого в процессе оказания муниципальной услуги | E13: Иные затраты, непосредственно связанные с оказанием муниципальной услуги | F13: Коммунальные услуги | G13: Содержание объектов недвижимого имущества | H13: Содержание объектов особо ценного движимого имущества | I13: Приобретение услуг связи | J13: Приобретение транспортных услуг | K13: Оплата труда и начисления на выплаты по оплате труда работников, которые не принимают непосредственного участия в оказании муниципальной услуги | L13: Прочие общехозяйственные нужды
A14: 1 | B14: 2 | C14: 3 | D14: 4 | E14: 5 | F14: 6 | G14: 7 | H14: 8 | I14: 9 | J14: 10 | K14: 11 | L14: 12 | M14: 13 | N14: 16 | O14: 17 | P14: 18=15*16+17
A15: Дошкольные учреждения Лямбирского муниципального района | C15: 29552.492 | D15: 485.02463 | E15: 169.85222 | F15: 6575.1724 | G15: 1108.1773 | H15: 358.2266 | I15: 162.56158 | J15: 21.674877 | K15: 17655.334 | L15: 4362.5616 | M15: =C15+D15+E15+F15+G15+H15+I15+J15+K15+L15 -> 60451.077 | N15: =SUM(N16:N21) -> 1015 | O15: 2370300 | P15: =SUM(P16:P21) -> 58333485
A16: МБДОУ Лямбирского муниципального района"Атемарский детский сад №1 "Теремок" | B16: Реализации основных общеобразовательных программ дошкольного образования (показатель объема -физические лица в возрасте до 8 лет) | C16: 19626.05 | D16: 73.109244 | E16: 105.46218 | F16: 5272.6891 | G16: 435.71429 | H16: 190.7563 | I16: 176.05042 | J16: 0 | K16: 17500.42 | L16: 2751.6807 | M16: =C16+D16+E16+F16+G16+H16+I16+J16+K16+L16 -> 46131.933 | N16: 204 | O16: 179900 | P16: =M16*N16+O16 -> 9590814.3
A17: МБДОУ Лямбирского муниципального района "Александровский детский сад "Ягодка" | B17: Реализации основных общеобразовательных программ дошкольного образования (показатель объема -физические лица в возрасте до 8 лет) | C17: 23759.42 | D17: 73.913043 | E17: 104.34783 | F17: 3927.5362 | G17: 900 | H17: 304.34783 | I17: 253.62319 | J17: 0 | K17: 26485.507 | L17: 2817.3913 | M17: =C17+D17+E17+F17+G17+H17+I17+J17+K17+L17 -> 58626.087 | N17: 80 | O17: 170000 | P17: =M17*N17+O17 -> 4860087
A18: МБДОУ Лямбирского муниципального района "Большеелховский детский сад №1 комбинированного вида" | B18: Реализации основных общеобразовательных программ дошкольного образования (показатель объема -физические лица в возрасте до 8 лет) | C18: 27896.121 | D18: 106.89655 | E18: 132.32759 | F18: 6085.3448 | G18: 426.72414 | H18: 257.75862 | I18: 102.58621 | J18: 0 | K18: 20563.793 | L18: 2815.9483 | M18: =C18+D18+E18+F18+G18+H18+I18+J18+K18+L18 -> 58387.5 | N18: 248 | O18: 256600 | P18: =M18*N18+O18 -> 14736700
A19: МБДОУ Лямбирского муниципального района"Лямбирский детский сад № 2 "Родничок"" | B19: Реализации основных общеобразовательных программ дошкольного образования (показатель объема -физические лица в возрасте до 8 лет) | C19: 26379.464 | D19: 121.42857 | E19: 136.60714 | F19: 8773.2143 | G19: 832.14286 | H19: 322.32143 | I19: 181.25 | J19: 0 | K19: 23042.857 | L19: 2736.6071 | M19: =C19+D19+E19+F19+G19+H19+I19+J19+K19+L19 -> 62525.893 | N19: 118 | O19: 193800 | P19: =M19*N19+O19 -> 7571855.4
A20: МБДОУ Лямбирского муниципального района"Лямбирский детский сад № 3 комбинированного вида" | B20: Реализации основных общеобразовательных программ дошкольного образования (показатель объема -физические лица в возрасте до 8 лет) | C20: 23305.215 | D20: 84.662577 | E20: 103.37423 | F20: 5803.0675 | G20: 426.68712 | H20: 233.43558 | I20: 68.711656 | J20: 0 | K20: 18016.258 | L20: 2842.9448 | M20: =C20+D20+E20+F20+G20+H20+I20+J20+K20+L20 -> 50884.356 | N20: 305 | O20: 503100 | P20: =M20*N20+O20 -> 16022829
A21: МБДОУ Лямбирского муниципального района"Коммунарский детский сад "Солнышко" | B21: Реализации основных общеобразовательных программ дошкольного образования (показатель объема -физические лица в возрасте до 8 лет) | C21: 23453.333 | D21: 85 | E21: 148.33333 | F21: 14016.667 | G21: 1243.3333 | H21: 346.66667 | I21: 291.66667 | J21: 0 | K21: 32315 | L21: 2838.3333 | M21: =C21+D21+E21+F21+G21+H21+I21+J21+K21+L21 -> 74738.333 | N21: 60 | O21: 1066900 | P21: =M21*N21+O21 -> 5551200
A22: МОУ "Аксеновская средняя общеобразовательная школа" Лямбирского муниципального района РМ | B22: Реализация основных общеобразовательных программ начального общего, основного, среднего общего образования (показатель объема -физические лица в возрасте от 6 до 18 лет) | C22: 80453.846 | D22: 2723.0769 | E22: 89.74359 | F22: 4393.5897 | G22: 1376.9231 | H22: 234.61538 | I22: 144.87179 | J22: 0 | K22: 39032.051 | L22: 320.51282 | M22: =C22+D22+E22+F22+G22+H22+I22+J22+K22+L22 -> 128769.23 | N22: 53 | O22: 260400 | P22: =M22*N22+O22 -> 7085169.2
A23: МОУ "Александровская средняя общеобразовательная школа" Лямбирского муниципального района РМ | B23: Реализация основных общеобразовательных программ начального общего, основного, среднего общего образования (показатель объема -физические лица в возрасте от 6 до 18 лет) | C23: 62931.25 | D23: 1843.75 | E23: 27.083333 | F23: 9888.1944 | G23: 510.41667 | H23: 151.38889 | I23: 109.72222 | J23: 0 | K23: 19347.222 | L23: 233.33333 | M23: =C23+D23+E23+F23+G23+H23+I23+J23+K23+L23 -> 95042.361 | N23: 120 | O23: 552900 | P23: =M23*N23+O23 -> 11957983
A24: МОУ "Атемарская средняя общеобразовательная школа" Лямбирского муниципального района РМ | B24: Реализация основных общеобразовательных программ начального общего, основного, среднего общего образования (показатель объема -физические лица в возрасте от 6 до 18 лет) | C24: 29351.485 | D24: 1015.4455 | E24: 13.861386 | F24: 4410.6931 | G24: 486.93069 | H24: 95.643564 | I24: 115.64356 | J24: 0 | K24: 16675.842 | L24: 1327.1287 | M24: =C24+D24+E24+F24+G24+H24+I24+J24+K24+L24 -> 53492.673 | N24: 465 | O24: 1812100 | P24: =M24*N24+O24 -> 26686193
A25: МОУ "Берсеневская средняя общеобразовательная школа" Лямбирского муниципального района РМ | B25: Реализация основных общеобразовательных программ начального общего, основного, среднего общего образования (показатель объема -физические лица в возрасте от 6 до 18 лет) | C25: 45337.5 | D25: 1428.5 | E25: 17.5 | F25: 7597 | G25: 502 | H25: 121.5 | I25: 106 | J25: 0 | K25: 18578 | L25: 142.5 | M25: =C25+D25+E25+F25+G25+H25+I25+J25+K25+L25 -> 73830.5 | N25: 203 | O25: 224200 | P25: =M25*N25+O25 -> 15211792
A26: МКОУ "Болотниковская основная общеобразовательная школа" Лямбирского муниципального района РМ | B26: Реализация основных общеобразовательных программ начального общего, основного, среднего общего образования (показатель объема -физические лица в возрасте от 6 до 18 лет) | C26: 29091.111 | D26: 938.51852 | E26: 26.111111 | F26: 2732.037 | G26: 311.48148 | H26: 90 | I26: 131.48148 | J26: 0 | K26: 13388.148 | L26: 1179.6296 | M26: =C26+D26+E26+F26+G26+H26+I26+J26+K26+L26 -> 47888.519 | N26: 26 | O26: 54400 | P26: =M26*N26+O26 -> 1299501.5
A27: МОУ "Большеелховская средняя общеобразовательная школа" Лямбирского муниципального района РМ | B27: Реализация основных общеобразовательных программ начального общего, основного, среднего общего образования (показатель объема -физические лица в возрасте от 6 до 18 лет) | C27: 29091.111 | D27: 938.51852 | E27: 26.111111 | F27: 2732.037 | G27: 311.48148 | H27: 90 | I27: 131.48148 | J27: 0 | K27: 13388.148 | L27: 1179.6296 | M27: =C27+D27+E27+F27+G27+H27+I27+J27+K27+L27 -> 47888.519 | N27: 540 | O27: 1817400 | P27: =M27*N27+O27 -> 27677200
... A37: МКОУ "Скрябинская основная общеобразовательная школа" Лямбирского муниципального района РМ | B37: Реализация основных общеобразовательных программ начального общего, основного, среднего общего образования (показатель объема -физические лица в возрасте от 6 до 18 лет) | C37: 165503.73 | D37: 6385 | E37: 100 | F37: 31535 | G37: 8050 | H37: 1625 | I37: 1000 | J37: 250 | K37: 68973.45 | L37: 1371.9327 | M37: =C37+D37+E37+F37+G37+H37+I37+J37+K37+L37 -> 284794.11 | N37: 20 | O37: 109500 | P37: =M37*N37+O37 -> 5805382.3
A38: МОУ "Т атарско-Тавленская основная общеобразовательная школа" Лямбирского муниципального района РМ | B38: Реализация основных общеобразовательных программ начального общего, основного, среднего общего образования (показатель объема -физические лица в возрасте от 6 до 18 лет) | C38: 115033.33 | D38: 2277.78 | E38: 26.67 | F38: 5006.67 | G38: 2406.67 | H38: 740 | I38: 160 | K38: 50635.56 | L38: 1571.11 | M38: =C38+D38+E38+F38+G38+H38+I38+J38+K38+L38 -> 177857.79 | N38: 40 | O38: 110600 | P38: =M38*N38+O38 -> 7224911.6
A39: Внешкольные учреждения Лямбирского муниципального района | C39: 1615.5907 | D39: 0 | E39: 4.1580042 | F39: 185.44699 | G39: 44.740125 | H39: 1.039501 | I39: 12.474012 | J39: 0 | K39: 3504.2908 | L39: 14.012474 | M39: =C39+D39+E39+F39+G39+H39+I39+J39+K39+L39 -> 5381.7526 | N39: =SUM(N40:N41) -> 2405 | O39: 885600 | P39: =SUM(P40:P41) -> 7180177.5
A40: Муниципальное учреждение дополнительного образования "Лямбирский районный дом детского творчества" | B40: Услуга по реализации дополнительных общеобразовательных программ (физические лица) | C40: 400.20818 | D40: 0 | E40: 2.8555111 | F40: 0 | G40: 7.9954312 | H40: 0 | I40: 8.5665334 | J40: 0 | K40: 2187.2556 | L40: 1.8846374 | M40: =C40+D40+E40+F40+G40+H40+I40+J40+K40+L40 -> 2608.7659 | N40: 1751 | O40: 4300 | P40: =M40*N40+O40 -> 4572249.1
A41: МУДО "Лямбирская детско-юношеская спортивная школа" | B41: Реализация дополнительных общеобразовательных программ (показатель объема - физические лица) | C41: 1106.5315 | D41: 2.3750283 | E41: 3.4756512 | F41: 0 | G41: 3.2439411 | H41: 6.8354473 | I41: 10.948301 | J41: 0 | K41: 1500.8441 | L41: 5.8506795 | M41: =C41+D41+E41+F41+G41+H41+I41+J41+K41+L41 -> 2640.1046 | N41: 654 | O41: 881300 | P41: =M41*N41+O41 -> 2607928.4
A42: МБУ Лямбирского муниципального района РМ «Многофункциональный центр предоставления государственных и муниципальных услуг Лямбирского муниципального района» | B42: Организация предоставления государственных и муниципальных услуг в многофункциональном центре (показатель объема - физические, юридические лица) | N42: =#REF! -> #REF! | O42: =#REF! -> #REF! | P42: =M42*N42+O42 -> #REF!
A43: МБУ ДО "Атемарская ДШИ" | B43: Реализация дополнительных общеразвивающих программ. (показатель объема - число человеко-часов пребывания) | C43: 9311.3018 | D43: 8.3222121 | E43: 46.604303 | F43: 271.37639 | G43: 0.33609091 | H43: 33.513727 | I43: 23.302152 | J43: 0 | K43: 4745.565 | L43: 36.848939 | M43: =C43+D43+E43+F43+G43+H43+I43+J43+K43+L43 -> 14477.171 | N43: 13600 | O43: 0 | P43: 4197003.2
A44: МБУ ДО "Большеелховская ДШИ" | B44: Реализация дополнительных общеразвивающих программ. (показатель объема - число человеко-часов пребывания) | C44: 13449.658 | D44: 11.599848 | E44: 65.019758 | F44: 1302.7484 | G44: 0.53278788 | H44: 46.712909 | I44: 32.479576 | J44: 0 | K44: 6143.4275 | L44: 32.037576 | M44: =C44+D44+E44+F44+G44+H44+I44+J44+K44+L44 -> 21084.216 | N44: 18900 | O44: 167.112 | P44: 5543542.4
A45: МБУ ДО "Лямбирская ДШИ" | B45: Реализация дополнительных общеразвивающих программ. (показатель объема - число человеко-часов пребывания) | C45: 8539.3628 | D45: 9.2081913 | E45: 51.56589 | F45: 1258.4441 | G45: 31.767156 | H45: 37.081663 | I45: 25.782945 | J45: 0 | K45: 7014.0237 | L45: 24.7131 | M45: =C45+D45+E45+F45+G45+H45+I45+J45+K45+L45 -> 16991.95 | N45: 21647 | O45: 542610.21 | P45: 8317638.9
M46: =C46+D46+E46+F46+G46+H46+I46+J46+K46+L46 -> 0
M47: =C47+D47+E47+F47+G47+H47+I47+J47+K47+L47 -> 0
A48: КУЛЬТУРА | C48: 6244.8722 | D48: 221.2933 | E48: 184.89515 | F48: 630.08403 | G48: 98.892918 | H48: 329.30264 | I48: 131.61275 | J48: 33.927562 | K48: 3385.7153 | L48: 676.10595 | M48: =C48+D48+E48+F48+G48+H48+I48+J48+K48+L48 -> 11936.702 | N48: =SUM(N49:N62) -> 34392 | O48: 8348900 | P48: =SUM(P49:P62) -> 13032251
A49: МАУ "Культурно-спортивный центр "Алмаз" | B49: Работа по организации деятельности клубных формирований и самодеятельного народного творчества | C49: 4953.293 | D49: 216.43614 | E49: 184.78208 | F49: 193.5785 | G49: 90.426791 | H49: 216.8589 | I49: 123.03427 | J49: 29.018843 | K49: 2880.8712 | L49: 674.65068 | M49: =C49+D49+E49+F49+G49+H49+I49+J49+K49+L49 -> 9562.9504 | N49: 642 | O49: 509831.81 | P49: 6649246
A50: МАУ "Культурно-спортивный центр "Алмаз" | B50: Организация и проведение мероприятий,организация деятельности клубных формирований и самодеятельного художественного творчества(показатель объема-количество участников мероприятий) | C50: 1257.4955 | D50: 4.6691044 | E50: -4.7961635e-14 | F50: 435.56046 | G50: 8.4652501 | H50: 111.66511 | I50: 8.4652501 | J50: 4.7111758 | K50: 504.59322 | L50: 1.4481402 | M50: =C50+D50+E50+F50+G50+H50+I50+J50+K50+L50 -> 2337.0732
A51: МБУК "Лямбирская центральная районная библиотека" | B51: Библиотечное, библиографическое и информационное обслуживание пользователей библиотеки (показатель объема - количество выданных документов из фонда ) | C51: 34.08372 | D51: 0.18804981 | E51: 0.11306418 | F51: 0.94506577 | G51: 0.00087620596 | H51: 0.77862281 | I51: 0.11323059 | J51: 0.19754343 | K51: 0.25086675 | L51: 0.0071235172 | M51: =C51+D51+E51+F51+G51+H51+I51+J51+K51+L51 -> 36.678163 | N51: 33750 | O51: 0 | P51: 6383005.1

Sheet БНЗ 2021
K1: Приложение 3
K2: к постановлению Администрации
K3: Лямбирского муниципального района
K4: =' БНЗ 2019'!K3:M3 -> от "__" ___________ 20___г. №______
A5: Значения базовых нормативов затрат на оказание муниципальных услуг (выполнение работ)
A6: муниципальными учреждениями Лямбирского муниципального района на 2021 год
A12: Наименование учреждений | B12: Наименование муниципальной услуги | C12: Затраты, непосредственно связанные с оказанием муниципальной услуги, руб. | F12: Затраты на общехозяйственные нужды на оказание муниципальной услуги, руб | M12: Значение базового норматива затрат на оказание услуги, руб. | N12: Объем муниципальной услуги, установленной муниципальным заданием на 2016 год | O12: Затраты на уплату налогов, в качестве объекта налогооблажения по которым признается имущество муниципального учреждения (рублей) | P12: Оъем финансового обеспечения выполнения муниципального задания (рублей)
C13: Оплата труда и начисления на выплаты по оплате труда работников, непосредственно связанных с оказанием муниципальной услуги | D13: Приобретение материальных запасов и особо ценного движимого имущества, потребляемого в процессе оказания муниципальной услуги | E13: Иные затраты, непосредственно связанные с оказанием муниципальной услуги | F13: Коммунальные услуги | G13: Содержание объектов недвижимого имущества | H13: Содержание объектов особо ценного движимого имущества | I13: Приобретение услуг связи | J13: Приобретение транспортных услуг | K13: Оплата труда и начисления на выплаты по оплате труда работников, которые не принимают непосредственного участия в оказании муниципальной услуги | L13: Прочие общехозяйственные нужды
A14: 1 | B14: 2 | C14: 3 | D14: 4 | E14: 5 | F14: 6 | G14: 7 | H14: 8 | I14: 9 | J14: 10 | K14: 11 | L14: 12 | M14: 13 | N14: 16 | O14: 17 | P14: 18=15*16+17
A15: Дошкольные учреждения Лямбирского муниципального района | C15: 29552.492 | D15: 485.02463 | E15: 169.85222 | F15: 6575.1724 | G15: 1108.1773 | H15: 358.2266 | I15: 162.56158 | J15: 21.674877 | K15: 17655.334 | L15: 4362.5616 | M15: =C15+D15+E15+F15+G15+H15+I15+J15+K15+L15 -> 60451.077 | N15: =SUM(N16:N21) -> 1015 | O15: 2370300 | P15: =SUM(P16:P21) -> 58565473
A16: МБДОУ Лямбирского муниципального района"Атемарский детский сад №1 "Теремок" | B16: Реализации основных общеобразовательных программ дошкольного образования (показатель объема -физические лица в возрасте до 8 лет) | C16: 20273.529 | D16: 75.630252 | E16: 107.56303 | F16: 5361.3445 | G16: 530.2521 | H16: 194.53782 | I16: 179.41176 | J16: 0 | K16: 18077.311 | L16: 1799.5798 | M16: =C16+D16+E16+F16+G16+H16+I16+J16+K16+L16 -> 46599.16 | N16: 204 | O16: 179900 | P16: =M16*N16+O16 -> 9686128.6
A17: МБДОУ Лямбирского муниципального района "Александровский детский сад "Ягодка" | B17: Реализации основных общеобразовательных программ дошкольного образования (показатель объема -физические лица в возрасте до 8 лет) | C17: 24542.029 | D17: 76.811594 | E17: 105.7971 | F17: 4005.7971 | G17: 917.3913 | H17: 310.14493 | I17: 259.42029 | J17: 0 | K17: 27359.42 | L17: 2131.8841 | M17: =C17+D17+E17+F17+G17+H17+I17+J17+K17+L17 -> 59708.696 | N17: 80 | O17: 170000 | P17: =M17*N17+O17 -> 4946695.7
A18: МБДОУ Лямбирского муниципального района "Большеелховский детский сад №1 комбинированного вида" | B18: Реализации основных общеобразовательных программ дошкольного образования (показатель объема -физические лица в возрасте до 8 лет) | C18: 27972.385 | D18: 107.11297 | E18: 130.96234 | F18: 6025.1046 | G18: 507.94979 | H18: 255.23013 | I18: 101.67364 | J18: 0 | K18: 20620.084 | L18: 2064.0167 | M18: =C18+D18+E18+F18+G18+H18+I18+J18+K18+L18 -> 57784.519 | N18: 248 | O18: 256600 | P18: =M18*N18+O18 -> 14587161
A19: МБДОУ Лямбирского муниципального района"Лямбирский детский сад № 2 "Родничок"" | B19: Реализации основных общеобразовательных программ дошкольного образования (показатель объема -физические лица в возрасте до 8 лет) | C19: 27007.965 | D19: 123.00885 | E19: 138.93805 | F19: 8869.0265 | G19: 955.75221 | H19: 325.66372 | I19: 185.84071 | J19: 0 | K19: 23592.035 | L19: 2046.0177 | M19: =C19+D19+E19+F19+G19+H19+I19+J19+K19+L19 -> 63244.248 | N19: 118 | O19: 193800 | P19: =M19*N19+O19 -> 7656621.2
A20: МБДОУ Лямбирского муниципального района"Лямбирский детский сад № 3 комбинированного вида" | B20: Реализации основных общеобразовательных программ дошкольного образования (показатель объема -физические лица в возрасте до 8 лет) | C20: 23782.121 | D20: 82.424242 | E20: 104.24242 | F20: 5847.2727 | G20: 491.81818 | H20: 235.15152 | I20: 69.090909 | J20: 0 | K20: 18385.152 | L20: 1936.0606 | M20: =C20+D20+E20+F20+G20+H20+I20+J20+K20+L20 -> 50933.333 | N20: 305 | O20: 503100 | P20: =M20*N20+O20 -> 16037767
A21: МБДОУ Лямбирского муниципального района"Коммунарский детский сад "Солнышко" | B21: Реализации основных общеобразовательных программ дошкольного образования (показатель объема -физические лица в возрасте до 8 лет) | C21: 24226.667 | D21: 88.333333 | E21: 150 | F21: 14363.333 | G21: 1266.6667 | H21: 353.33333 | I21: 298.33333 | J21: 0 | K21: 33381.667 | L21: 2275 | M21: =C21+D21+E21+F21+G21+H21+I21+J21+K21+L21 -> 76403.333 | N21: 60 | O21: 1066900 | P21: =M21*N21+O21 -> 5651100
A22: Общеобразовательные учреждения Лямбирского муниципального района | C22: 52150.845 | D22: 5767.5185 | E22: 38.518519 | F22: 7148.8148 | G22: 1148.7037 | H22: 312.55556 | I22: 190.66667 | J22: 31.481481 | K22: 15315.571 | L22: 2895.5296 | M22: =C22+D22+E22+F22+G22+H22+I22+J22+K22+L22 -> 85000.204 | N22: =SUM(N23:N39) -> 2700 | O22: 8348900 | P22: =SUM(P23:P39) -> #VALUE!
A23: МОУ "Аксеновская средняя общеобразовательная школа" Лямбирского муниципального района РМ | B23: Реализация основных общеобразовательных программ начального общего, основного, среднего общего образования (показатель объема -физические лица в возрасте от 6 до 18 лет) | C23: 75522.989 | D23: 2525.2874 | E23: 82.758621 | F23: 4048.2759 | G23: 439.08046 | H23: 217.24138 | I23: 134.48276 | J23: 0 | K23: 36639.08 | L23: 295.4023 | M23: =C23+D23+E23+F23+G23+H23+I23+J23+K23+L23 -> 119904.6 | N23: 53 | O23: 260400 | P23: =M23*N23+O23 -> 6615343.7
A24: МОУ "Александровская средняя общеобразовательная школа" Лямбирского муниципального района РМ | B24: Реализация основных общеобразовательных программ начального общего, основного, среднего общего образования (показатель объема -физические лица в возрасте от 6 до 18 лет) | C24: 62014.379 | D24: 1731.3725 | E24: 26.143791 | F24: 9561.4379 | G24: 426.14379 | H24: 147.05882 | I24: 105.88235 | J24: 0 | K24: 19065.359 | L24: 226.14379 | M24: =C24+D24+E24+F24+G24+H24+I24+J24+K24+L24 -> 93303.922 | N24: 120 | O24: 552900 | P24: =M24*N24+O24 -> 11749371
A25: МОУ "Атемарская средняя общеобразовательная школа" Лямбирского муниципального района РМ | B25: Реализация основных общеобразовательных программ начального общего, основного, среднего общего образования (показатель объема -физические лица в возрасте от 6 до 18 лет) | C25: 29960.618 | D25: 1002.7027 | E25: 13.899614 | F25: 4417.9537 | G25: 395.3668 | H25: 95.945946 | I25: 115.83012 | J25: 0 | K25: 17021.815 | L25: 1315.8301 | M25: =C25+D25+E25+F25+G25+H25+I25+J25+K25+L25 -> 54339.961 | N25: 465 | O25: 1812100 | P25: =M25*N25+O25 -> 27080182
A26: МОУ "Берсеневская средняя общеобразовательная школа" Лямбирского муниципального района РМ | B26: Реализация основных общеобразовательных программ начального общего, основного, среднего общего образования (показатель объема -физические лица в возрасте от 6 до 18 лет) | C26: 46538.725 | D26: 1401.4706 | E26: 17.647059 | F26: 7652.451 | G26: 445.58824 | H26: 122.54902 | I26: 106.86275 | J26: 0 | K26: 19070.098 | L26: 143.62745 | M26: =C26+D26+E26+F26+G26+H26+I26+J26+K26+L26 -> 75499.02 | N26: 203 | O26: 224200 | P26: =M26*N26+O26 -> 15550501
A27: МКОУ "Болотниковская основная общеобразовательная школа" Лямбирского муниципального района РМ | B27: Реализация основных общеобразовательных программ начального общего, основного, среднего общего образования (показатель объема -физические лица в возрасте от 6 до 18 лет) | C27: 98376.115 | D27: 5642.3077 | E27: 76.923077 | F27: 7434.6154 | G27: 7184.6154 | H27: 1242.3077 | I27: 384.61538 | J27: 192.30769 | K27: 52500.646 | L27: 5190.4438 | M27: =C27+D27+E27+F27+G27+H27+I27+J27+K27+L27 -> 178224.9 | N27: 26 | O27: 54400 | P27: =M27*N27+O27 -> 4688247.3
A28: МОУ "Большеелховская средняя общеобразовательная школа" Лямбирского муниципального района РМ | B28: Реализация основных общеобразовательных программ начального общего, основного, среднего общего образования (показатель объема -физические лица в возрасте от 6 до 18 лет) | C28: 30069.47 | D28: 935.64899 | E28: 26.325411 | F28: 2771.1152 | G28: 297.25777 | H28: 91.224863 | I28: 133.27239 | J28: 0 | K28: 13838.208 | L28: 1196.3437 | M28: =C28+D28+E28+F28+G28+H28+I28+J28+K28+L28 -> 49358.867 | N28: 540 | O28: 1817400 | P28: =M28*N28+O28 -> 28471188
A29: МКОУ "Николаевская основная общеобразовательная школа" Лямбирского муниципального района РМ | B29: Реализация основных общеобразовательных программ начального общего, основного, среднего общего образования (показатель объема -физические лица в возрасте от 6 до 18 лет) | C29: 142821.26 | D29: 5268.75 | E29: 187.5 | F29: 101456.25 | G29: , | H29: 1900 | I29: 625 | J29: 312.5 | K29: 77696.85 | L29: 4923.6198 | M29: =C29+D29+E29+F29+G29+H29+I29+J29+K29+L29 -> #VALUE! | N29: 16 | O29: 181400 | P29: =M29*N29+O29 -> #VALUE!
A30: МОУ "Кривозерьевская средняя общеобразовательная школа" Лямбирского муниципального района РМ | B30: Реализация основных общеобразовательных программ начального общего, основного, среднего общего образования (показатель объема -физические лица в возрасте от 6 до 18 лет) | C30: 94589.61 | D30: 3224.6753 | E30: 28.571429 | F30: 9524.6753 | G30: 1248.0519 | H30: 292.20779 | I30: 229.87013 | J30: 0 | K30: 41802.597 | L30: 1400 | M30: =C30+D30+E30+F30+G30+H30+I30+J30+K30+L30 -> 152340.26 | N30: 114 | O30: 1560300 | P30: =M30*N30+O30 -> 18927090
A31: МОУ "Лямбирская средняя общеобразовательная школа № 1 " Лямбирского муниципального района | B31: Реализация основных общеобразовательных программ начального общего, основного, среднего общего образования (показатель объема -физические лица в возрасте от 6 до 18 лет) | C31: 34567.55 | D31: 1097.7925 | E31: 23.84106 | F31: 3108.6093 | G31: 169.09492 | H31: 92.494481 | I31: 90.728477 | J31: 0 | K31: 13301.325 | L31: 279.0287 | M31: =C31+D31+E31+F31+G31+H31+I31+J31+K31+L31 -> 52730.464 | N31: 434 | O31: 283600 | P31: =M31*N31+O31 -> 23168621
A32: МОУ "Лямбирская средняя общеобразовательная школа №2" Лямбирского муниципального района | B32: Реализация основных общеобразовательных программ начального общего, основного, среднего общего образования (показатель объема -физические лица в возрасте от 6 до 18 лет) | C32: 33209.276 | D32: 986.1991 | E32: 19.683258 | F32: 3624.8869 | G32: 167.8733 | H32: 74.434389 | I32: 70.135747 | J32: 0 | K32: 10179.412 | L32: 86.877828 | M32: =C32+D32+E32+F32+G32+H32+I32+J32+K32+L32 -> 48418.778 | N32: 350 | O32: 649900 | P32: =M32*N32+O32 -> 17596472
A33: МОУ "Черемишевская основная общеобразовательная школа" Лямбирского муниципального района РМ | B33: Реализация основных общеобразовательных программ начального общего, основного общего образования (показатель объема -физические лица в возрасте от 6 до 18 лет) | C33: 129255.26 | D33: 4307.8947 | E33: 55.263158 | F33: 11342.105 | G33: 1163.1579 | H33: 431.57895 | I33: 257.89474 | J33: 0 | K33: 60581.579 | L33: 305.26316 | M33: =C33+D33+E33+F33+G33+H33+I33+J33+K33+L33 -> 207700 | N33: 40 | O33: 190900 | P33: =M33*N33+O33 -> 8498900
A34: МОУ "Пензятская средняя общеобразовательная школа " Лямбирского муниципального района | B34: Реализация основных общеобразовательных программ начального общего, основного, среднего общего образования (показатель объема -физические лица в возрасте от 6 до 18 лет) | C34: 77855 | D34: 2549 | E34: 36 | F34: 9617 | G34: 603 | H34: 235 | I34: 206 | J34: 0 | K34: 32003 | L34: 1904 | M34: =C34+D34+E34+F34+G34+H34+I34+J34+K34+L34 -> 125008 | N34: 104 | O34: 251900 | P34: =M34*N34+O34 -> 13252732
A35: МОУ "Первомайская средняя общеобразовательная школа " Лямбирского муниципального района | B35: Реализация основных общеобразовательных программ начального общего, основного, среднего общего образования (показатель объема -физические лица в возрасте от 6 до 18 лет) | C35: 102587.3 | D35: 3055.5556 | E35: 22.222222 | F35: 7890.4762 | G35: 493.65079 | H35: 241.26984 | I35: 215.87302 | J35: 0 | K35: 39671.429 | L35: 306.34921 | M35: =C35+D35+E35+F35+G35+H35+I35+J35+K35+L35 -> 154484.13 | N35: 77 | O35: 14400 | P35: =M35*N35+O35 -> 11909678
A36: МОУ "Саловская средняя общеобразовательная школа " Лямбирского муниципального района | B36: Реализация основных общеобразовательных программ начального общего, основного, среднего общего образования (показатель объема -физические лица в возрасте от 6 до 18 лет) | C36: 69492.771 | D36: 2102.4096 | E36: 26.506024 | F36: 17228.916 | G36: 507.22892 | H36: 210.84337 | I36: 140.96386 | J36: 0 | K36: 28537.349 | L36: 1562.6506 | M36: =C36+D36+E36+F36+G36+H36+I36+J36+K36+L36 -> 119809.64 | N36: 71 | O36: 135300 | P36: =M36*N36+O36 -> 8641784.3
A37: МКОУ "Лопатинская основная общеобразовательная школа" Лямбирского муниципального района РМ | B37: Реализация основных общеобразовательных программ начального общего, основного, среднего общего образования (показатель объема -физические лица в возрасте от 6 до 18 лет) | C37: 112844.82 | D37: 7388.8889 | E37: 74.074074 | F37: 25096.296 | G37: 5929.6296 | H37: 933.33333 | I37: 555.55556 | J37: 185.18519 | K37: 37704.956 | L37: 778.07337 | M37: =C37+D37+E37+F37+G37+H37+I37+J37+K37+L37 -> 191490.81 | N37: 27 | O37: 139700 | P37: =M37*N37+O37 -> 5309952
A38: МКОУ "Скрябинская основная общеобразовательная школа" Лямбирского муниципального района РМ | B38: Реализация основных общеобразовательных программ начального общего, основного, среднего общего образования (показатель объема -физические лица в возрасте от 6 до 18 лет) | C38: 165503.73 | D38: 6385 | E38: 100 | F38: 31535 | G38: 8050 | H38: 1625 | I38: 1000 | J38: 250 | K38: 68973.45 | L38: 1371.9327 | M38: =C38+D38+E38+F38+G38+H38+I38+J38+K38+L38 -> 284794.11 | N38: 20 | O38: 109500 | P38: =M38*N38+O38 -> 5805382.3
A39: МОУ "Т атарско-Тавленская основная общеобразовательная школа" Лямбирского муниципального района РМ | B39: Реализация основных общеобразовательных программ начального общего, основного общего образования (показатель объема -физические лица в возрасте от 6 до 18 лет) | C39: 145936.84 | D39: 4710.5263 | E39: 36.842105 | F39: 5397.3684 | G39: 731.57895 | H39: 378.94737 | I39: 228.94737 | J39: 0 | K39: 63702.632 | L39: 602.63158 | M39: =C39+D39+E39+F39+G39+H39+I39+J39+K39+L39 -> 221726.32 | N39: 40 | O39: 110600 | P39: =M39*N39+O39 -> 8979652.6
A40: Муниципальное учреждение дополнительного образования "Лямбирский районный дом детского творчества" | B40: Услуга по реализации дополнительных общеобразовательных программ (физические лица) | C40: 400.20818 | D40: 0 | E40: 2.8555111 | F40: 0 | G40: 7.9954312 | H40: 0 | I40: 8.5665334 | J40: 0 | K40: 2187.2556 | L40: 1.8846374 | M40: =C40+D40+E40+F40+G40+H40+I40+J40+K40+L40 -> 2608.7659 | N40: 1751 | O40: 4300 | P40: =M40*N40+O40 -> 4572249.1
A41: МУДО "Лямбирская детско-юношеская спортивная школа" | B41: Реализация дополнительных общеобразовательных программ (показатель объема - физические лица) | C41: 4026.6817 | D41: 11.267606 | E41: 14.088263 | F41: 525.74836 | G41: 117.82911 | H41: 113.98685 | I41: 16.809859 | J41: 0 | K41: 5028.169 | L41: 51.710329 | M41: =C41+D41+E41+F41+G41+H41+I41+J41+K41+L41 -> 9906.2911 | N41: 654 | O41: 881300 | P41: =M41*N41+O41 -> 7360014.4
A42: МБУ Лямбирского муниципального района РМ «Многофункциональный центр предоставления государственных и муниципальных услуг Лямбирского муниципального района» | B42: Организация предоставления государственных и муниципальных услуг в многофункциональном центре (показатель объема - физические, юридические лица) | M42: =C42+D42+E42+F42+G42+H42+I42+J42+K42+L42 -> 0 | N42: =#REF! -> #REF! | O42: =#REF! -> #REF! | P42: =M42*N42+O42 -> #REF!
A43: МБУ ДО "Атемарская ДШИ" | B43: Реализация дополнительных общеразвивающих программ. (показатель объема - число человеко-часов пребывания) | C43: 9879.3222 | D43: 7.5757576 | E43: 26.671182 | F43: 282.23158 | G43: 0.33609091 | H43: 38.359121 | I43: 26.671182 | J43: 0 | K43: 6209.8784 | L43: 18.484848 | M43: =C43+D43+E43+F43+G43+H43+I43+J43+K43+L43 -> 16489.53 | N43: 13600 | O43: 0 | P43: 4197003.2
A44: МБУ ДО "Большеелховская ДШИ" | B44: Реализация дополнительных общеразвивающих программ. (показатель объема - число человеко-часов пребывания) | C44: 14270.132 | D44: 7.5757576 | E44: 37.596485 | F44: 1354.858 | G44: 0.53278788 | H44: 53.985 | I44: 37.535879 | J44: 0 | K44: 8373.1282 | L44: 26.811333 | M44: =C44+D44+E44+F44+G44+H44+I44+J44+K44+L44 -> 24162.156 | N44: 18900 | O44: 167.112 | P44: 5543542.4
A45: МБУ ДО "Лямбирская ДШИ" | B45: Реализация дополнительных общеразвивающих программ. (показатель объема - число человеко-часов пребывания) | C45: 9060.2924 | D45: 17.52706 | E45: 29.525277 | F45: 1308.7804 | G45: 31.767156 | H45: 42.463952 | I45: 29.525277 | J45: 0 | K45: 8750.6247 | L45: 21.089479 | M45: =C45+D45+E45+F45+G45+H45+I45+J45+K45+L45 -> 19291.596 | N45: 21647 | O45: 542610.21 | P45: 8317638.9
...

Sheet КК Т и О
C1: Приложение 4
C2: к постановлению Администрации
C3: Лямбирского муниципального района
C4: ='БНЗ 2021'!K4 -> от "__" ___________ 20___г. №______
A10: Значения корректирующих коэффициентов к базовым нормативам затрат на оказание муниципальных услуг (выполнение работ)
D11: на 2016 гд
A14: муниципальными учреждениями Лямбирского муниципального района на 2019 год и на плановый период 2020 и 2021 годов
A15: Наименование учреждений | B15: Наименование муниципальной услуги | C15: Условие, отражающее специфику оказания услуги | D15: Наименование субъекта РФ, на территории которого оказывается услуга | E15: Базовый норматив затрат на оказание муниципальной услуги, руб. | F15: Корректирующий коэффициент
D16: 4 | E16: 4 | F16: 2019 г. | G16: 2020 г. | H16: 7=4*5*6 | I16: 2020 г. | J16: 2021 г.
A17: МБДОУ Лямбирского муниципального района"Атемарский детский сад №1 "Теремок" | B17: Реализации основных общеобразовательных программ дошкольного образования (показатель объема -физические лица в возрасте до 8 лет) | C17: очная | D17: Республика Мордовия, Лямбирский муниципальный район | E17: =' БНЗ 2019'!M14 -> 60451.077 | F17: 0.84 | G17: 1 | H17: =E17*F17*G17 -> 50778.905 | I17: 0.84 | J17: 0.85
A18: МБДОУ Лямбирского муниципального района "Александровский детский сад "Ягодка" | B18: Реализации основных общеобразовательных программ дошкольного образования (показатель объема -физические лица в возрасте до 8 лет) | C18: очная | D18: Республика Мордовия, Лямбирский муниципальный район | E18: =E17 -> 60451.077 | F18: 1.06 | G18: 1 | H18: =E18*F18*G18 -> 64078.142 | I18: 1.07 | J18: 1.09
A19: МБДОУ Лямбирского муниципального района "Большеелховский детский сад №1 комбинированного вида" | B19: Реализации основных общеобразовательных программ дошкольного образования (показатель объема -физические лица в возрасте до 8 лет) | C19: очная | D19: Республика Мордовия, Лямбирский муниципальный район | E19: =E17 -> 60451.077 | F19: 1.09 | G19: 1 | H19: =E19*F19*G19 -> 65891.674 | I19: 1.07 | J19: 1.05
A20: МБДОУ Лямбирского муниципального района"Лямбирский детский сад № 2 "Родничок"" | B20: Реализации основных общеобразовательных программ дошкольного образования (показатель объема -физические лица в возрасте до 8 лет) | C20: очная | D20: Республика Мордовия, Лямбирский муниципальный район | E20: =E17 -> 60451.077 | F20: 1.17 | G20: 1 | H20: =E20*F20*G20 -> 70727.76 | I20: 1.14 | J20: 1.15
A21: МБДОУ Лямбирского муниципального района"Лямбирский детский сад № 3 комбинированного вида "Сказка" | B21: Реализации основных общеобразовательных программ дошкольного образования (показатель объема -физические лица в возрасте до 8 лет) | C21: очная | D21: Республика Мордовия, Лямбирский муниципальный район | E21: =E17 -> 60451.077 | F21: 0.92 | G21: 1 | H21: =E21*F21*G21 -> 55614.991 | I21: 0.93 | J21: 0.93
A22: МБДОУ Лямбирского муниципального района"Коммунарский детский сад "Солнышко" | B22: Реализации основных общеобразовательных программ дошкольного образования (показатель объема -физические лица в возрасте до 8 лет) | C22: очная | D22: Республика Мордовия, Лямбирский муниципальный район | E22: =E17 -> 60451.077 | F22: 1.34 | G22: 1 | H22: =E22*F22*G22 -> 81004.444 | I22: 1.37 | J22: 1.39
A23: МОУ "Аксеновская средняя общеобразовательная школа" Лямбирского муниципального района РМ | B23: Реализация основных общеобразовательных программ начального общего, основного, среднего общего образования (показатель объема -физические лица в возрасте от 6 до 18 лет) | C23: очная | D23: Республика Мордовия, Лямбирский муниципальный район | E23: =' БНЗ 2019'!M21 -> 85000.204 | F23: 1.91 | G23: 1 | H23: =E23*F23*G23 -> 162350.39 | I23: 1.72 | J23: 1.57
A24: МОУ "Александровская средняя общеобразовательная школа" Лямбирского муниципального района РМ | B24: Реализация основных общеобразовательных программ начального общего, основного, среднего общего образования (показатель объема -физические лица в возрасте от 6 до 18 лет) | C24: очная | D24: Республика Мордовия, Лямбирский муниципальный район | E24: =E23 -> 85000.204 | F24: 1.29 | G24: 1 | H24: =E24*F24*G24 -> 109650.26 | I24: 1.27 | J24: 1.22
A25: МОУ "Атемарская средняя общеобразовательная школа" Лямбирского муниципального района РМ | B25: Реализация основных общеобразовательных программ начального общего, основного, среднего общего образования (показатель объема -физические лица в возрасте от 6 до 18 лет) | C25: очная | D25: Республика Мордовия, Лямбирский муниципальный район | E25: =E23 -> 85000.204 | F25: 0.72 | G25: 1 | H25: =E25*F25*G25 -> 61200.147 | I25: 0.72 | J25: 0.71
A26: МОУ "Берсеневская средняя общеобразовательная школа" Лямбирского муниципального района РМ | B26: Реализация основных общеобразовательных программ начального общего, основного, среднего общего образования (показатель объема -физические лица в возрасте от 6 до 18 лет) | C26: очная | D26: Республика Мордовия, Лямбирский муниципальный район | E26: =E23 -> 85000.204 | F26: 0.96 | G26: 1 | H26: =E26*F26*G26 -> 81600.196 | I26: 0.99 | J26: 0.99
A27: МКОУ "Болотниковская основная общеобразовательная школа" Лямбирского муниципального района РМ | B27: Реализация основных общеобразовательных программ начального общего, основного, среднего общего образования (показатель объема -физические лица в возрасте от 6 до 18 лет) | C27: очная | D27: Республика Мордовия, Лямбирский муниципальный район | E27: =E23 -> 85000.204 | F27: =' БНЗ 2019'!M26/' БНЗ 2019'!$M$21 -> 2.0967585 | G27: 1 | H27: =E27*F27*G27 -> 178224.9
A28: МОУ "Большеелховская средняя общеобразовательная школа" Лямбирского муниципального района РМ | B28: Реализация основных общеобразовательных программ начального общего, основного, среднего общего образования (показатель объема -физические лица в возрасте от 6 до 18 лет) | C28: очная | D28: Республика Мордовия, Лямбирский муниципальный район | E28: =E23 -> 85000.204 | F28: 0.65 | G28: 1 | H28: =E28*F28*G28 -> 55250.133 | I28: 0.64 | J28: 0.65
A29: МКОУ "Николаевская основная общеобразовательная школа" Лямбирского муниципального района РМ | B29: Реализация основных общеобразовательных программ начального общего, основного, среднего общего образования (показатель объема -физические лица в возрасте от 6 до 18 лет) | C29: очная | D29: Республика Мордовия, Лямбирский муниципальный район | E29: =E23 -> 85000.204 | F29: =' БНЗ 2019'!M28/' БНЗ 2019'!$M$21 -> 4.0678341 | G29: 1 | H29: =E29*F29*G29 -> 345766.73
A30: МОУ "Кривозерьевская средняя общеобразовательная школа" Лямбирского муниципального района РМ | B30: Реализация основных общеобразовательных программ начального общего, основного, среднего общего образования (показатель объема -физические лица в возрасте от 6 до 18 лет) | C30: очная | D30: Республика Мордовия, Лямбирский муниципальный район | E30: =E23 -> 85000.204 | F30: 1.63 | G30: 1 | H30: =E30*F30*G30 -> 138550.33 | I30: 1.82 | J30: 2
A31: МОУ "Лямбирская средняя общеобразовательная школа № 1 " Лямбирского муниципального района | B31: Реализация основных общеобразовательных программ начального общего, основного, среднего общего образования (показатель объема -физические лица в возрасте от 6 до 18 лет) | C31: очная | D31: Республика Мордовия, Лямбирский муниципальный район | E31: =E23 -> 85000.204 | F31: 0.68 | G31: 1 | H31: =E31*F31*G31 -> 57800.139 | I31: 0.68 | J31: 0.69
