Workbook

Sheet Лист1
A2: СРОЧНО!!! До 15 часов 27.11.2015 г Предоставить распределение Госстандарта на 2016 год в связи с вашей потребностью. Расписать потребность
B5: Всего Учебных расходов на 2016 год | C5: Численность детей | D5: 310 ст. учебники 2% 4126,2 т.р | E5: 310 ст.Учебно- наглядные пособия 2,5% 5157,7 т..р | F5: 340 ст. прочие мат затр 3 % 6189,3 т.р. | G5: 310 ст. на приобритение оборудования 2,5% 5157,7 т. р. | H5: Распределение учебных расходов в размере 10% от ГС
A6: 1 | B6: 2 | C6: 3 | D6: 4 | E6: 5 | F6: 6 | G6: 7 | H6: 8
B7: 20630.9 | C7: 2645 | D7: =B7*20% -> 4126.18 | E7: =B7*25% -> 5157.725 | F7: =B7*30% -> 6189.27 | G7: =B7*25% -> 5157.725 | H7: =G7+F7+E7+D7 -> 20630.9
A8: Лямбирский муниципальный район
A9: МОУ "Аксеновская средняя школа" | B9: =D9+E9+F9+G9 -> 405.6 | C9: 52 | D9: 110 | E9: 72.5 | F9: 103.2 | G9: 119.9 | H9: 405.59882
A10: МОУ "Александровская средняя школа" | B10: =D10+E10+F10+G10 -> 897 | C10: 115 | D10: 179.5 | E10: 153.4 | F10: 234.1 | G10: 330 | H10: 896.99739
A11: МОУ "Атемарская средняя школа" | B11: =D11+E11+F11+G11 -> 3619.1 | C11: 464 | D11: 723.8 | E11: 904.8 | F11: 1085.7 | G11: 904.8 | H11: 3619.1895
A12: МОУ "Берсеневская средняя школа" | B12: =D12+E12+F12+G12 -> 1544.4 | C12: 198 | D12: 270.9 | E12: 424.1 | F12: 463.3 | G12: 386.1 | H12: 1544.3955
A13: МОУ "Болотниковская средняя школа" | B13: =D13+E13+F13+G13 -> 187.2 | C13: 24 | D13: 47.4 | E13: 36.8 | F13: 54.2 | G13: 48.8 | H13: 187.19946
A14: МОУ "Б.Елховская средняя школа" | B14: =D14+E14+F14+G14 -> 4056 | C14: 520 | D14: 811.5 | E14: 564.5 | F14: 600 | G14: 2080 | H14: 4055.9882
A15: МОУ "Николаевская средняя школа" | B15: =D15+E15+F15+G15 -> 101.4 | C15: 13 | D15: 20.3 | E15: 25.3 | F15: 30.4 | G15: 25.4 | H15: 101.39971
A16: МОУ "Кривозерьевская средняя школа" | B16: =D16+E16+F16+G16 -> 865.8 | C16: 111 | D16: 100 | E16: 289.6 | F16: 259.7 | G16: 216.5 | H16: 865.79748
A17: МОУ "Лямбирская средняя школа №1" | B17: =D17+E17+F17+G17 -> 3416.4 | C17: 438 | D17: 683.3 | E17: 654.1 | F17: 1300 | G17: 779 | H17: 3416.3901
A18: МОУ "Лямбирская средняя школа №2" | B18: =D18+E18+F18+G18 -> 2659.8 | C18: 341 | D18: 532.1 | E18: 664.9 | F18: 797.9 | G18: 664.9 | H18: 2659.7923
A19: МОУ "Черемишевская основная школа" | B19: =D19+E19+F19+G19 -> 312 | C19: 40 | D19: 62.4 | E19: 78 | F19: 93.6 | G19: =G$12/C$12*C19 -> 78 | H19: 311.99909
A20: МОУ "Пензятская средняя школа" | B20: =D20+E20+F20+G20 -> 826.8 | C20: 106 | D20: 90 | E20: 221.7 | F20: 258.4 | G20: 256.7 | H20: 826.7976
A21: МОУ "Первомайская средняя школа" | B21: =D21+E21+F21+G21 -> 577.15253 | C21: 74 | D21: 115.4 | E21: 144.3 | F21: =F$12/C$12*C21 -> 173.15253 | G21: =G$12/C$12*C21 -> 144.3 | H21: 577.19832
A22: МОУ "Саловская средняя школа" | B22: =D22+E22+F22+G22 -> 506.99343 | C22: 65 | D22: 101.4 | E22: 126.7 | F22: =F$12/C$12*C22 -> 152.09343 | G22: 126.8 | H22: 506.99853
A23: МОУ "Лопатинская основная школа" | B23: =D23+E23+F23+G23 -> 210.6 | C23: 27 | D23: 30.6 | E23: 80 | F23: 30 | G23: 70 | H23: 210.59939
A24: МОУ "Скрябинская средняя школа" | B24: =D24+E24+F24+G24 -> 140.4 | C24: 18 | D24: 33.1 | E24: 30.1 | F24: 35.1 | G24: 42.1 | H24: 140.39959
A25: МОУ "Т.Тавлинская средняя школа" | B25: =D25+E25+F25+G25 -> 304.15606 | C25: 39 | D25: 60.8 | E25: 76 | F25: =F$12/C$12*C25 -> 91.256061 | G25: 76.1 | H25: 304.19912
A26: ИТОГО | B26: =SUM(B9:B25) -> 20630.802 | C26: =SUM(C9:C25) -> 2645 | D26: =SUM(D9:D25) -> 3972.5 | E26: =SUM(E9:E25) -> 4546.8 | F26: =SUM(F9:F25) -> 5762.102 | G26: =SUM(G9:G25) -> 6349.4 | H26: =SUM(H9:H25) -> 20630.94

Sheet ИТОГО БНЗ
M1: Приложение 1
M2: к постановлению Администрации
M3: Лямбирского муниципального района
M4: от "31" декабря 2015г. №1748
A5: Базовые нормативы затрат на оказание муниципальных услуг
A6: муниципальными бюджетными учреждениями Лямбирского муниципального района на 2016 год
A12: Наименование учреждений | B12: Наименование муниципальной услуги | C12: Базовый норматив затрат, непосредственно связанных с оказанием муниципальной услуги, руб. | G12: Базовый норматив затрат на общехозяйственные нужды, руб | O12: Базовый норматив затрат на оказание услуги, руб. | P12: Объем муниципальной услуги, установленной муниципальным заданием на 2016 год | Q12: Затраты на уплату налогов, в качестве объекта налогооблажения по которым признается имущество муниципального учреждения (рублей) | R12: Оъем финансового обеспечения выполнения муниципального задания (рублей)
C13: Оплата труда, в т.ч. начисления на выплаты по оплате труда работников, непосредственно связанных с оказанием муниципальной услуги | D13: Приобретение материальных запасов и особо ценного движимого имущества, потребляемого в процессе оказания муниципальной услуги | E13: Иные затраты, непосредственно связанные с оказанием муниципальной услуги | F13: Итого затрат | G13: Коммунальные услуги | H13: Содержание объектов недвижимого имущества, необходимого для выполнения муниципального задания | I13: Содержание объектов особо ценного движимого имущества | J13: Приобретение услуг связи | K13: Приобретение транспортных услуг | L13: Оплата труда, в т.ч. начисления на выплаты по оплате труда работников, которые не принимают непосредственного участия в оказании муниципальной услуги | M13: Прочие общехозяйственные нужды | N13: Итого затрат
A14: 1 | B14: 2 | C14: 3 | D14: 4 | E14: 5 | F14: 6=3+4+5 | G14: 7 | H14: 8 | I14: 9 | J14: 10 | K14: 11 | L14: 12 | M14: 13 | N14: 14=7+8+9+10+11+12+13 | O14: 15=6+14 | P14: 16 | Q14: 17 | R14: 18=15*16+17
A15: Дошкольные учреждения Лямбирского муниципального района | C15: 29552.492 | D15: 485.02463 | E15: 169.85222 | F15: =C15+D15+E15 -> 30207.369 | G15: 6575.1724 | H15: 1108.1773 | I15: 358.2266 | J15: 162.56158 | K15: 21.674877 | L15: 17655.334 | M15: 4362.5616 | N15: =SUM(G15:M15) -> 30243.709 | O15: =C15+D15+E15+G15+H15+I15+J15+K15+L15+M15 -> 60451.077 | P15: =SUM(P16:P21) -> 1015 | Q15: 2370300 | R15: =SUM(R16:R21) -> 63728143
A16: МБДОУ Лямбирского муниципального района"Атемарский детский сад №1 "Теремок" | B16: Реализации основных общеобразовательных программ дошкольного образования (показатель объема -физические лица в возрасте от 1,5 до 7 лет) | C16: 25266.856 | D16: 514.70588 | E16: 175.4902 | F16: =C16+D16+E16 -> 25957.053 | G16: 5479.4118 | H16: 1091.1765 | I16: 311.76471 | J16: 196.07843 | K16: 24.509804 | L16: 17240.012 | M16: 4272.0588 | N16: =SUM(G16:M16) -> 28615.012 | O16: =C16+D16+E16+G16+H16+I16+J16+K16+L16+M16 -> 54572.064 | P16: 204 | Q16: 179900 | R16: =O16*P16+Q16 -> 11312601
A17: МБДОУ Лямбирского муниципального района "Александровский детский сад "Ягодка" | B17: Реализации основных общеобразовательных программ дошкольного образования (показатель объема -физические лица в возрасте от 1,5 до 7 лет) | C17: 26290.765 | D17: 476.25 | E17: 128.75 | F17: =C17+D17+E17 -> 26895.765 | G17: 2062.5 | H17: 1158.75 | I17: 371.25 | J17: 312.5 | K17: 0 | L17: 19510.47 | M17: 4398.75 | N17: =SUM(G17:M17) -> 27814.22 | O17: =C17+D17+E17+G17+H17+I17+J17+K17+L17+M17 -> 54709.985 | P17: 80 | Q17: 170000 | R17: =O17*P17+Q17 -> 4546798.8
A18: МБДОУ Лямбирского муниципального района "Большеелховский детский сад №1 комбинированного вида" | B18: Реализации основных общеобразовательных программ дошкольного образования (показатель объема -физические лица в возрасте от 1,5 до 7 лет) | C18: 29047.088 | D18: 490.72581 | E18: 179.43548 | F18: =C18+D18+E18 -> 29717.249 | G18: 5489.9194 | H18: 925 | I18: 337.90323 | J18: 141.12903 | K18: 24.193548 | L18: 17117.1 | M18: 4386.6935 | N18: =SUM(G18:M18) -> 28421.939 | O18: =C18+D18+E18+G18+H18+I18+J18+K18+L18+M18 -> 58139.188 | P18: 248 | Q18: 256600 | R18: =O18*P18+Q18 -> 14675119
A19: МБДОУ Лямбирского муниципального района"Лямбирский детский сад № 2 "Родничок"" | B19: Реализации основных общеобразовательных программ дошкольного образования (показатель объема -физические лица в возрасте от 1,5 до 7 лет) | C19: 36066.168 | D19: 616.10169 | E19: 182.20339 | F19: =C19+D19+E19 -> 36864.473 | G19: 8459.322 | H19: 1968.6441 | I19: 410.16949 | J19: 169.49153 | K19: 33.898305 | L19: 18285.376 | M19: 4327.9661 | N19: =SUM(G19:M19) -> 33654.868 | O19: =C19+D19+E19+G19+H19+I19+J19+K19+L19+M19 -> 70519.341 | P19: 118 | Q19: 193800 | R19: =O19*P19+Q19 -> 8515082.2
A20: МБДОУ Лямбирского муниципального района"Лямбирский детский сад № 3 комбинированного вида "Сказка" | B20: Реализации основных общеобразовательных программ дошкольного образования (показатель объема -физические лица в возрасте от 1,5 до 7 лет) | C20: 30590.245 | D20: 413.11475 | E20: 158.03279 | F20: =C20+D20+E20 -> 31161.393 | G20: 6569.8361 | H20: 1049.5082 | I20: 354.7541 | J20: 98.360656 | K20: 22.95082 | L20: 16028.687 | M20: 4398.0328 | N20: =SUM(G20:M20) -> 28522.13 | O20: =C20+D20+E20+G20+H20+I20+J20+K20+L20+M20 -> 59683.522 | P20: 305 | Q20: 503100 | R20: =O20*P20+Q20 -> 18706574
A21: МБДОУ Лямбирского муниципального района"Коммунарский детский сад "Солнышко" | B21: Реализации основных общеобразовательных программ дошкольного образования (показатель объема -физические лица в возрасте от 1,5 до 7 лет) | C21: 32476.148 | D21: 480 | E21: 201.66667 | F21: =C21+D21+E21 -> 33157.815 | G21: 17125 | H21: 461.66667 | I21: 498.33333 | J21: 250 | K21: 0 | L21: 25848.324 | M21: 4410 | N21: =SUM(G21:M21) -> 48593.324 | O21: =C21+D21+E21+G21+H21+I21+J21+K21+L21+M21 -> 81751.139 | P21: 60 | Q21: 1066900 | R21: =O21*P21+Q21 -> 5971968.3
A22: Общеобразовательные учреждения Лямбирского муниципального района | C22: 52150.845 | D22: 5767.5185 | E22: 38.518519 | F22: =C22+D22+E22 -> 57956.882 | G22: 7148.8148 | H22: 1148.7037 | I22: 312.55556 | J22: 190.66667 | K22: 31.481481 | L22: 15315.571 | M22: 2895.5296 | N22: =SUM(G22:M22) -> 27043.323 | O22: =C22+D22+E22+G22+H22+I22+J22+K22+L22+M22 -> 85000.204 | P22: =SUM(P23:P39) -> 2700 | Q22: 8348900 | R22: =SUM(R23:R39) -> 2.3784945e+08
A23: МОУ "Аксеновская средняя общеобразовательная школа" Лямбирского муниципального района РМ | B23: Реализация основных общеобразовательных программ начального общего, основного, среднего общего образования (показатель объема -физические лица в возрасте от 6 до 18 лет) | C23: 102908.36 | D23: 6332.0755 | E23: 188.67925 | F23: =C23+D23+E23 -> 109429.12 | G23: 7784.9057 | H23: 4018.8679 | I23: 618.86792 | J23: 326.41509 | K23: 94.339623 | L23: 40678.902 | M23: 1707.7673 | N23: =SUM(G23:M23) -> 55230.065 | O23: =C23+D23+E23+G23+H23+I23+J23+K23+L23+M23 -> 164659.18 | P23: 53 | Q23: 260400 | R23: =O23*P23+Q23 -> 8987336.6
A24: МОУ "Александровская средняя общеобразовательная школа" Лямбирского муниципального района РМ | B24: Реализация основных общеобразовательных программ начального общего, основного, среднего общего образования (показатель объема -физические лица в возрасте от 6 до 18 лет) | C24: 52033.779 | D24: 5858.3333 | E24: 41.666667 | F24: =C24+D24+E24 -> 57933.779 | G24: 16153.333 | H24: 661.66667 | I24: 391.66667 | J24: 147.5 | K24: 41.666667 | L24: 13362.86 | M24: 1767.4746 | N24: =SUM(G24:M24) -> 32526.168 | O24: =C24+D24+E24+G24+H24+I24+J24+K24+L24+M24 -> 90459.947 | P24: 120 | Q24: 552900 | R24: =O24*P24+Q24 -> 11408094
A25: МОУ "Атемарская средняя общеобразовательная школа" Лямбирского муниципального района РМ | B25: Реализация основных общеобразовательных программ начального общего, основного, среднего общего образования (показатель объема -физические лица в возрасте от 6 до 18 лет) | C25: 43067.64 | D25: 5619.1398 | E25: 21.505376 | F25: =C25+D25+E25 -> 48708.285 | G25: 6133.5484 | H25: 689.46237 | I25: 248.17204 | J25: 151.1828 | K25: 10.752688 | L25: 12331.2 | M25: 2962.5729 | N25: =SUM(G25:M25) -> 22526.891 | O25: =C25+D25+E25+G25+H25+I25+J25+K25+L25+M25 -> 71235.176 | P25: 465 | Q25: 1812100 | R25: =O25*P25+Q25 -> 34936457
A26: МОУ "Берсеневская средняя общеобразовательная школа" Лямбирского муниципального района РМ | B26: Реализация основных общеобразовательных программ начального общего, основного, среднего общего образования (показатель объема -физические лица в возрасте от 6 до 18 лет) | C26: 36306.559 | D26: 5556.6502 | E26: 24.630542 | F26: =C26+D26+E26 -> 41887.839 | G26: 7655.665 | H26: 832.0197 | I26: 140.39409 | J26: 146.79803 | K26: 24.630542 | L26: 15561.786 | M26: 2113.4246 | N26: =SUM(G26:M26) -> 26474.718 | O26: =C26+D26+E26+G26+H26+I26+J26+K26+L26+M26 -> 68362.558 | P26: 203 | Q26: 224200 | R26: =O26*P26+Q26 -> 14101799
A27: МКОУ "Болотниковская основная общеобразовательная школа" Лямбирского муниципального района РМ | B27: Реализация основных общеобразовательных программ начального общего, основного, среднего общего образования (показатель объема -физические лица в возрасте от 6 до 18 лет) | C27: 98376.115 | D27: 5642.3077 | E27: 76.923077 | F27: =C27+D27+E27 -> 104095.35 | G27: 7434.6154 | H27: 7184.6154 | I27: 1242.3077 | J27: 384.61538 | K27: 192.30769 | L27: 52500.646 | M27: 5190.4438 | N27: =SUM(G27:M27) -> 74129.551 | O27: =C27+D27+E27+G27+H27+I27+J27+K27+L27+M27 -> 178224.9 | P27: 26 | Q27: 54400 | R27: =O27*P27+Q27 -> 4688247.3
A28: МОУ "Большеелховская средняя общеобразовательная школа" Лямбирского муниципального района РМ | B28: Реализация основных общеобразовательных программ начального общего, основного, среднего общего образования (показатель объема -физические лица в возрасте от 6 до 18 лет) | C28: 42078.47 | D28: 6565 | E28: 37.037037 | F28: =C28+D28+E28 -> 48680.507 | G28: 4464.8148 | H28: 391.11111 | I28: 84.259259 | J28: 158.51852 | K28: 9.2592593 | L28: 10947.891 | M28: 2246.142 | N28: =SUM(G28:M28) -> 18301.996 | O28: =C28+D28+E28+G28+H28+I28+J28+K28+L28+M28 -> 66982.503 | P28: 540 | Q28: 1817400 | R28: =O28*P28+Q28 -> 37987952
A29: МКОУ "Николаевская основная общеобразовательная школа" Лямбирского муниципального района РМ | B29: Реализация основных общеобразовательных программ начального общего, основного, среднего общего образования (показатель объема -физические лица в возрасте от 6 до 18 лет) | C29: 142821.26 | D29: 5268.75 | E29: 187.5 | F29: =C29+D29+E29 -> 148277.51 | G29: 101456.25 | H29: 10887.5 | I29: 1900 | J29: 625 | K29: 312.5 | L29: 77696.85 | M29: 4923.6198 | N29: =SUM(G29:M29) -> 197801.72 | O29: =C29+D29+E29+G29+H29+I29+J29+K29+L29+M29 -> 346079.23 | P29: 16 | Q29: 181400 | R29: =O29*P29+Q29 -> 5718667.7
A30: МОУ "Кривозерьевская средняя общеобразовательная школа" Лямбирского муниципального района РМ | B30: Реализация основных общеобразовательных программ начального общего, основного, среднего общего образования (показатель объема -физические лица в возрасте от 6 до 18 лет) | C30: 59061.689 | D30: 5732.4561 | E30: 26.315789 | F30: =C30+D30+E30 -> 64820.461 | G30: 6102.6316 | H30: 2491.2281 | I30: 483.33333 | J30: 196.49123 | K30: 43.859649 | L30: 16067.137 | M30: 3115.6874 | N30: =SUM(G30:M30) -> 28500.368 | O30: =C30+D30+E30+G30+H30+I30+J30+K30+L30+M30 -> 93320.83 | P30: 114 | Q30: 1560300 | R30: =O30*P30+Q30 -> 12198875
A31: МОУ "Лямбирская средняя общеобразовательная школа № 1 " Лямбирского муниципального района | B31: Реализация основных общеобразовательных программ начального общего, основного, среднего общего образования (показатель объема -физические лица в возрасте от 6 до 18 лет) | C31: 47062.8 | D31: 5057.1429 | E31: 34.562212 | F31: =C31+D31+E31 -> 52154.505 | G31: 3460.1382 | H31: 388.24885 | I31: 255.76037 | J31: 130.41475 | K31: 11.520737 | L31: 10897.2 | M31: 4467.605 | N31: =SUM(G31:M31) -> 19610.888 | O31: =C31+D31+E31+G31+H31+I31+J31+K31+L31+M31 -> 71765.393 | P31: 434 | Q31: 283600 | R31: =O31*P31+Q31 -> 31429781
A32: МОУ "Лямбирская средняя общеобразовательная школа №2" Лямбирского муниципального района | B32: Реализация основных общеобразовательных программ начального общего, основного, среднего общего образования (показатель объема -физические лица в возрасте от 6 до 18 лет) | C32: 44659.802 | D32: 5529.1429 | E32: 34.285714 | F32: =C32+D32+E32 -> 50223.231 | G32: 5070.5714 | H32: 552.28571 | I32: 236.57143 | J32: 151.42857 | K32: 14.285714 | L32: 9404.16 | M32: 2470.5208 | N32: =SUM(G32:M32) -> 17899.824 | O32: =C32+D32+E32+G32+H32+I32+J32+K32+L32+M32 -> 68123.055 | P32: 350 | Q32: 649900 | R32: =O32*P32+Q32 -> 24492969
A33: МОУ "Черемишевская основная общеобразовательная школа" Лямбирского муниципального района РМ | B33: Реализация основных общеобразовательных программ начального общего, основного, среднего общего образования (показатель объема -физические лица в возрасте от 6 до 18 лет) | C33: 105188.58 | D33: 6092.5 | E33: 75 | F33: =C33+D33+E33 -> 111356.08 | G33: 11595 | H33: 3612.5 | I33: 982.5 | J33: 375 | K33: 125 | L33: 34620.18 | M33: 3294.6474 | N33: =SUM(G33:M33) -> 54604.827 | O33: =C33+D33+E33+G33+H33+I33+J33+K33+L33+M33 -> 165960.91 | P33: 40 | Q33: 190900 | R33: =O33*P33+Q33 -> 6829336.3
A34: МОУ "Пензятская средняя общеобразовательная школа " Лямбирского муниципального района | B34: Реализация основных общеобразовательных программ начального общего, основного, среднего общего образования (показатель объема -физические лица в возрасте от 6 до 18 лет) | C34: 59677.295 | D34: 5812.5 | E34: 48.076923 | F34: =C34+D34+E34 -> 65537.872 | G34: 8119.2308 | H34: 1921.1538 | I34: 502.88462 | J34: 267.30769 | K34: 48.076923 | L34: 19940.631 | M34: 4200.2657 | N34: =SUM(G34:M34) -> 34999.55 | O34: =C34+D34+E34+G34+H34+I34+J34+K34+L34+M34 -> 100537.42 | P34: 104 | Q34: 251900 | R34: =O34*P34+Q34 -> 10707792
... A39: МОУ "Т атарско-Тавленская основная общеобразовательная школа" Лямбирского муниципального района РМ | B39: Реализация основных общеобразовательных программ начального общего, основного, среднего общего образования (показатель объема -физические лица в возрасте от 6 до 18 лет) | C39: 106073.94 | D39: 5917.5 | E39: 50 | F39: =C39+D39+E39 -> 112041.44 | G39: 5400 | H39: 3325 | I39: 885 | J39: 500 | K39: 125 | L39: 36029.595 | M39: 2013.3438 | N39: =SUM(G39:M39) -> 48277.939 | O39: =C39+D39+E39+G39+H39+I39+J39+K39+L39+M39 -> 160319.38 | P39: 40 | Q39: 110600 | R39: =O39*P39+Q39 -> 6523375.2
A40: Внешкольные учреждения Лямбирского муниципального района | C40: 1615.5907 | D40: 0 | E40: 4.1580042 | F40: =C40+D40+E40 -> 1619.7487 | G40: 185.44699 | H40: 44.740125 | I40: 1.039501 | J40: 12.474012 | K40: 0 | L40: 3504.2908 | M40: 14.012474 | N40: =SUM(G40:M40) -> 3762.0039 | O40: =C40+D40+E40+G40+H40+I40+J40+K40+L40+M40 -> 5381.7526 | P40: =SUM(P41:P42) -> 2405 | Q40: 885600 | R40: =SUM(R41:R42) -> 13828715
A41: Муниципальное учреждение дополнительного образования "Лямбирский районный дом детского творчества" | B41: Услуга по реализации дополнительных общеобразовательных программ (физические лица) | C41: 400.20818 | D41: 0 | E41: 2.8555111 | F41: =C41+D41+E41 -> 403.06369 | G41: 0 | H41: 7.9954312 | I41: 0 | J41: 8.5665334 | K41: 0 | L41: 2187.2556 | M41: 1.8846374 | N41: =SUM(G41:M41) -> 2205.7022 | O41: =C41+D41+E41+G41+H41+I41+J41+K41+L41+M41 -> 2608.7659 | P41: 1751 | Q41: 4300 | R41: =O41*P41+Q41 -> 4572249.1
A42: МУДО "Лямбирская детско-юношеская спортивная школа" | B42: Реализация дополнительных общеобразовательных программ (показатель объема - физические лица) | C42: 4869.6193 | E42: 7.6452599 | F42: =C42+D42+E42 -> 4877.2645 | G42: 681.95719 | H42: 143.11927 | I42: 3.82263 | J42: 22.93578 | L42: 7030.4815 | M42: 46.48318 | N42: =SUM(G42:M42) -> 7928.7995 | O42: =C42+D42+E42+G42+H42+I42+J42+K42+L42+M42 -> 12806.064 | P42: 654 | Q42: 881300 | R42: =O42*P42+Q42 -> 9256465.9
A43: МБУ Лямбирского муниципального района РМ «Многофункциональный центр предоставления государственных и муниципальных услуг Лямбирского муниципального района» | B43: Организация предоставления государственных и муниципальных услуг в многофункциональном центре (показатель объема - физические, юридические лица) | C43: 643.91 | D43: 2.17 | F43: =C43+D43+E43 -> 646.08 | G43: 0.03 | H43: 18.8 | I43: 9.8 | J43: 18.9 | L43: 126.6 | M43: 2.1 | N43: =SUM(G43:M43) -> 176.23 | O43: =C43+D43+E43+G43+H43+I43+J43+K43+L43+M43 -> 822.31 | P43: =#REF! -> #REF! | Q43: =#REF! -> #REF! | R43: =O43*P43+Q43 -> #REF!
A44: МУ ДОД "Александровская ДШИ" | B44: Реализация дополнительных общеобразовательных предпрофессиональных программ (показатель объема - физические лица) | C44: 201.5596 | D44: 1.9529151 | E44: 0.72706141 | F44: 204.23958 | H44: 0.023368251 | I44: 1.4745332 | K44: 0.72706141 | L44: 147.0875 | M44: 1.0819636 | N44: 150.39443 | O44: 354.634 | P44: 4964 | Q44: 0 | R44: 1760403.2
A45: МБУ ДО "Атемарская ДШИ" | B45: Реализация дополнительных общеобразовательных предпрофессиональных программ (показатель объема - физические лица) | C45: 178.34971 | D45: 1.6869986 | E45: 0.6336949 | F45: 180.6704 | G45: 3.4369871 | H45: 0.024411765 | I45: 1.2759532 | J45: 0.6336949 | K45: 0.6336949 | L45: 121.22215 | M45: 0.70588235 | N45: 127.93278 | O45: 308.60318 | P45: 13600 | Q45: 0 | R45: 4197003.2
A46: МБУ ДО "Большеелховская ДШИ" | B46: Реализация дополнительных общеобразовательных предпрофессиональных программ (показатель объема - физические лица) | C46: 176.46241 | D46: 1.5689651 | E46: 0.58935746 | F46: 178.62073 | G46: 9.8766237 | H46: 0.018243386 | I46: 1.1866792 | J46: 0.58935746 | K46: 0.58935746 | L46: 102.14945 | M46: 0.26984127 | N46: 114.67955 | O46: 293.30028 | P46: 18900 | Q46: 167.112 | R46: 5543542.4
A47: МБУ ДО "Лямбирская ДШИ" | B47: Реализация дополнительных общеобразовательных предпрофессиональных программ (показатель объема - физические лица) | C47: 196.08828 | D47: 1.8741847 | E47: 0.70400848 | F47: 198.66647 | G47: 18.943543 | H47: 1.6402458 | I47: 1.4175306 | J47: 0.73634552 | K47: 0.70400848 | L47: 136.7235 | M47: 0.34184876 | N47: 160.50702 | O47: 359.1735 | P47: 21647 | Q47: 542610.21 | R47: 8317638.9
A50: КУЛЬТУРА | C50: =SUM(C51:C52) -> 5078.0508 | D50: =SUM(D51:D52) -> 217.7107 | E50: =SUM(E51:E52) -> 190.16358 | F50: =C50+D50+E50 -> 5485.925 | G50: =SUM(G51:G52) -> 193.5785 | H50: =SUM(H51:H52) -> 90.426791 | I50: =SUM(I51:I52) -> 219.38155 | J50: =SUM(J51:J52) -> 125.13886 | K50: =SUM(K51:K52) -> 29.501806 | L50: =SUM(L51:L52) -> 2928.7122 | M50: =SUM(M51:M52) -> 679.408 | N50: =SUM(G50:M50) -> 4266.1477 | O50: =C50+D50+E50+G50+H50+I50+J50+K50+L50+M50 -> 9752.0728 | P50: =SUM(P51:P63) -> 34392 | Q50: 8348900 | R50: =SUM(R51:R63) -> 13032251
A51: МАУ "Культурно-спортивный центр "Алмаз" | B51: Работа по организации деятельности клубных формирований и самодеятельного народного творчества | C51: 4953.293 | D51: 216.43614 | E51: 184.78208 | F51: 5354.5112 | G51: 193.5785 | H51: 90.426791 | I51: 216.8589 | J51: 123.03427 | K51: 29.018843 | L51: 2880.8712 | M51: 674.65068 | N51: 4208.4392 | O51: 9562.9504 | P51: 642 | Q51: 509831.81 | R51: 6649246
...

Sheet КК Т и О
C1: Приложение 2
C2: к постановлению Администрации
C3: Лямбирского муниципального района
C4: от "31" декабря 2015г. №1748
A10: Значения территориальных и отраслевых корректирующих коэффициентов к базовым нормативам затрат
D11: на 2016 гд
A14: на оказание муниципальных услуг муниципальными бюджетными учреждениями Лямбирского муниципального района на 2016 год
A15: Наименование учреждений | B15: Наименование муниципальной услуги | C15: Условие, отражающее специфику оказания услуги | D15: Наименование субъекта РФ, на территории которого оказывается услуга | E15: Базовый норматив затрат на оказание муниципальной услуги, руб. | F15: Территориальный корректирующий коэффициент | G15: Отраслевой корректирующий коэффициент | H15: Нормативные затраты на оказание i-ой услуги, руб.
A16: 1 | B16: 2 | C16: 3 | D16: 4 | E16: 4 | F16: 5 | G16: 6 | H16: 7=4*5*6
A17: МБДОУ Лямбирского муниципального района"Атемарский детский сад №1 "Теремок" | B17: Реализации основных общеобразовательных программ дошкольного образования (показатель объема -физические лица в возрасте от 1,5 до 7 лет) | C17: очная | D17: Республика Мордовия, Лямбирский муниципальный район | E17: ='ИТОГО БНЗ'!O15 -> 60451.077 | F17: ='ИТОГО БНЗ'!$O16/'ИТОГО БНЗ'!O15 -> 0.90274759 | G17: 1 | H17: =E17*F17*G17 -> 54572.064
A18: МБДОУ Лямбирского муниципального района "Александровский детский сад "Ягодка" | B18: Реализации основных общеобразовательных программ дошкольного образования (показатель объема -физические лица в возрасте от 1,5 до 7 лет) | C18: очная | D18: Республика Мордовия, Лямбирский муниципальный район | E18: =E17 -> 60451.077 | F18: ='ИТОГО БНЗ'!O17/'ИТОГО БНЗ'!O15 -> 0.90502911 | G18: 1 | H18: =E18*F18*G18 -> 54709.985
A19: МБДОУ Лямбирского муниципального района "Большеелховский детский сад №1 комбинированного вида" | B19: Реализации основных общеобразовательных программ дошкольного образования (показатель объема -физические лица в возрасте от 1,5 до 7 лет) | C19: очная | D19: Республика Мордовия, Лямбирский муниципальный район | E19: =E17 -> 60451.077 | F19: ='ИТОГО БНЗ'!O18/'ИТОГО БНЗ'!O15 -> 0.96175603 | G19: 1 | H19: =E19*F19*G19 -> 58139.188
A20: МБДОУ Лямбирского муниципального района"Лямбирский детский сад № 2 "Родничок"" | B20: Реализации основных общеобразовательных программ дошкольного образования (показатель объема -физические лица в возрасте от 1,5 до 7 лет) | C20: очная | D20: Республика Мордовия, Лямбирский муниципальный район | E20: =E17 -> 60451.077 | F20: ='ИТОГО БНЗ'!O19/'ИТОГО БНЗ'!O15 -> 1.1665523 | G20: 1 | H20: =E20*F20*G20 -> 70519.341
A21: МБДОУ Лямбирского муниципального района"Лямбирский детский сад № 3 комбинированного вида "Сказка" | B21: Реализации основных общеобразовательных программ дошкольного образования (показатель объема -физические лица в возрасте от 1,5 до 7 лет) | C21: очная | D21: Республика Мордовия, Лямбирский муниципальный район | E21: =E17 -> 60451.077 | F21: ='ИТОГО БНЗ'!O20/'ИТОГО БНЗ'!O15 -> 0.98730287 | G21: 1 | H21: =E21*F21*G21 -> 59683.522
A22: МБДОУ Лямбирского муниципального района"Коммунарский детский сад "Солнышко" | B22: Реализации основных общеобразовательных программ дошкольного образования (показатель объема -физические лица в возрасте от 1,5 до 7 лет) | C22: очная | D22: Республика Мордовия, Лямбирский муниципальный район | E22: =E17 -> 60451.077 | F22: ='ИТОГО БНЗ'!O21/'ИТОГО БНЗ'!O15 -> 1.3523521 | G22: 1 | H22: =E22*F22*G22 -> 81751.139
A23: МОУ "Аксеновская средняя общеобразовательная школа" Лямбирского муниципального района РМ | B23: Реализация основных общеобразовательных программ начального общего, основного, среднего общего образования (показатель объема -физические лица в возрасте от 6 до 18 лет) | C23: очная | D23: Республика Мордовия, Лямбирский муниципальный район | E23: ='ИТОГО БНЗ'!O22 -> 85000.204 | F23: ='ИТОГО БНЗ'!O23/'ИТОГО БНЗ'!$O$22 -> 1.9371622 | G23: 1 | H23: =E23*F23*G23 -> 164659.18
A24: МОУ "Александровская средняя общеобразовательная школа" Лямбирского муниципального района РМ | B24: Реализация основных общеобразовательных программ начального общего, основного, среднего общего образования (показатель объема -физические лица в возрасте от 6 до 18 лет) | C24: очная | D24: Республика Мордовия, Лямбирский муниципальный район | E24: =E23 -> 85000.204 | F24: ='ИТОГО БНЗ'!O24/'ИТОГО БНЗ'!$O$22 -> 1.0642321 | G24: 1 | H24: =E24*F24*G24 -> 90459.947
A25: МОУ "Атемарская средняя общеобразовательная школа" Лямбирского муниципального района РМ | B25: Реализация основных общеобразовательных программ начального общего, основного, среднего общего образования (показатель объема -физические лица в возрасте от 6 до 18 лет) | C25: очная | D25: Республика Мордовия, Лямбирский муниципальный район | E25: =E23 -> 85000.204 | F25: ='ИТОГО БНЗ'!O25/'ИТОГО БНЗ'!$O$22 -> 0.83805888 | G25: 1 | H25: =E25*F25*G25 -> 71235.176
A26: МОУ "Берсеневская средняя общеобразовательная школа" Лямбирского муниципального района РМ | B26: Реализация основных общеобразовательных программ начального общего, основного, среднего общего образования (показатель объема -физические лица в возрасте от 6 до 18 лет) | C26: очная | D26: Республика Мордовия, Лямбирский муниципальный район | E26: =E23 -> 85000.204 | F26: ='ИТОГО БНЗ'!O26/'ИТОГО БНЗ'!$O$22 -> 0.80426345 | G26: 1 | H26: =E26*F26*G26 -> 68362.558
A27: МКОУ "Болотниковская основная общеобразовательная школа" Лямбирского муниципального района РМ | B27: Реализация основных общеобразовательных программ начального общего, основного, среднего общего образования (показатель объема -физические лица в возрасте от 6 до 18 лет) | C27: очная | D27: Республика Мордовия, Лямбирский муниципальный район | E27: =E23 -> 85000.204 | F27: ='ИТОГО БНЗ'!O27/'ИТОГО БНЗ'!$O$22 -> 2.0967585 | G27: 1 | H27: =E27*F27*G27 -> 178224.9
A28: МОУ "Большеелховская средняя общеобразовательная школа" Лямбирского муниципального района РМ | B28: Реализация основных общеобразовательных программ начального общего, основного, среднего общего образования (показатель объема -физические лица в возрасте от 6 до 18 лет) | C28: очная | D28: Республика Мордовия, Лямбирский муниципальный район | E28: =E23 -> 85000.204 | F28: ='ИТОГО БНЗ'!O28/'ИТОГО БНЗ'!$O$22 -> 0.78802755 | G28: 1 | H28: =E28*F28*G28 -> 66982.503
A29: МКОУ "Николаевская основная общеобразовательная школа" Лямбирского муниципального района РМ | B29: Реализация основных общеобразовательных программ начального общего, основного, среднего общего образования (показатель объема -физические лица в возрасте от 6 до 18 лет) | C29: очная | D29: Республика Мордовия, Лямбирский муниципальный район | E29: =E23 -> 85000.204 | F29: ='ИТОГО БНЗ'!O29/'ИТОГО БНЗ'!$O$22 -> 4.0715106 | G29: 1 | H29: =E29*F29*G29 -> 346079.23
A30: МОУ "Кривозерьевская средняя общеобразовательная школа" Лямбирского муниципального района РМ | B30: Реализация основных общеобразовательных программ начального общего, основного, среднего общего образования (показатель объема -физические лица в возрасте от 6 до 18 лет) | C30: очная | D30: Республика Мордовия, Лямбирский муниципальный район | E30: =E23 -> 85000.204 | F30: ='ИТОГО БНЗ'!O30/'ИТОГО БНЗ'!$O$22 -> 1.0978895 | G30: 1 | H30: =E30*F30*G30 -> 93320.83
A31: МОУ "Лямбирская средняя общеобразовательная школа № 1 " Лямбирского муниципального района | B31: Реализация основных общеобразовательных программ начального общего, основного, среднего общего образования (показатель объема -физические лица в возрасте от 6 до 18 лет) | C31: очная | D31: Республика Мордовия, Лямбирский муниципальный район | E31: =E23 -> 85000.204 | F31: ='ИТОГО БНЗ'!O31/'ИТОГО БНЗ'!$O$22 -> 0.84429671 | G31: 1 | H31: =E31*F31*G31 -> 71765.393
A32: МОУ "Лямбирская средняя общеобразовательная школа №2" Лямбирского муниципального района | B32: Реализация основных общеобразовательных программ начального общего, основного, среднего общего образования (показатель объема -физические лица в возрасте от 6 до 18 лет) | C32: очная | D32: Республика Мордовия, Лямбирский муниципальный район | E32: =E23 -> 85000.204 | F32: ='ИТОГО БНЗ'!O32/'ИТОГО БНЗ'!$O$22 -> 0.80144577 | G32: 1 | H32: =E32*F32*G32 -> 68123.055
A33: МОУ "Черемишевская основная общеобразовательная школа" Лямбирского муниципального района РМ | B33: Реализация основных общеобразовательных программ начального общего, основного, среднего общего образования (показатель объема -физические лица в возрасте от 6 до 18 лет) | C33: очная | D33: Республика Мордовия, Лямбирский муниципальный район | E33: =E23 -> 85000.204 | F33: ='ИТОГО БНЗ'!O33/'ИТОГО БНЗ'!$O$22 -> 1.9524766 | G33: 1 | H33: =E33*F33*G33 -> 165960.91
A34: МОУ "Пензятская средняя общеобразовательная школа " Лямбирского муниципального района | B34: Реализация основных общеобразовательных программ начального общего, основного, среднего общего образования (показатель объема -физические лица в возрасте от 6 до 18 лет) | C34: очная | D34: Республика Мордовия, Лямбирский муниципальный район | E34: =E23 -> 85000.204 | F34: ='ИТОГО БНЗ'!O34/'ИТОГО БНЗ'!$O$22 -> 1.1827904 | G34: 1 | H34: =E34*F34*G34 -> 100537.42
A35: МОУ "Первомайская средняя общеобразовательная школа " Лямбирского муниципального района | B35: Реализация основных общеобразовательных программ начального общего, основного, среднего общего образования (показатель объема -физические лица в возрасте от 6 до 18 лет) | C35: очная | D35: Республика Мордовия, Лямбирский муниципальный район | E35: =E23 -> 85000.204 | F35: ='ИТОГО БНЗ'!O35/'ИТОГО БНЗ'!$O$22 -> 1.2850813 | G35: 1 | H35: =E35*F35*G35 -> 109232.17
A36: МОУ "Саловская средняя общеобразовательная школа " Лямбирского муниципального района | B36: Реализация основных общеобразовательных программ начального общего, основного, среднего общего образования (показатель объема -физические лица в возрасте от 6 до 18 лет) | C36: очная | D36: Республика Мордовия, Лямбирский муниципальный район | E36: =E23 -> 85000.204 | F36: ='ИТОГО БНЗ'!O36/'ИТОГО БНЗ'!$O$22 -> 1.3525833 | G36: 1 | H36: =E36*F36*G36 -> 114969.86
A37: МКОУ "Лопатинская основная общеобразовательная школа" Лямбирского муниципального района РМ | B37: Реализация основных общеобразовательных программ начального общего, основного, среднего общего образования (показатель объема -физические лица в возрасте от 6 до 18 лет) | C37: очная | D37: Республика Мордовия, Лямбирский муниципальный район | E37: =E23 -> 85000.204 | F37: ='ИТОГО БНЗ'!O37/'ИТОГО БНЗ'!$O$22 -> 2.2528277 | G37: 1 | H37: =E37*F37*G37 -> 191490.81
A38: МКОУ "Скрябинская основная общеобразовательная школа" Лямбирского муниципального района РМ | B38: Реализация основных общеобразовательных программ начального общего, основного, среднего общего образования (показатель объема -физические лица в возрасте от 6 до 18 лет) | C38: очная | D38: Республика Мордовия, Лямбирский муниципальный район | E38: =E23 -> 85000.204 | F38: ='ИТОГО БНЗ'!O38/'ИТОГО БНЗ'!$O$22 -> 3.3505109 | G38: 1 | H38: =E38*F38*G38 -> 284794.11
A39: МОУ "Татарско-Тавленская основная общеобразовательная школа" Лямбирского муниципального района РМ | B39: Реализация основных общеобразовательных программ начального общего, основного, среднего общего образования (показатель объема -физические лица в возрасте от 6 до 18 лет) | C39: очная | D39: Республика Мордовия, Лямбирский муниципальный район | E39: =E23 -> 85000.204 | F39: ='ИТОГО БНЗ'!O39/'ИТОГО БНЗ'!$O$22 -> 1.8861058 | G39: 1 | H39: =E39*F39*G39 -> 160319.38
A40: Муниципальное учреждение дополнительного образования детей "Лямбирский районный дом детского творчества" | B40: Услуга по реализации дополнительных общеобразовательных программ (физические лица) | C40: очная | D40: Республика Мордовия, Лямбирский муниципальный район | E40: ='ИТОГО БНЗ'!O40 -> 5381.7526 | F40: ='ИТОГО БНЗ'!O41/'ИТОГО БНЗ'!O40 -> 0.48474281 | G40: 1 | H40: =E40*F40*G40 -> 2608.7659
A41: МУДОД "Лямбирская детско-юношеская спортивная школа" | B41: Реализация дополнительных общеобразовательных программ (показатель объема - физические лица) | C41: очная | D41: Республика Мордовия, Лямбирский муниципальный район | E41: =E40 -> 5381.7526 | F41: ='ИТОГО БНЗ'!O42/'ИТОГО БНЗ'!O40 -> 2.3795341 | G41: 1 | H41: =E41*F41*G41 -> 12806.064
A42: МБУ Лямбирского муниципального района РМ «Многофункциональный центр предоставления государственных и муниципальных услуг Лямбирского муниципального района» | B42: Организация предоставления государственных и муниципальных услуг в многофункциональном центре (показатель объема - физические, юридические лица) | C42: Электронная | D42: Республика Мордовия, Лямбирский муниципальный район | E42: ='ИТОГО БНЗ'!O43 -> 822.31 | F42: 1 | G42: 1 | H42: =E42*F42*G42 -> 822.31
A43: МУДОД "Александровская ДШИ" | B43: Реализация дополнительных общеобразовательных предпрофессиональных программ (показатель объема - физические лица) | C43: очная | D43: Республика Мордовия, Лямбирский муниципальный район | E43: 1315.711 | F43: 0.26953793 | G43: 1 | H43: 354.634
A44: МБУ ДО "Атемарская ДШИ" | B44: Реализация дополнительных общеобразовательных предпрофессиональных программ (показатель объема - физические лица) | C44: очная | D44: Республика Мордовия, Лямбирский муниципальный район | E44: 1315.711 | F44: 0.23455241 | G44: 1 | H44: 308.60318
A45: МБУ ДО "Большеелховская ДШИ" | B45: Реализация дополнительных общеобразовательных предпрофессиональных программ (показатель объема - физические лица) | C45: очная | D45: Республика Мордовия, Лямбирский муниципальный район | E45: 1315.711 | F45: 0.22292151 | G45: 1 | H45: 293.30028
A46: МБУ ДО "Лямбирская ДШИ" | B46: Реализация дополнительных общеобразовательных предпрофессиональных программ (показатель объема - физические лица) | C46: очная | D46: Республика Мордовия, Лямбирский муниципальный район | E46: 1315.711 | F46: 0.27298815 | G46: 1 | H46: 359.1735
D47: Республика Мордовия, Лямбирский муниципальный район
...
